{"text_format":"1","workbook":"xlsx","n_sheets":14,"sheets":["Раздел 0","Раздел1","Раздел2","Раздел3","Раздел4","Раздел5","Раздел6","Раздел7","Раздел8","Раздел9","Раздел10","Раздел11","Раздел12","Раздел13"],"not_rendered":{"charts":0,"images":0,"macros":1,"external_links":1,"defined_names":496,"comments":0,"pivot_tables":0},"unopened":[],"bounds":{"document_bytes":16777216,"sheet_cells":100000,"rows_first":2000,"rows_last":500,"rows_between":2000,"halvings":0,"cell_chars":16384,"cell_head_chars":4096},"cells_cut":0,"cells_raw":0,"read":"whole","date_system":"1900"}

{"sheet":"Раздел 0","index":0,"n_rows":38,"n_cols":14,"rows_kept":38,"cut":false,"hidden":false,"merged":[[0,0,0,18],[1,0,38,0],[1,4,1,14],[1,18,38,18],[3,4,3,14],[5,3,5,15],[7,4,7,14],[9,5,9,13],[10,5,10,13],[12,1,12,9],[12,10,12,11],[12,13,12,16],[13,1,13,9],[13,10,13,11],[14,2,14,9],[14,10,14,11],[14,13,14,16],[20,2,20,9],[20,10,20,11],[15,2,15,9],[15,13,15,16],[16,2,16,9],[16,13,16,16],[17,2,17,9],[17,13,17,16],[18,2,18,9],[18,13,18,16],[19,2,19,9],[19,10,19,11],[19,13,19,16],[21,2,21,9],[22,1,22,9],[22,10,22,11],[22,13,22,16],[24,1,24,9],[24,10,24,11],[23,1,23,9],[23,10,23,11],[29,1,29,9],[29,10,29,11],[30,2,30,9],[30,10,30,11],[25,1,25,9],[25,10,25,11],[26,2,26,9],[27,2,27,9],[28,1,28,9],[28,10,28,11],[32,1,32,6],[32,7,32,17],[33,1,33,3],[33,4,33,17],[34,1,35,3],[34,4,34,17],[35,4,35,7],[35,8,35,11],[35,12,35,17],[39,0,39,18],[36,1,36,3],[36,4,36,7],[36,8,36,11],[36,12,36,17],[37,1,37,3],[37,4,37,7],[37,8,37,11],[37,12,37,17]]}
[]
[null,null,null,null,"СТАТИСТИЧЕСКОЕ НАБЛЮДЕНИЕ МИНИСТЕРСТВА СПОРТА РОССИЙСКОЙ ФЕДЕРАЦИИ"]
[]
[null,null,null,null,"КОНФИДЕНЦИАЛЬНОСТЬ ГАРАНТИРУЕТСЯ ПОЛУЧАТЕЛЕМ ИНФОРМАЦИИ"]
[]
[null,null,null,"Нарушение порядка представления статистической информации, а равно представление недостоверной статистической информации влечет ответственность, установленную статьей 13.19 Кодекса Российской Федерации об административных правонарушениях от 30.12.2001 г. № 195-ФЗ, а также статьей 3 Закона Российской Федерации от 13.05.1992 г. № 2761-1 “Об ответственности за нарушение порядка представления государственной статистической отчетности”\nпорядка представления государственной статистической отчетности”"]
[]
[null,null,null,null,"ВОЗМОЖНО ПРЕДОСТАВЛЕНИЕ В ЭЛЕКТРОННОМ ВИДЕ"]
[]
[null,null,null,null,null,"СВЕДЕНИЯ ПО ОРГАНИЗАЦИЯМ, ОСУЩЕСТВЛЯЮЩИМ СПОРТИВНУЮ ПОДГОТОВКУ"]
[null,null,null,null,null,"по состоянию на 31 декабря 2018 г."]
[]
[null,"Предоставляют:",null,null,null,null,null,null,null,null,"Сроки предоставления",null,null,"Форма № 5-ФК "]
[null,"юридические лица – организации, осуществляющие спортивную подготовку:",null,null,null,null,null,null,null,null,"10 января"]
[null,"-","органу местного самоуправления поселения, внутригородской территории города ",null,null,null,null,null,null,null,"после отчетного периода"]
[null,null,"федерального значения,",null,null,null,null,null,null,null,null,null,null,"Письмо Минспорта России"]
[null,"-","органу местного самоуправления городского округа, муниципального района в",null,null,null,null,null,null,null,null,null,null,"от 21.11.2018 № СК-02-10/8919"]
[null,null,"области физической культуры и спорта,"]
[null,"-","территориальному органу исполнительной власти города федерального значения в "]
[null,null,"области физической культуры и спорта,"]
[null,"-","иным органам местного самоуправления, в ведении которых находятся"]
[null,null,"организации, осуществляющие спортивную подготовку;"]
[null,"органы местного самоуправления поселений, внутригородских территорий городов  ",null,null,null,null,null,null,null,null,"15 января",null,null,"Годовая"]
[null,"федерального значения, городских округов, муниципальных районов в области",null,null,null,null,null,null,null,null,"после отчетного периода"]
[null,"физической культуры и спорта, территориальные органы исполнительной власти "]
[null,"городов федерального значения в области физической культуры и спорта:"]
[null,"-","органу исполнительной власти субъекта Российской Федерации в области "]
[null,null,"физической культуры и спорта,"]
[null,"органы исполнительной власти субъектов Российской Федерации в области ",null,null,null,null,null,null,null,null,"20 января"]
[null,"физической культуры и спорта:",null,null,null,null,null,null,null,null,"после отчетного периода"]
[null,"-","Министерству спорта Российской Федерации"]
[null,null," "]
[null,"Наименование отчитывающейся организации",null,null,null,null,null,"Муниципальное бюджетное учреждение дополнительного образовния \"Специализированная детско-юношеская спортивная школа олимпийского резерва \"Темп\""]
[null,"Почтовый адрес",null,null,"618416, Пермский край, г.Березники, ул.Ломоносова, 113"]
[null,"Код\nформы\nпо ОКУД",null,null,"Код"]
[null,null,null,null,"отчитывающейся организации\nпо ОКПО"]
[null,1,null,null,2,null,null,null,3,null,null,null,4]
[null,"0609403",null,null,"48406823"]

{"sheet":"Раздел1","index":1,"n_rows":21,"n_cols":12,"rows_kept":21,"cut":false,"hidden":false,"merged":[[19,6,19,8],[20,3,20,5],[20,6,20,8],[12,7,12,8],[16,5,16,6],[16,7,16,8],[17,5,17,6],[17,7,17,8],[18,3,18,8],[13,3,13,7],[14,4,14,5],[14,6,14,7],[15,4,15,5],[15,6,15,7],[13,8,14,8],[19,1,20,1],[19,2,20,2],[16,3,16,4],[17,3,17,4],[16,1,17,1],[16,2,17,2],[19,3,19,5],[0,12,8,12],[2,1,3,1],[2,3,3,3],[13,1,15,1],[13,2,15,2],[12,9,12,12],[0,0,8,0],[0,1,0,11],[1,8,1,11],[2,2,3,2],[2,4,2,11]]}
[null,"Раздел I. Число организаций"]
[null,null,null,null,null,null,null,null,"Код по ОКЕИ: единица – 642"]
[null,"Ведомственная \nпринадлежность","№ стро-ки","Число организаций – всего","в том числе по виду организации:"]
[null,null,null,null,"ДЮСШ ","СШ","СДЮСШОР","СШОР","УОР","ЦСП","ЦОП","Другие\nорганизации"]
[null,1,2,3,4,5,6,7,8,9,10,11]
[null,"Органы управления в сфере образования","01",{"$f":"SUM(E6:L6)","v":0},0,0,0,0,0,0,0,0]
[null,"Органы управления в сфере физической культуры и спорта","02",{"$f":"SUM(E7:L7)","v":1},null,null,1]
[null,"Другая ведомственная принадлежность","03",0,0,0,0,0,0,0,0,0]
[null,"ИТОГО","04",1,{"$f":"SUM(E6:E8)","v":0},{"$f":"SUM(F6:F8)","v":0},1,0,0,0,0,0]
[]
[]
[]
[null,null,null,null,null,null,null,"Код по ОКЕИ: единица – 642"]
[null,"Виды правовых образований","05","Публичные правовые образования",null,null,null,null,"Иные правовые образования (в том числе частные организации)"]
[null,null,null,"Российская Федерация","Субъект Российской Федерации",null,"Муниципальное образование"]
[null,null,null,null,null,null,1]
[null,"Переход на программу спортивной подготовки","06","Не перешли",null,"Частично перешли",null,"Полностью перешли"]
[null,null,null,null,null,1]
[null,"ОГРН","07","1025901702562"]
[null,"Признак того, является ли отчитывающаяся организация юридическим лицом","08","Да",null,null,"Нет"]
[null,null,null,1]

{"sheet":"Раздел2","index":2,"n_rows":254,"n_cols":27,"rows_kept":254,"cut":false,"hidden":false,"merged":[[2,5,2,23],[1,20,1,23],[2,3,4,4],[4,11,4,15],[0,0,208,0],[2,1,5,1],[2,2,5,2],[4,6,4,10],[0,1,0,20],[5,3,6,3],[5,4,6,4],[5,6,6,6],[5,7,6,7],[5,8,6,8],[3,20,4,23],[3,5,6,5],[3,6,3,19],[4,19,6,19],[5,20,5,21],[5,22,5,23],[5,9,6,9],[5,10,6,10],[5,11,6,11],[5,12,6,12],[5,13,6,13],[5,14,6,14],[5,15,6,15],[4,17,6,17],[4,18,6,18],[4,16,6,16]]}
[null,"Раздел II. Численность занимающихся"]
[null,null,null,null,null,null,null,null,null,null,null,null,null,null,null,null,null,null,null,null,"Коды по ОКЕИ: человек - 792, единица - 642"]
[null,"Виды спорта","№ строки","Число отделений по видам спорта",null,"Число занимающихся на 31 декабря отчетного года"]
[null,null,null,null,null,"всего","Занимающиеся на этапах спортивной подготовки",null,null,null,null,null,null,null,null,null,null,null,null,null,"Обучающиеся по дололнительным общеобразовательным программам в области физической культуры и спорта"]
[null,null,null,null,null,null,"по этапам спортивной подготовки",null,null,null,null,"по возрастам",null,null,null,null,"от 5 до 18 лет (из гр. 6-10)","женщин","спортсменов, спортсменов – инструкторов","в платных группах"]
[null,null,null,"всего","в том числе отделения ФСО и ОУ, имеющие право использовать в наименовании слово \"Олимпийский\"",null,"спортивно-оздорови-тельный","начальной подготовки","трениро-вочный","совершен-ствования спортивного мастерства","высшего спортивного мастерства","до 5 лет","от 6 до 15 лет","от 16 до 21 года","от 22 до 30 лет","старше 30 лет",null,null,null,null,"по общеразвивающим программам",null,"по предпрофессиональным программам"]
[null,null,null,null,null,null,null,null,null,null,null,null,null,null,null,null,null,null,null,null,"всего","в платных группах (из гр. 20)","всего","в платных группах (из гр. 22)"]
[null,1,2,3,4,5,6,7,8,9,10,11,12,13,14,15,16,17,18,19,20,21,22,23]
[null,"Авиамодельный спорт","01",null,null,{"$f":"SUM(G9:K9,U9,W9)*IF(D9>0,1,0)","v":0},null,null,null,null,null,null,null,null,null,null,null,null,null,null,null,null,null,null,{"$f":"Раздел3!F8","v":0},{"$f":"Раздел3!G8","v":0}]
[null,"Автомобильный спорт","02",null,null,{"$f":"SUM(G10:K10,U10,W10)*IF(D10>0,1,0)","v":0},null,null,null,null,null,null,null,null,null,null,null,null,null,null,null,null,null,null,{"$f":"Раздел3!F9","v":0},{"$f":"Раздел3!G9","v":0}]
[null,"Автомодельный спорт","03",null,null,0]
[null,"Айкидо","04",null,null,0,null,null,null,null,null,null,null,null,null,null,null,null,null,null,null,null,null,null,{"$f":"Раздел3!F10","v":0},{"$f":"Раздел3!G10","v":0}]
[null,"Айсшток","05",null,null,0]
[null,"Акробатический рок-н-ролл","06",null,null,0,null,null,null,null,null,null,null,null,null,null,null,null,null,null,null,null,null,null,{"$f":"Раздел3!F11","v":0},{"$f":"Раздел3!G11","v":0}]
[null,"Альпинизм","07",null,null,0,null,null,null,null,null,null,null,null,null,null,null,null,null,null,null,null,null,null,{"$f":"Раздел3!F12","v":0},{"$f":"Раздел3!G12","v":0}]
[null,"Американский футбол","08",null,null,0,null,null,null,null,null,null,null,null,null,null,null,null,null,null,null,null,null,null,{"$f":"Раздел3!F13","v":0},{"$f":"Раздел3!G13","v":0}]
[null,"Армейский рукопашный бой","09",null,null,0]
[null,"Армрестлинг","10",null,null,0,null,null,null,null,null,null,null,null,null,null,null,null,null,null,null,null,null,null,{"$f":"Раздел3!F14","v":0},{"$f":"Раздел3!G14","v":0}]
[null,"Бадминтон","11",null,null,0,null,null,null,null,null,null,null,null,null,null,null,null,null,null,null,null,null,null,{"$f":"Раздел3!F15","v":0},{"$f":"Раздел3!G15","v":0}]
[null,"Баскетбол - всего","12",{"$f":"IF(SUM(D21:D22)>=1,1,0)","v":1},{"$f":"IF(SUM(E21:E22)>=1,1,0)","v":0},248,{"$f":"SUM(G21:G22)","v":0},0,0,0,0,0,0,0,0,0,0,0,0,0,16,0,232,0,{"$f":"Раздел3!F16","v":0},{"$f":"Раздел3!G16","v":0}]
[null,"в том числе:\nБаскетбол (муж.)","13",1,null,162,null,null,null,null,null,null,null,null,null,null,null,null,null,null,16,null,146,null,{"$f":"Раздел3!F17","v":0},{"$f":"Раздел3!G17","v":0}]
[null,"Баскетбол (жен.)","14",1,null,86,null,null,null,null,null,null,null,null,null,null,null,{"$f":"SUM(G22:K22)","v":0},null,null,null,null,86,null,{"$f":"Раздел3!F18","v":0},{"$f":"Раздел3!G18","v":0}]
[null,"Бейсбол","15",null,null,0,null,null,null,null,null,null,null,null,null,null,null,null,null,null,null,null,null,null,{"$f":"Раздел3!F19","v":0},{"$f":"Раздел3!G19","v":0}]
[null,"Биатлон","16",null,null,0,null,null,null,null,null,null,null,null,null,null,null,null,null,null,null,null,null,null,{"$f":"Раздел3!F20","v":0},{"$f":"Раздел3!G20","v":0}]
[null,"Бильярдный спорт","17",null,null,0,null,null,null,null,null,null,null,null,null,null,null,null,null,null,null,null,null,null,{"$f":"Раздел3!F21","v":0},{"$f":"Раздел3!G21","v":0}]
[null,"Бобслей - всего","18",{"$f":"IF(SUM(D27:D28)>=1,1,0)","v":0},{"$f":"IF(SUM(E27:E28)>=1,1,0)","v":0},0,{"$f":"SUM(G27:G28)","v":0},0,0,0,0,0,0,0,0,0,0,0,0,0,0,0,0,0,{"$f":"Раздел3!F22","v":0},{"$f":"Раздел3!G22","v":0}]
[null,"в том числе:\nБобслей","19",null,null,0,null,null,null,null,null,null,null,null,null,null,null,null,null,null,null,null,null,null,{"$f":"Раздел3!F23","v":0},{"$f":"Раздел3!G23","v":0}]
[null,"Скелетон","20",null,null,0,null,null,null,null,null,null,null,null,null,null,null,null,null,null,null,null,null,null,{"$f":"Раздел3!F24","v":0},{"$f":"Раздел3!G24","v":0}]
[null,"Бодибилдинг","21",null,null,0,null,null,null,null,null,null,null,null,null,null,null,null,null,null,null,null,null,null,{"$f":"Раздел3!F25","v":0},{"$f":"Раздел3!G25","v":0}]
[null,"Бокс","22",null,null,0,null,null,null,null,null,null,null,null,null,null,null,null,null,null,null,null,null,null,{"$f":"Раздел3!F26","v":0},{"$f":"Раздел3!G26","v":0}]
[null,"Борьба на поясах","23",null,null,0,null,null,null,null,null,null,null,null,null,null,null,null,null,null,null,null,null,null,{"$f":"Раздел3!F27","v":0},{"$f":"Раздел3!G27","v":0}]
[null,"Боулинг","24",null,null,0,null,null,null,null,null,null,null,null,null,null,null,null,null,null,null,null,null,null,{"$f":"Раздел3!F28","v":0},{"$f":"Раздел3!G28","v":0}]
[null,"Велосипедный спорт - всего","25",{"$f":"IF(SUM(D34:D37)>=1,1,0)","v":0},{"$f":"IF(SUM(E34:E37)>=1,1,0)","v":0},0,{"$f":"SUM(G34:G37)","v":0},0,0,0,0,0,0,0,0,0,0,0,0,0,0,0,0,0,{"$f":"Раздел3!F29","v":0},{"$f":"Раздел3!G29","v":0}]
[null,"в том числе:\nBMX","26",null,null,0]
[null,"Маунтинбайк","27",null,null,0]
[null,"Трек","28",null,null,0]
[null,"Шоссе","29",null,null,0]
[null,"Вертолетный спорт","30",null,null,0,null,null,null,null,null,null,null,null,null,null,null,null,null,null,null,null,null,null,{"$f":"Раздел3!F30","v":0},{"$f":"Раздел3!G30","v":0}]
[null,"Водно-моторный спорт","31",null,null,0,null,null,null,null,null,null,null,null,null,null,null,null,null,null,null,null,null,null,{"$f":"Раздел3!F31","v":0},{"$f":"Раздел3!G31","v":0}]
[null,"Водно-спасательное многоборье","32",null,null,0,null,null,null,null,null,null,null,null,null,null,null,null,null,null,null,null,null,null,{"$f":"Раздел3!F32","v":0},{"$f":"Раздел3!G32","v":0}]
[null,"Водное поло - всего ","33",{"$f":"IF(SUM(D42:D43)>=1,1,0)","v":0},{"$f":"IF(SUM(E42:E43)>=1,1,0)","v":0},0,{"$f":"SUM(G42:G43)","v":0},0,0,0,0,0,0,0,0,0,0,0,0,0,0,0,0,0,{"$f":"Раздел3!F37","v":0},{"$f":"Раздел3!G37","v":0}]
[null,"в том числе:\nВодное поло (муж.)","34",null,null,0,null,null,null,null,null,null,null,null,null,null,null,null,null,null,null,null,null,null,{"$f":"Раздел3!F38","v":0},{"$f":"Раздел3!G38","v":0}]
[null,"Водное поло (жен.)","35",null,null,0,null,null,null,null,null,null,null,null,null,null,null,{"$f":"SUM(G43:K43)","v":0},null,null,null,null,null,null,{"$f":"Раздел3!F39","v":0},{"$f":"Раздел3!G39","v":0}]
[null,"Воднолыжный спорт","36",null,null,0,null,null,null,null,null,null,null,null,null,null,null,null,null,null,null,null,null,null,{"$f":"Раздел3!F40","v":0},{"$f":"Раздел3!G40","v":0}]
[null,"Военно-прикладной спорт","37",null,null,0,null,null,null,null,null,null,null,null,null,null,null,null,null,null,null,null,null,null,{"$f":"Раздел3!F41","v":0},{"$f":"Раздел3!G41","v":0}]
[null,"Военно-спортивное многоборье","38",null,null,0,null,null,null,null,null,null,null,null,null,null,null,null,null,null,null,null,null,null,{"$f":"Раздел3!F42","v":0},{"$f":"Раздел3!G42","v":0}]
[null,"Воздухоплавательный спорт","39",null,null,0]
[null,"Волейбол - всего","40",{"$f":"IF(SUM(D49:D52)>=1,1,0)","v":1},{"$f":"IF(SUM(E49:E52)>=1,1,0)","v":0},183,{"$f":"SUM(G49:G52)","v":0},0,0,0,0,0,0,0,0,0,0,0,0,0,59,0,124,0]
[null,"в том числе:\nВолейбол (муж.)","41",1,null,71,null,null,null,null,null,null,null,null,null,null,null,null,null,null,29,null,42,null,{"$f":"Раздел3!F43","v":0},{"$f":"Раздел3!G43","v":0}]
[null,"Волейбол (жен.)","42",1,null,112,null,null,null,null,null,null,null,null,null,null,null,{"$f":"SUM(G50:K50)","v":0},null,null,30,null,82,null,{"$f":"Раздел3!F44","v":0},{"$f":"Раздел3!G44","v":0}]
[null,"Пляжный волейбол (муж.)","43",null,null,0,null,null,null,null,null,null,null,null,null,null,null,null,null,null,null,null,null,null,{"$f":"Раздел3!F45","v":0},{"$f":"Раздел3!G45","v":0}]
[null,"Пляжный волейбол (жен.)","44",null,null,0,null,null,null,null,null,null,null,null,null,null,null,{"$f":"SUM(G52:K52)","v":0},null,null,null,null,null,null,{"$f":"Раздел3!F46","v":0},{"$f":"Раздел3!G46","v":0}]
[null,"Восточное боевое единоборство","45",null,null,0,null,null,null,null,null,null,null,null,null,null,null,null,null,null,null,null,null,null,{"$f":"Раздел3!F47","v":0},{"$f":"Раздел3!G47","v":0}]
[null,"Всестилевое каратэ","46",null,null,0,null,null,null,null,null,null,null,null,null,null,null,null,null,null,null,null,null,null,{"$f":"Раздел3!F48","v":0},{"$f":"Раздел3!G48","v":0}]
[null,"Гандбол - всего","47",{"$f":"IF(SUM(D56:D58)>=1,1,0)","v":0},{"$f":"IF(SUM(E56:E58)>=1,1,0)","v":0},0,{"$f":"SUM(G56:G58)","v":0},0,0,0,0,0,0,0,0,0,0,0,0,0,0,0,0,0,{"$f":"Раздел3!F49","v":0},{"$f":"Раздел3!G49","v":0}]
[null,"в том числе:\nГандбол (муж.)","48",null,null,0,null,null,null,null,null,null,null,null,null,null,null,null,null,null,null,null,null,null,{"$f":"Раздел3!F50","v":0},{"$f":"Раздел3!G50","v":0}]
[null,"Гандбол (жен.)","49",null,null,0,null,null,null,null,null,null,null,null,null,null,null,{"$f":"SUM(G57:K57)","v":0},null,null,null,null,null,null,{"$f":"Раздел3!F51","v":0},{"$f":"Раздел3!G51","v":0}]
[null,"Пляжный гандбол","50",null,null,0,null,null,null,null,null,null,null,null,null,null,null,null,null,null,null,null,null,null,{"$f":"Раздел3!F52","v":0},{"$f":"Раздел3!G52","v":0}]
[null,"Гиревой спорт","51",null,null,0,null,null,null,null,null,null,null,null,null,null,null,null,null,null,null,null,null,null,{"$f":"Раздел3!F53","v":0},{"$f":"Раздел3!G53","v":0}]
[null,"Го","52",null,null,0]
[null,"Гольф","53",null,null,0,null,null,null,null,null,null,null,null,null,null,null,null,null,null,null,null,null,null,{"$f":"Раздел3!F54","v":0},{"$f":"Раздел3!G54","v":0}]
[null,"Гонки на охотничьих лыжах","54",null,null,0,null,null,null,null,null,null,null,null,null,null,null,null,null,null,null,null,null,null,{"$f":"Раздел3!F55","v":0},{"$f":"Раздел3!G55","v":0}]
[null,"Горнолыжный спорт","55",null,null,0,null,null,null,null,null,null,null,null,null,null,null,null,null,null,null,null,null,null,{"$f":"Раздел3!F56","v":0},{"$f":"Раздел3!G56","v":0}]
[null,"Городошный спорт","56",null,null,0,null,null,null,null,null,null,null,null,null,null,null,null,null,null,null,null,null,null,{"$f":"Раздел3!F57","v":0},{"$f":"Раздел3!G57","v":0}]
[null,"Гребля на байдарках и каноэ","57",null,null,0,null,null,null,null,null,null,null,null,null,null,null,null,null,null,null,null,null,null,{"$f":"Раздел3!F58","v":0},{"$f":"Раздел3!G58","v":0}]
[null,"Гребля на шлюпках","58",null,null,0,null,null,null,null,null,null,null,null,null,null,null,null,null,null,null,null,null,null,{"$f":"Раздел3!F59","v":0},{"$f":"Раздел3!G59","v":0}]
[null,"Гребной слалом","59",null,null,0]
[null,"Гребной спорт - всего","60",{"$f":"IF(SUM(D69:D72)>=1,1,0)","v":0},{"$f":"IF(SUM(E69:E72)>=1,1,0)","v":0},0,{"$f":"SUM(G69:G72)","v":0},0,0,0,0,0,0,0,0,0,0,0,0,0,0,0,0,0,{"$f":"Раздел3!F60","v":0},{"$f":"Раздел3!G60","v":0}]
[null,"в том числе:\nАкадемическая гребля","61",null,null,0,null,null,null,null,null,null,null,null,null,null,null,null,null,null,null,null,null,null,{"$f":"Раздел3!F61","v":0},{"$f":"Раздел3!G61","v":0}]
[null,"Гребля-индор","62",null,null,0,null,null,null,null,null,null,null,null,null,null,null,null,null,null,null,null,null,null,{"$f":"Раздел3!F62","v":0},{"$f":"Раздел3!G62","v":0}]
[null,"Народная гребля","63",null,null,0,null,null,null,null,null,null,null,null,null,null,null,null,null,null,null,null,null,null,{"$f":"Раздел3!F63","v":0},{"$f":"Раздел3!G63","v":0}]
[null,"Прибрежная гребля","64",null,null,0,null,null,null,null,null,null,null,null,null,null,null,null,null,null,null,null,null,null,{"$f":"Раздел3!F64","v":0},{"$f":"Раздел3!G64","v":0}]
[null,"Гребно-парусное двоеборье","65",null,null,0,null,null,null,null,null,null,null,null,null,null,null,null,null,null,null,null,null,null,{"$f":"Раздел3!F65","v":0},{"$f":"Раздел3!G65","v":0}]
[null,"Дартс","66",null,null,{"$f":"SUM(G74:K74,U74,W74)*IF(D74>0,1,0)","v":0},null,null,null,null,null,null,null,null,null,null,null,null,null,null,null,null,null,null,{"$f":"Раздел3!F66","v":0},{"$f":"Раздел3!G66","v":0}]
[null,"Джиу-джитсу","67",null,null,0,null,null,null,null,null,null,null,null,null,null,null,null,null,null,null,null,null,null,{"$f":"Раздел3!F67","v":0},{"$f":"Раздел3!G67","v":0}]
[null,"Дзюдо","68",null,null,0,null,null,null,null,null,null,null,null,null,null,null,null,null,null,null,null,null,null,{"$f":"Раздел3!F68","v":0},{"$f":"Раздел3!G68","v":0}]
[null,"Ездовой спорт","69",null,null,0,null,null,null,null,null,null,null,null,null,null,null,null,null,null,null,null,null,null,{"$f":"Раздел3!F69","v":0},{"$f":"Раздел3!G69","v":0}]
[null,"Капоэйра","70",null,null,0,null,null,null,null,null,null,null,null,null,null,null,null,null,null,null,null,null,null,{"$f":"Раздел3!F70","v":0},{"$f":"Раздел3!G70","v":0}]
[null,"Каратэ","71",null,null,0,null,null,null,null,null,null,null,null,null,null,null,null,null,null,null,null,null,null,{"$f":"Раздел3!F71","v":0},{"$f":"Раздел3!G71","v":0}]
[null,"Кендо","72",null,null,0,null,null,null,null,null,null,null,null,null,null,null,null,null,null,null,null,null,null,{"$f":"Раздел3!F72","v":0},{"$f":"Раздел3!G72","v":0}]
[null,"Керешу","73",null,null,0,null,null,null,null,null,null,null,null,null,null,null,null,null,null,null,null,null,null,{"$f":"Раздел3!F73","v":0},{"$f":"Раздел3!G73","v":0}]
[null,"Кёрлинг - всего","74",{"$f":"IF(SUM(D83:D84)>=1,1,0)","v":0},{"$f":"IF(SUM(E83:E84)>=1,1,0)","v":0},0,{"$f":"SUM(G83:G84)","v":0},0,0,0,0,0,0,0,0,0,0,0,0,0,0,0,0,0,{"$f":"Раздел3!F74","v":0},{"$f":"Раздел3!G74","v":0}]
[null,"в том числе:\nКерлинг (муж.)","75",null,null,0,null,null,null,null,null,null,null,null,null,null,null,null,null,null,null,null,null,null,{"$f":"Раздел3!F75","v":0},{"$f":"Раздел3!G75","v":0}]
[null,"Керлинг (жен.)","76",null,null,0,null,null,null,null,null,null,null,null,null,null,null,{"$f":"SUM(G84:K84)","v":0},null,null,null,null,null,null,{"$f":"Раздел3!F76","v":0},{"$f":"Раздел3!G76","v":0}]
[null,"Кикбоксинг","77",null,null,0,null,null,null,null,null,null,null,null,null,null,null,null,null,null,null,null,null,null,{"$f":"Раздел3!F77","v":0},{"$f":"Раздел3!G77","v":0}]
[null,"Кинологический спорт","78",null,null,0,null,null,null,null,null,null,null,null,null,null,null,null,null,null,null,null,null,null,{"$f":"Раздел3!F78","v":0},{"$f":"Раздел3!G78","v":0}]
[null,"Киокусинкай","79",null,null,0,null,null,null,null,null,null,null,null,null,null,null,null,null,null,null,null,null,null,{"$f":"Раздел3!F79","v":0},{"$f":"Раздел3!G79","v":0}]
[null,"Комплексное единоборство","80",null,null,0,null,null,null,null,null,null,null,null,null,null,null,null,null,null,null,null,null,null,{"$f":"Раздел3!F80","v":0},{"$f":"Раздел3!G80","v":0}]
[null,"Компьютерный спорт","81",null,null,0,null,null,null,null,null,null,null,null,null,null,null,null,null,null,null,null,null,null,{"$f":"Раздел3!F81","v":0},{"$f":"Раздел3!G81","v":0}]
[null,"Конный спорт","82",null,null,0,null,null,null,null,null,null,null,null,null,null,null,null,null,null,null,null,null,null,{"$f":"Раздел3!F82","v":0},{"$f":"Раздел3!G82","v":0}]
[null,"Конькобежный спорт - всего","83",{"$f":"IF(SUM(D92:D93)>=1,1,0)","v":0},{"$f":"IF(SUM(E92:E93)>=1,1,0)","v":0},0,{"$f":"SUM(G92:G93)","v":0},0,0,0,0,0,0,0,0,0,0,0,0,0,0,0,0,0,{"$f":"Раздел3!F83","v":0},{"$f":"Раздел3!G83","v":0}]
[null,"в том числе:\nКонькобежный спорт","84",null,null,0,null,null,null,null,null,null,null,null,null,null,null,null,null,null,null,null,null,null,{"$f":"Раздел3!F84","v":0},{"$f":"Раздел3!G84","v":0}]
[null,"Шорт-трек","85",null,null,0,null,null,null,null,null,null,null,null,null,null,null,null,null,null,null,null,null,null,{"$f":"Раздел3!F85","v":0},{"$f":"Раздел3!G85","v":0}]
[null,"Корэш","86",null,null,0,null,null,null,null,null,null,null,null,null,null,null,null,null,null,null,null,null,null,{"$f":"Раздел3!F86","v":0},{"$f":"Раздел3!G86","v":0}]
[null,"Корфбол","87",null,null,0,null,null,null,null,null,null,null,null,null,null,null,null,null,null,null,null,null,null,{"$f":"Раздел3!F87","v":0},{"$f":"Раздел3!G87","v":0}]
[null,"Кудо","88",null,null,0,null,null,null,null,null,null,null,null,null,null,null,null,null,null,null,null,null,null,{"$f":"Раздел3!F88","v":0},{"$f":"Раздел3!G88","v":0}]
[null,"Лапта","89",null,null,0,null,null,null,null,null,null,null,null,null,null,null,null,null,null,null,null,null,null,{"$f":"Раздел3!F89","v":0},{"$f":"Раздел3!G89","v":0}]
[null,"Легкая атлетика - всего","90",{"$f":"IF(SUM(D99:D105)>=1,1,0)","v":1},{"$f":"IF(SUM(E99:E105)>=1,1,0)","v":1},577,{"$f":"SUM(G99:G105)","v":0},0,175,14,0,0,79,102,6,2,171,103,0,0,135,0,253,0,{"$f":"Раздел3!F90","v":0},{"$f":"Раздел3!G90","v":0}]
[null,"в том числе:\nСпринтерский и барьерный бег","91",null,null,0,null,null,null,null,null,null,null,null,null,null,null,null,null,null,null,null,null,null,{"$f":"Раздел3!F91","v":0},{"$f":"Раздел3!G91","v":0}]
[null,"Бег на средние дистанции и бег с препятствиями","92",null,null,0,null,null,null,null,null,null,null,null,null,null,null,null,null,null,null,null,null,null,{"$f":"Раздел3!F92","v":0},{"$f":"Раздел3!G92","v":0}]
[null,"Бег на длинные и сверхдлинные дистанции","93",null,null,0,null,null,null,null,null,null,null,null,null,null,null,null,null,null,null,null,null,null,{"$f":"Раздел3!F93","v":0},{"$f":"Раздел3!G93","v":0}]
[null,"Многоборья","94",1,1,577,null,null,175,14,null,null,79,102,6,2,171,103,null,null,135,null,253,null,{"$f":"Раздел3!F94","v":0},{"$f":"Раздел3!G94","v":0}]
[null,"Прыжки","95",null,null,0,null,null,null,null,null,null,null,null,null,null,null,null,null,null,null,null,null,null,{"$f":"Раздел3!F95","v":0},{"$f":"Раздел3!G95","v":0}]
[null,"Метания","96",null,null,0,null,null,null,null,null,null,null,null,null,null,null,null,null,null,null,null,null,null,{"$f":"Раздел3!F96","v":0},{"$f":"Раздел3!G96","v":0}]
[null,"Спортивная ходьба","97",null,null,0,null,null,null,null,null,null,null,null,null,null,null,null,null,null,null,null,null,null,{"$f":"Раздел3!F97","v":175},{"$f":"Раздел3!G97","v":14}]
[null,"Лыжное двоеборье","98",null,null,0,null,null,null,null,null,null,null,null,null,null,null,null,null,null,null,null,null,null,{"$f":"Раздел3!F98","v":0},{"$f":"Раздел3!G98","v":0}]
[null,"Лыжные гонки","99",null,null,0,null,null,null,null,null,null,null,null,null,null,null,null,null,null,null,null,null,null,{"$f":"Раздел3!F99","v":0},{"$f":"Раздел3!G99","v":0}]
[null,"Мас-рестлинг","100",null,null,0,null,null,null,null,null,null,null,null,null,null,null,null,null,null,null,null,null,null,{"$f":"Раздел3!F100","v":0},{"$f":"Раздел3!G100","v":0}]
[null,"Международное военно-спортивное многоборье","101",null,null,0,null,null,null,null,null,null,null,null,null,null,null,null,null,null,null,null,null,null,{"$f":"Раздел3!F101","v":175},{"$f":"Раздел3!G101","v":14}]
[null,"Многоборье кинологов","102",null,null,0,null,null,null,null,null,null,null,null,null,null,null,null,null,null,null,null,null,null,{"$f":"Раздел3!F102","v":0},{"$f":"Раздел3!G102","v":0}]
[null,"Многоборье спасателей МЧС России","103",null,null,0,null,null,null,null,null,null,null,null,null,null,null,null,null,null,null,null,null,null,{"$f":"Раздел3!F103","v":0},{"$f":"Раздел3!G103","v":0}]
[null,"Морское многоборье","104",null,null,0,null,null,null,null,null,null,null,null,null,null,null,null,null,null,null,null,null,null,{"$f":"Раздел3!F104","v":0},{"$f":"Раздел3!G104","v":0}]
[null,"Мотоциклетный спорт","105",null,null,0,null,null,null,null,null,null,null,null,null,null,null,null,null,null,null,null,null,null,{"$f":"Раздел3!F105","v":0},{"$f":"Раздел3!G105","v":0}]
[null,"Настольный теннис","106",null,null,0,null,null,null,null,null,null,null,null,null,null,null,null,null,null,null,null,null,null,{"$f":"Раздел3!F106","v":0},{"$f":"Раздел3!G106","v":0}]
[null,"Парашютный спорт","107",null,null,0,null,null,null,null,null,null,null,null,null,null,null,null,null,null,null,null,null,null,{"$f":"Раздел3!F107","v":0},{"$f":"Раздел3!G107","v":0}]
[null,"Парусный спорт","108",null,null,0,null,null,null,null,null,null,null,null,null,null,null,null,null,null,null,null,null,null,{"$f":"Раздел3!F108","v":0},{"$f":"Раздел3!G108","v":0}]
[null,"Пауэрлифтинг","109",null,null,0,null,null,null,null,null,null,null,null,null,null,null,null,null,null,null,null,null,null,{"$f":"Раздел3!F109","v":0},{"$f":"Раздел3!G109","v":0}]
[null,"Перетягивание каната","110",null,null,0,null,null,null,null,null,null,null,null,null,null,null,null,null,null,null,null,null,null,{"$f":"Раздел3!F110","v":0},{"$f":"Раздел3!G110","v":0}]
[null,"Петанк","111",null,null,0,null,null,null,null,null,null,null,null,null,null,null,null,null,null,null,null,null,null,{"$f":"Раздел3!F111","v":0},{"$f":"Раздел3!G111","v":0}]
[null,"Плавание - всего","112",{"$f":"IF(SUM(D121:D122)>=1,1,0)","v":0},{"$f":"IF(SUM(E121:E122)>=1,1,0)","v":0},0,{"$f":"SUM(G121:G122)","v":0},0,0,0,0,0,0,0,0,0,0,0,0,0,0,0,0,0,{"$f":"Раздел3!F112","v":0},{"$f":"Раздел3!G112","v":0}]
[null,"в том числе:\nПлавание ","113",null,null,0,null,null,null,null,null,null,null,null,null,null,null,null,null,null,null,null,null,null,{"$f":"Раздел3!F113","v":0},{"$f":"Раздел3!G113","v":0}]
[null,"Открытая вода","114",null,null,0,null,null,null,null,null,null,null,null,null,null,null,null,null,null,null,null,null,null,{"$f":"Раздел3!F114","v":0},{"$f":"Раздел3!G114","v":0}]
[null,"Планерный спорт","115",null,null,0,null,null,null,null,null,null,null,null,null,null,null,null,null,null,null,null,null,null,{"$f":"Раздел3!F115","v":0},{"$f":"Раздел3!G115","v":0}]
[null,"Подводный спорт","116",null,null,0,null,null,null,null,null,null,null,null,null,null,null,null,null,null,null,null,null,null,{"$f":"Раздел3!F116","v":0},{"$f":"Раздел3!G116","v":0}]
[null,"Пожарно-спасательный спорт","117",1,null,102,null,null,null,null,null,null,null,null,null,null,null,null,null,null,null,null,102,null,{"$f":"Раздел3!F117","v":0},{"$f":"Раздел3!G117","v":0}]
[null,"Полиатлон","118",null,null,0,null,null,null,null,null,null,null,null,null,null,null,null,null,null,null,null,null,null,{"$f":"Раздел3!F118","v":0},{"$f":"Раздел3!G118","v":0}]
[null,"Практическая стрельба","119",null,null,0,null,null,null,null,null,null,null,null,null,null,null,null,null,null,null,null,null,null,{"$f":"Раздел3!F119","v":0},{"$f":"Раздел3!G119","v":0}]
[null,"Прыжки в воду - всего","120",{"$f":"IF(SUM(D129:D130)>=1,1,0)","v":0},{"$f":"IF(SUM(E129:E130)>=1,1,0)","v":0},0,{"$f":"SUM(G129:G130)","v":0},0,0,0,0,0,0,0,0,0,0,0,0,0,0,0,0,0,{"$f":"Раздел3!F120","v":0},{"$f":"Раздел3!G120","v":0}]
[null,"в том числе:\nПрыжки в воду","121",null,null,0,null,null,null,null,null,null,null,null,null,null,null,null,null,null,null,null,null,null,{"$f":"Раздел3!F121","v":0},{"$f":"Раздел3!G121","v":0}]
[null,"Прыжки в открытый водоем","122",null,null,0,null,null,null,null,null,null,null,null,null,null,null,null,null,null,null,null,null,null,{"$f":"Раздел3!F122","v":0},{"$f":"Раздел3!G122","v":0}]
[null,"Прыжки на батуте - всего","123",{"$f":"IF(SUM(D132:D135)>=1,1,0)","v":0},{"$f":"IF(SUM(E132:E135)>=1,1,0)","v":0},0,{"$f":"SUM(G132:G135)","v":0},0,0,0,0,0,0,0,0,0,0,0,0,0,0,0,0,0,{"$f":"Раздел3!F123","v":0},{"$f":"Раздел3!G123","v":0}]
[null,"в том числе:\nАкробатическая дорожка","124",null,null,0,null,null,null,null,null,null,null,null,null,null,null,null,null,null,null,null,null,null,{"$f":"Раздел3!F124","v":0},{"$f":"Раздел3!G124","v":0}]
[null,"Двойной минитрамп","125",null,null,0,null,null,null,null,null,null,null,null,null,null,null,null,null,null,null,null,null,null,{"$f":"Раздел3!F125","v":0},{"$f":"Раздел3!G125","v":0}]
[null,"Индивидуальные прыжки","126",null,null,0,null,null,null,null,null,null,null,null,null,null,null,null,null,null,null,null,null,null,{"$f":"Раздел3!F126","v":0},{"$f":"Раздел3!G126","v":0}]
[null,"Синхронные прыжки","127",null,null,0,null,null,null,null,null,null,null,null,null,null,null,null,null,null,null,null,null,null,{"$f":"Раздел3!F127","v":0},{"$f":"Раздел3!G127","v":0}]
[null,"Прыжки на лыжах с трамплина","128",null,null,0,null,null,null,null,null,null,null,null,null,null,null,null,null,null,null,null,null,null,{"$f":"Раздел3!F128","v":0},{"$f":"Раздел3!G128","v":0}]
[null,"Пулевая стрельба - всего","129",{"$f":"IF(SUM(D138:D142)>=1,1,0)","v":0},{"$f":"IF(SUM(E138:E142)>=1,1,0)","v":0},0,{"$f":"SUM(G138:G142)","v":0},0,0,0,0,0,0,0,0,0,0,0,0,0,0,0,0,0,{"$f":"Раздел3!F129","v":0},{"$f":"Раздел3!G129","v":0}]
[null,"в том числе:\nПневматическая винтовка","130",null,null,{"$f":"SUM(G138:K138,U138,W138)*IF(D138>0,1,0)","v":0},null,null,null,null,null,null,null,null,null,null,null,null,null,null,null,null,null,null,{"$f":"Раздел3!F130","v":0},{"$f":"Раздел3!G130","v":0}]
[null,"Пневматический пистолет","131",null,null,0,null,null,null,null,null,null,null,null,null,null,null,null,null,null,null,null,null,null,{"$f":"Раздел3!F131","v":0},{"$f":"Раздел3!G131","v":0}]
[null,"Малокалиберная винтовка","132",null,null,0,null,null,null,null,null,null,null,null,null,null,null,null,null,null,null,null,null,null,{"$f":"Раздел3!F132","v":0},{"$f":"Раздел3!G132","v":0}]
[null,"Малокалиберный пистолет","133",null,null,0,null,null,null,null,null,null,null,null,null,null,null,null,null,null,null,null,null,null,{"$f":"Раздел3!F133","v":0},{"$f":"Раздел3!G133","v":0}]
[null,"Движущаяся мишень","134",null,null,0,null,null,null,null,null,null,null,null,null,null,null,null,null,null,null,null,null,null,{"$f":"Раздел3!F134","v":0},{"$f":"Раздел3!G134","v":0}]
[null,"Пэйнтбол","135",null,null,0,null,null,null,null,null,null,null,null,null,null,null,null,null,null,null,null,null,null,{"$f":"Раздел3!F135","v":0},{"$f":"Раздел3!G135","v":0}]
[null,"Радиоспорт","136",null,null,0,null,null,null,null,null,null,null,null,null,null,null,null,null,null,null,null,null,null,{"$f":"Раздел3!F136","v":0},{"$f":"Раздел3!G136","v":0}]
[null,"Рафтинг","137",null,null,0,null,null,null,null,null,null,null,null,null,null,null,null,null,null,null,null,null,null,{"$f":"Раздел3!F137","v":0},{"$f":"Раздел3!G137","v":0}]
[null,"Регби - всего","138",{"$f":"IF(SUM(D147:D150)>=1,1,0)","v":0},{"$f":"IF(SUM(E147:E150)>=1,1,0)","v":0},0,{"$f":"SUM(G147:G150)","v":0},0,0,0,0,0,0,0,0,0,0,0,0,0,0,0,0,0,{"$f":"Раздел3!F138","v":0},{"$f":"Раздел3!G138","v":0}]
[null,"в том числе:\nРегби","139",null,null,0,null,null,null,null,null,null,null,null,null,null,null,null,null,null,null,null,null,null,{"$f":"Раздел3!F139","v":0},{"$f":"Раздел3!G139","v":0}]
[null,"Регби 7 (муж.)","140",null,null,0,null,null,null,null,null,null,null,null,null,null,null,null,null,null,null,null,null,null,{"$f":"Раздел3!F140","v":0},{"$f":"Раздел3!G140","v":0}]
[null,"Регби 7 (жен.)","141",null,null,0,null,null,null,null,null,null,null,null,null,null,null,{"$f":"SUM(G149:K149)","v":0},null,null,null,null,null,null,{"$f":"Раздел3!F141","v":0},{"$f":"Раздел3!G141","v":0}]
[null,"Регби - пляжное","142",null,null,0,null,null,null,null,null,null,null,null,null,null,null,null,null,null,null,null,null,null,{"$f":"Раздел3!F142","v":0},{"$f":"Раздел3!G142","v":0}]
[null,"Регбол","143",null,null,0,null,null,null,null,null,null,null,null,null,null,null,null,null,null,null,null,null,null,{"$f":"Раздел3!F143","v":0},{"$f":"Раздел3!G143","v":0}]
[null,"Роллер спорт","144",null,null,0,null,null,null,null,null,null,null,null,null,null,null,null,null,null,null,null,null,null,{"$f":"Раздел3!F144","v":0},{"$f":"Раздел3!G144","v":0}]
[null,"Рукопашный бой","145",null,null,0,null,null,null,null,null,null,null,null,null,null,null,null,null,null,null,null,null,null,{"$f":"Раздел3!F145","v":0},{"$f":"Раздел3!G145","v":0}]
[null,"Рыболовный спорт","146",null,null,0,null,null,null,null,null,null,null,null,null,null,null,null,null,null,null,null,null,null,{"$f":"Раздел3!F146","v":0},{"$f":"Раздел3!G146","v":0}]
[null,"Сават","147",null,null,0,null,null,null,null,null,null,null,null,null,null,null,null,null,null,null,null,null,null,{"$f":"Раздел3!F147","v":0},{"$f":"Раздел3!G147","v":0}]
[null,"Самбо","148",null,null,0,null,null,null,null,null,null,null,null,null,null,null,null,null,null,null,null,null,null,{"$f":"Раздел3!F148","v":0},{"$f":"Раздел3!G148","v":0}]
[null,"Самолетный спорт","149",null,null,0,null,null,null,null,null,null,null,null,null,null,null,null,null,null,null,null,null,null,{"$f":"Раздел3!F149","v":0},{"$f":"Раздел3!G149","v":0}]
[null,"Санный спорт","150",null,null,0,null,null,null,null,null,null,null,null,null,null,null,null,null,null,null,null,null,null,{"$f":"Раздел3!F150","v":0},{"$f":"Раздел3!G150","v":0}]
[null,"Северное многоборье","151",null,null,0,null,null,null,null,null,null,null,null,null,null,null,null,null,null,null,null,null,null,{"$f":"Раздел3!F151","v":0},{"$f":"Раздел3!G151","v":0}]
[null,"Серфинг","152",null,null,0,null,null,null,null,null,null,null,null,null,null,null,null,null,null,null,null,null,null,{"$f":"Раздел3!F152","v":0},{"$f":"Раздел3!G152","v":0}]
[null,"Синхронное плавание","153",null,null,0,null,null,null,null,null,null,null,null,null,null,null,null,null,null,null,null,null,null,{"$f":"Раздел3!F153","v":0},{"$f":"Раздел3!G153","v":0}]
[null,"Скалолазание","154",null,null,0,null,null,null,null,null,null,null,null,null,null,null,null,null,null,null,null,null,null,{"$f":"Раздел3!F154","v":0},{"$f":"Раздел3!G154","v":0}]
[null,"Сквош","155",null,null,0,null,null,null,null,null,null,null,null,null,null,null,null,null,null,null,null,null,null,{"$f":"Раздел3!F155","v":0},{"$f":"Раздел3!G155","v":0}]
[null,"Скейтбординг","156",null,null,0,null,null,null,null,null,null,null,null,null,null,null,null,null,null,null,null,null,null,{"$f":"Раздел3!F156","v":0},{"$f":"Раздел3!G156","v":0}]
[null,"Служебно-прикладной спорт","157",null,null,0,null,null,null,null,null,null,null,null,null,null,null,null,null,null,null,null,null,null,{"$f":"Раздел3!F157","v":0},{"$f":"Раздел3!G157","v":0}]
[null,"Служебно-прикладной спорт ФСО России","158",null,null,0,null,null,null,null,null,null,null,null,null,null,null,null,null,null,null,null,null,null,{"$f":"Раздел3!F158","v":0},{"$f":"Раздел3!G158","v":0}]
[null,"Служебно-прикладной спорт ФТС России","159",null,null,0,null,null,null,null,null,null,null,null,null,null,null,null,null,null,null,null,null,null,{"$f":"Раздел3!F159","v":0},{"$f":"Раздел3!G159","v":0}]
[null,"Служебное двоеборье","160",null,null,0,null,null,null,null,null,null,null,null,null,null,null,null,null,null,null,null,null,null,{"$f":"Раздел3!F160","v":0},{"$f":"Раздел3!G160","v":0}]
[null,"Служебное единоборство","161",null,null,0,null,null,null,null,null,null,null,null,null,null,null,null,null,null,null,null,null,null,{"$f":"Раздел3!F161","v":0},{"$f":"Раздел3!G161","v":0}]
[null,"Служебное многоборье","162",null,null,0,null,null,null,null,null,null,null,null,null,null,null,null,null,null,null,null,null,null,{"$f":"Раздел3!F162","v":0},{"$f":"Раздел3!G162","v":0}]
[null,"Служебный биатлон","163",null,null,0,null,null,null,null,null,null,null,null,null,null,null,null,null,null,null,null,null,null,{"$f":"Раздел3!F163","v":0},{"$f":"Раздел3!G163","v":0}]
[null,"Спасательный спорт","164",null,null,0,null,null,null,null,null,null,null,null,null,null,null,null,null,null,null,null,null,null,{"$f":"Раздел3!F164","v":0},{"$f":"Раздел3!G164","v":0}]
[null,"Стрельба из боевого ручного стрелкового оружия","165",null,null,0,null,null,null,null,null,null,null,null,null,null,null,null,null,null,null,null,null,null,{"$f":"Раздел3!F165","v":0},{"$f":"Раздел3!G165","v":0}]
[null,"Стрельба из штатного или табельного оружия","166",null,null,0,null,null,null,null,null,null,null,null,null,null,null,null,null,null,null,null,null,null,{"$f":"Раздел3!F166","v":0},{"$f":"Раздел3!G166","v":0}]
[null,"Смешанное боевое единоборство (ММА)","167",null,null,0,null,null,null,null,null,null,null,null,null,null,null,null,null,null,null,null,null,null,{"$f":"Раздел3!F167","v":0},{"$f":"Раздел3!G167","v":0}]
[null,"Сноуборд","168",null,null,0,null,null,null,null,null,null,null,null,null,null,null,null,null,null,null,null,null,null,{"$f":"Раздел3!F168","v":0},{"$f":"Раздел3!G168","v":0}]
[null,"Современное пятиборье","169",null,null,0,null,null,null,null,null,null,null,null,null,null,null,null,null,null,null,null,null,null,{"$f":"Раздел3!F169","v":0},{"$f":"Раздел3!G169","v":0}]
[null,"Софтбол","170",null,null,0,null,null,null,null,null,null,null,null,null,null,null,null,null,null,null,null,null,null,{"$f":"Раздел3!F170","v":0},{"$f":"Раздел3!G170","v":0}]
[null,"Спорт сверхлегкой авиации","171",null,null,0,null,null,null,null,null,null,null,null,null,null,null,null,null,null,null,null,null,null,{"$f":"Раздел3!F171","v":0},{"$f":"Раздел3!G171","v":0}]
[null,"Спортивная акробатика","172",1,null,128,null,null,null,null,null,null,null,null,null,null,null,null,null,null,null,null,128,null,{"$f":"Раздел3!F172","v":0},{"$f":"Раздел3!G172","v":0}]
[null,"Спортивная аэробика","173",null,null,0,null,null,null,null,null,null,null,null,null,null,null,null,null,null,null,null,null,null,{"$f":"Раздел3!F173","v":0},{"$f":"Раздел3!G173","v":0}]
[null,"Спортивная борьба - всего","174",{"$f":"IF(SUM(D183:D187)>=1,1,0)","v":0},{"$f":"IF(SUM(E183:E187)>=1,1,0)","v":0},0,{"$f":"SUM(G183:G187)","v":0},0,0,0,0,0,0,0,0,0,0,0,0,0,0,0,0,0,{"$f":"Раздел3!F174","v":0},{"$f":"Раздел3!G174","v":0}]
[null,"в том числе:\nВольная борьба","175",null,null,0,null,null,null,null,null,null,null,null,null,null,null,null,null,null,null,null,null,null,{"$f":"Раздел3!F175","v":0},{"$f":"Раздел3!G175","v":0}]
[null,"Греко-римская борьба","176",null,null,0,null,null,null,null,null,null,null,null,null,null,null,null,null,null,null,null,null,null,{"$f":"Раздел3!F176","v":0},{"$f":"Раздел3!G176","v":0}]
[null,"Грэпплинг","177",null,null,0,null,null,null,null,null,null,null,null,null,null,null,null,null,null,null,null,null,null,{"$f":"Раздел3!F177","v":0},{"$f":"Раздел3!G177","v":0}]
[null,"Грэпплинг-ги","178",null,null,0,null,null,null,null,null,null,null,null,null,null,null,null,null,null,null,null,null,null,{"$f":"Раздел3!F178","v":0},{"$f":"Раздел3!G178","v":0}]
[null,"Панкратион","179",null,null,0,null,null,null,null,null,null,null,null,null,null,null,null,null,null,null,null,null,null,{"$f":"Раздел3!F179","v":0},{"$f":"Раздел3!G179","v":0}]
[null,"Спортивная гимнастика","180",1,null,201,null,null,null,null,null,null,null,null,null,null,null,null,null,null,15,null,186,null,{"$f":"Раздел3!F180","v":0},{"$f":"Раздел3!G180","v":0}]
[null,"Спортивная йога","181",null,null,0,null,null,null,null,null,null,null,null,null,null,null,null,null,null,null,null,null,null,{"$f":"Раздел3!F181","v":0},{"$f":"Раздел3!G181","v":0}]
[null,"Спортивно-прикладное собаководство","182",null,null,0,null,null,null,null,null,null,null,null,null,null,null,null,null,null,null,null,null,null,{"$f":"Раздел3!F182","v":0},{"$f":"Раздел3!G182","v":0}]
[null,"Спортивное ориентирование","183",null,null,0,null,null,null,null,null,null,null,null,null,null,null,null,null,null,null,null,null,null,{"$f":"Раздел3!F183","v":0},{"$f":"Раздел3!G183","v":0}]
[null,"Спортивный бридж","184",null,null,0,null,null,null,null,null,null,null,null,null,null,null,null,null,null,null,null,null,null,{"$f":"Раздел3!F184","v":0},{"$f":"Раздел3!G184","v":0}]
[null,"Спортивный туризм","185",null,null,0,null,null,null,null,null,null,null,null,null,null,null,null,null,null,null,null,null,null,{"$f":"Раздел3!F185","v":0},{"$f":"Раздел3!G185","v":0}]
[null,"Стендовая стрельба - всего","186",{"$f":"IF(SUM(D195:D198)>=1,1,0)","v":0},{"$f":"IF(SUM(E195:E198)>=1,1,0)","v":0},0,{"$f":"SUM(G195:G198)","v":0},0,0,0,0,0,0,0,0,0,0,0,0,0,0,0,0,0,{"$f":"Раздел3!F186","v":0},{"$f":"Раздел3!G186","v":0}]
[null,"в том числе:\nТрап","187",null,null,0,null,null,null,null,null,null,null,null,null,null,null,null,null,null,null,null,null,null,{"$f":"Раздел3!F187","v":0},{"$f":"Раздел3!G187","v":0}]
[null,"Скит","188",null,null,0,null,null,null,null,null,null,null,null,null,null,null,null,null,null,null,null,null,null,{"$f":"Раздел3!F188","v":0},{"$f":"Раздел3!G188","v":0}]
[null,"Дубль-трап","189",null,null,0,null,null,null,null,null,null,null,null,null,null,null,null,null,null,null,null,null,null,{"$f":"Раздел3!F189","v":0},{"$f":"Раздел3!G189","v":0}]
[null,"Спортинг","190",null,null,0,null,null,null,null,null,null,null,null,null,null,null,null,null,null,null,null,null,null,{"$f":"Раздел3!F190","v":0},{"$f":"Раздел3!G190","v":0}]
[null,"Стрельба из арбалета","191",null,null,0,null,null,null,null,null,null,null,null,null,null,null,null,null,null,null,null,null,null,{"$f":"Раздел3!F191","v":0},{"$f":"Раздел3!G191","v":0}]
[null,"Стрельба из лука - всего","192",{"$f":"IF(SUM(D201:D203)>=1,1,0)","v":0},{"$f":"IF(SUM(E201:E203)>=1,1,0)","v":0},0,{"$f":"SUM(G201:G203)","v":0},0,0,0,0,0,0,0,0,0,0,0,0,0,0,0,0,0,{"$f":"Раздел3!F192","v":0},{"$f":"Раздел3!G192","v":0}]
[null,"в том числе:\nКлассический лук","193",null,null,0,null,null,null,null,null,null,null,null,null,null,null,null,null,null,null,null,null,null,{"$f":"Раздел3!F193","v":0},{"$f":"Раздел3!G193","v":0}]
[null,"   Блочный лук","194",null,null,{"$f":"SUM(G202:K202,U202,W202)*IF(D202>0,1,0)","v":0},null,null,null,null,null,null,null,null,null,null,null,null,null,null,null,null,null,null,{"$f":"Раздел3!F194","v":0},{"$f":"Раздел3!G194","v":0}]
[null,"   Ачери ","195",null,null,0,null,null,null,null,null,null,null,null,null,null,null,null,null,null,null,null,null,null,{"$f":"Раздел3!F195","v":0},{"$f":"Раздел3!G195","v":0}]
[null,"Судомодельный спорт","196",null,null,0,null,null,null,null,null,null,null,null,null,null,null,null,null,null,null,null,null,null,{"$f":"Раздел3!F196","v":0},{"$f":"Раздел3!G196","v":0}]
[null,"Сумо","197",null,null,0,null,null,null,null,null,null,null,null,null,null,null,null,null,null,null,null,null,null,{"$f":"Раздел3!F197","v":0},{"$f":"Раздел3!G197","v":0}]
[null,"Тайский бокс","198",null,null,0,null,null,null,null,null,null,null,null,null,null,null,null,null,null,null,null,null,null,{"$f":"Раздел3!F198","v":0},{"$f":"Раздел3!G198","v":0}]
[null,"Танцевальный спорт","199",null,null,0,null,null,null,null,null,null,null,null,null,null,null,null,null,null,null,null,null,null,{"$f":"Раздел3!F199","v":0},{"$f":"Раздел3!G199","v":0}]
[null,"Теннис","200",null,null,0,null,null,null,null,null,null,null,null,null,null,null,null,null,null,null,null,null,null,{"$f":"Раздел3!F200","v":0},{"$f":"Раздел3!G200","v":0}]
[null,"Триатлон","201",null,null,0,null,null,null,null,null,null,null,null,null,null,null,null,null,null,null,null,null,null,{"$f":"Раздел3!F201","v":0},{"$f":"Раздел3!G201","v":0}]
[null,"Тхэквондо - всего","202",{"$f":"IF(SUM(D211:D212)>=1,1,0)","v":0},{"$f":"IF(SUM(E211:E212)>=1,1,0)","v":0},0,{"$f":"SUM(G211:G212)","v":0},0,0,0,0,0,0,0,0,0,0,0,0,0,0,0,0,0,{"$f":"Раздел3!F202","v":0},{"$f":"Раздел3!G202","v":0}]
[null,"в том числе:\nТхэквондо (ГТФ, ИТФ, МФТ)","203",null,null,0,null,null,null,null,null,null,null,null,null,null,null,null,null,null,null,null,null,null,{"$f":"Раздел3!F203","v":0},{"$f":"Раздел3!G203","v":0}]
[null,"Тхэквондо (ВТФ)","204",null,null,0,null,null,null,null,null,null,null,null,null,null,null,null,null,null,null,null,null,null,{"$f":"Раздел3!F204","v":0},{"$f":"Раздел3!G204","v":0}]
[null,"Тяжелая атлетика","205",null,null,0,null,null,null,null,null,null,null,null,null,null,null,null,null,null,null,null,null,null,{"$f":"Раздел3!F205","v":0},{"$f":"Раздел3!G205","v":0}]
[null,"Универсальный бой","206",null,null,0,null,null,null,null,null,null,null,null,null,null,null,null,null,null,null,null,null,null,{"$f":"Раздел3!F206","v":0},{"$f":"Раздел3!G206","v":0}]
[null,"Ушу","207",null,null,0,null,null,null,null,null,null,null,null,null,null,null,null,null,null,null,null,null,null,{"$f":"Раздел3!F207","v":0},{"$f":"Раздел3!G207","v":0}]
[null,"Фехтование - всего","208",{"$f":"IF(SUM(D217:D220)>=1,1,0)","v":0},{"$f":"IF(SUM(E217:E220)>=1,1,0)","v":0},0,{"$f":"SUM(G217:G220)","v":0},0,0,0,0,0,0,0,0,0,0,0,0,0,0,0,0,0,{"$f":"Раздел3!F208","v":0},{"$f":"Раздел3!G208","v":0}]
[null,"в том числе:\nРапира","209",null,null,0,null,null,null,null,null,null,null,null,null,null,null,null,null,null,null,null,null,null,{"$f":"Раздел3!F209","v":0},{"$f":"Раздел3!G209","v":0}]
[null,"Сабля","210",null,null,0,null,null,null,null,null,null,null,null,null,null,null,null,null,null,null,null,null,null,{"$f":"Раздел3!F210","v":0},{"$f":"Раздел3!G210","v":0}]
[null,"Шпага","211",null,null,0,null,null,null,null,null,null,null,null,null,null,null,null,null,null,null,null,null,null,{"$f":"Раздел3!F211","v":0},{"$f":"Раздел3!G211","v":0}]
[null,"Арт-фехтование","212",null,null,0,null,null,null,null,null,null,null,null,null,null,null,null,null,null,null,null,null,null,{"$f":"Раздел3!F212","v":0},{"$f":"Раздел3!G212","v":0},{"$f":"Раздел10!D16","v":0}]
[null,"Фигурное катание на коньках","213",null,null,0,null,null,null,null,null,null,null,null,null,null,null,null,null,null,null,null,null,null,{"$f":"Раздел3!F213","v":0},{"$f":"Раздел3!G213","v":0}]
[null,"Фитнес-аэробика","214",null,null,0,null,null,null,null,null,null,null,null,null,null,null,null,null,null,null,null,null,null,{"$f":"Раздел3!F214","v":0},{"$f":"Раздел3!G214","v":0}]
[null,"Флаинг диск","215",null,null,0,null,null,null,null,null,null,null,null,null,null,null,null,null,null,null,null,null,null,{"$f":"Раздел3!F215","v":0},{"$f":"Раздел3!G215","v":0}]
[null,"Флорбол","216",null,null,0,null,null,null,null,null,null,null,null,null,null,null,null,null,null,null,null,null,null,{"$f":"Раздел3!F216","v":0},{"$f":"Раздел3!G216","v":0}]
[null,"Фристайл - всего","217",{"$f":"IF(SUM(D226:D230)>=1,1,0)","v":0},{"$f":"IF(SUM(E226:E230)>=1,1,0)","v":0},0,{"$f":"SUM(G226:G230)","v":0},0,0,0,0,0,0,0,0,0,0,0,0,0,0,0,0,0,{"$f":"Раздел3!F217","v":0},{"$f":"Раздел3!G217","v":0}]
[null,"в том числе:\nАкробатика","218",null,null,0,null,null,null,null,null,null,null,null,null,null,null,null,null,null,null,null,null,null,{"$f":"Раздел3!F218","v":0},{"$f":"Раздел3!G218","v":0}]
[null,"Могул","219",null,null,0,null,null,null,null,null,null,null,null,null,null,null,null,null,null,null,null,null,null,{"$f":"Раздел3!F219","v":0},{"$f":"Раздел3!G219","v":0}]
[null,"Ски-кросс","220",null,null,0,null,null,null,null,null,null,null,null,null,null,null,null,null,null,null,null,null,null,{"$f":"Раздел3!F220","v":0},{"$f":"Раздел3!G220","v":0}]
[null,"Хаф-пайп","221",null,null,0,null,null,null,null,null,null,null,null,null,null,null,null,null,null,null,null,null,null,{"$f":"Раздел3!F221","v":0},{"$f":"Раздел3!G221","v":0}]
[null,"Слоуп-стайл","222",null,null,0,null,null,null,null,null,null,null,null,null,null,null,null,null,null,null,null,null,null,{"$f":"Раздел3!F222","v":0},{"$f":"Раздел3!G222","v":0}]
[null,"Функциональное многоборье","223",null,null,0,null,null,null,null,null,null,null,null,null,null,null,null,null,null,null,null,null,null,{"$f":"Раздел3!F223","v":0},{"$f":"Раздел3!G223","v":0}]
[null,"Футбол - всего","224",{"$f":"IF(SUM(D233:D236)>=1,1,0)","v":0},{"$f":"IF(SUM(E233:E236)>=1,1,0)","v":0},0,{"$f":"SUM(G233:G236)","v":0},{"$f":"SUM(H233:H236)","v":0},{"$f":"SUM(I233:I236)","v":0},0,0,0,0,0,0,0,0,0,0,0,0,0,0,0,{"$f":"Раздел3!F224","v":0},{"$f":"Раздел3!G224","v":0}]
[null,"в том числе:\nФутбол (муж.)","225",null,null,0,null,null,null,null,null,null,null,null,null,null,null,null,null,null,null,null,null,null,{"$f":"Раздел3!F225","v":0},{"$f":"Раздел3!G225","v":0}]
[null,"Футбол (жен.)","226",null,null,0,null,null,null,null,null,null,null,null,null,null,null,{"$f":"SUM(G234:K234)","v":0},null,null,null,null,null,null,{"$f":"Раздел3!F226","v":0},{"$f":"Раздел3!G226","v":0}]
[null,"Мини-футбол (футзал)","227",null,null,0,null,null,null,null,null,null,null,null,null,null,null,null,null,null,null,null,null,null,{"$f":"Раздел3!F227","v":0},{"$f":"Раздел3!G227","v":0}]
[null,"Пляжный футбол","228",null,null,0,null,null,null,null,null,null,null,null,null,null,null,null,null,null,null,null,null,null,{"$f":"Раздел3!F228","v":0},{"$f":"Раздел3!G228","v":0}]
[null,"Хапсагай","229",null,null,0,null,null,null,null,null,null,null,null,null,null,null,null,null,null,null,null,null,null,{"$f":"Раздел3!F229","v":0},{"$f":"Раздел3!G229","v":0}]
[null,"Хоккей - всего","230",{"$f":"IF(SUM(D239:D240)>=1,1,0)","v":0},{"$f":"IF(SUM(E239:E240)>=1,1,0)","v":0},0,{"$f":"SUM(G239:G240)","v":0},0,0,0,0,0,0,0,0,0,0,0,0,0,0,0,0,0,{"$f":"Раздел3!F230","v":0},{"$f":"Раздел3!G230","v":0}]
[null,"в том числе:\nХоккей (муж.)","231",null,null,0,null,null,null,null,null,null,null,null,null,null,null,null,null,null,null,null,null,null,{"$f":"Раздел3!F231","v":0},{"$f":"Раздел3!G231","v":0}]
[null,"Хоккей (жен.)","232",null,null,0,null,null,null,null,null,null,null,null,null,null,null,{"$f":"SUM(G240:K240)","v":0},null,null,null,null,null,null,{"$f":"Раздел3!F232","v":0},{"$f":"Раздел3!G232","v":0}]
[null,"Хоккей на траве - всего","233",{"$f":"IF(SUM(D242:D244)>=1,1,0)","v":0},{"$f":"IF(SUM(E242:E244)>=1,1,0)","v":0},0,{"$f":"SUM(G242:G244)","v":0},0,0,0,0,0,0,0,0,0,0,0,0,0,0,0,0,0]
[null,"в том числе:\nХоккей на траве (муж.)","234",null,null,0]
[null,"Хоккей на траве (жен.)","235",null,null,0,null,null,null,null,null,null,null,null,null,null,null,{"$f":"SUM(G243:K243)","v":0}]
[null,"Индорхоккей","236",null,null,0]
[null,"Хоккей с мячом","237",null,null,0]
[null,"Художественная гимнастика","238",null,null,0]
[null,"Хуреш","239",null,null,0]
[null,"Чир спорт","240",null,null,0]
[null,"Шахматы","241",null,null,0]
[null,"Шашки","242",null,null,0]
[null,"Шодсанлат","243",null,null,0]
[null,"Эстетическая гимнастика","244",null,null,0]
[null,"Якутские национальные прыжки","245",null,null,0]
[null,"ИТОГО","246",{"$f":"SUM(D9:D20,D23:D26,D29:D33,D44:D48,D53:D55,D38:D41,D59:D68,D73:D82,D85:D91,D94:D98,D106:D114,D115:D120,D123:D128,D131,D136:D137,D143:D146,D151:D159,D160:D173,D174:D182,D188:D194,D199:D200,D204:D210,D213:D216,D221:D225,D231:D232,D237:D238,D241,D245:D253)","v":6},{"$f":"SUM(E9:E20,E23:E26,E29:E33,E44:E48,E53:E55,E38:E41,E59:E68,E73:E82,E85:E91,E94:E98,E106:E114,E115:E120,E123:E128,E131,E136:E137,E143:E146,E151:E159,E160:E173,E174:E182,E188:E194,E199:E200,E204:E210,E213:E216,E221:E225,E231:E232,E237:E238,E241,E245:E253)","v":1},1439,{"$f":"SUM(G9:G19,G21:G25,G27:G32,G42:G47,G49:G54,G34:G40,G56:G67,G69:G81,G83:G90,G92:G97,G99:G114,G115:G119,G121:G127,G129:G130,G132:G136,G138:G145,G147:G159,G160:G173,G174:G181,G183:G193,G195:G199,G201:G209,G211:G215,G217:G224,G226:G231,G233:G237,G239:G240,G242:G253)","v":0},0,175,14,0,0,79,102,6,2,{"$f":"SUM(Q9:Q19,Q21:Q25,Q27:Q32,Q42:Q47,Q49:Q54,Q34:Q40,Q56:Q67,Q69:Q81,Q83:Q90,Q92:Q97,Q99:Q114,Q115:Q119,Q121:Q127,Q129:Q130,Q132:Q136,Q138:Q145,Q147:Q159,Q160:Q173,Q174:Q181,Q183:Q193,Q195:Q199,Q201:Q209,Q211:Q215,Q217:Q224,Q226:Q231,Q233:Q237,Q239:Q240,Q242:Q253)","v":171},103,0,0,225,0,1025,0]

{"sheet":"Раздел3","index":3,"n_rows":253,"n_cols":49,"rows_kept":253,"cut":false,"hidden":false,"merged":[[0,0,122,0],[0,1,0,17],[2,1,5,1],[2,2,5,2],[1,13,1,17],[2,3,2,7],[2,21,5,21],[3,3,5,3],[2,8,2,12],[2,13,2,17],[3,8,5,8],[3,13,5,13],[2,19,5,19],[2,20,5,20],[0,18,122,18],[3,4,4,7],[3,9,4,12],[3,14,4,17]]}
[null,"Раздел III. Численность занимающихся по программам спортивной подготовки"]
[null,null,null,null,null,null,null,null,null,null,null,null,null,"Код по ОКЕИ: человек – 792"]
[null,"Виды спорта","№ строки","Число занимающихся по программам спортивной подготовки на 31 декабря отчетного года (из гр. 7-10 раздела II)",null,null,null,null,"Число занимающихся, зачисленных на программы \nспортивной подготовки в отчетном году",null,null,null,null,"Число занимающихся, отчисленных с программ \nспортивной подготовки в отчетном году",null,null,null,null,null,null,"Раздел2 графа3\nЧисло отделений","Раздел2 графа5\nЧисло отделений"]
[null,null,null,"всего","в том числе по этапам подготовки",null,null,null,"всего","в том числе по этапам подготовки",null,null,null,"всего","в том числе по этапам подготовки"]
[]
[null,null,null,null,"начальной подготовки","трениро-вочный","совершен-ствования спортивного мастерства","высшего спортивного мастерства",null,"начальной подготовки","трениро-вочный","совершен-ствования спортивного мастерства","высшего спортивного мастерства",null,"начальной подготовки","трениро-вочный","совершен-ствования спортивного мастерства","высшего спортивного мастерства",null,null,null,null,"2-7","2-8","2-9","2-10"]
[null,1,2,3,4,5,6,7,8,9,10,11,12,13,14,15,16,17]
[null,"Авиамодельный спорт","01",{"$f":"SUM(E8:H8)","v":0},{"$f":"Раздел2!H9","v":0},{"$f":"Раздел2!I9","v":0},{"$f":"Раздел2!J9","v":0},{"$f":"Раздел2!K9","v":0},{"$f":"SUM(J8:M8)","v":0},null,null,null,null,{"$f":"SUM(O8:R8)","v":0},null,null,null,null,null,null,{"$f":"Раздел2!F9","v":0},{"$f":"Раздел2!F9","v":0},{"$f":"Раздел2!H9","v":0},{"$f":"Раздел2!I9","v":0},{"$f":"Раздел2!J9","v":0},{"$f":"Раздел2!K9","v":0},null,null,0,null,{"$f":"Раздел1!D18","v":0},null,null,null,{"$f":"Раздел2!D9","v":0},null,null,null,null,null,null,null,null,null,null,null,null,null,{"$f":"Раздел1!D18","v":0}]
[null,"Автомобильный спорт","02",{"$f":"SUM(E9:H9)","v":0},{"$f":"Раздел2!H10","v":0},{"$f":"Раздел2!I10","v":0},{"$f":"Раздел2!J10","v":0},{"$f":"Раздел2!K10","v":0},{"$f":"SUM(J9:M9)","v":0},null,null,null,null,{"$f":"SUM(O9:R9)","v":0},null,null,null,null,null,null,{"$f":"Раздел2!F10","v":0},{"$f":"Раздел2!F10","v":0},{"$f":"Раздел2!H10","v":0},{"$f":"Раздел2!I10","v":0},{"$f":"Раздел2!J10","v":0},{"$f":"Раздел2!K10","v":0},null,null,null,{"$f":"Раздел1!F18","v":1},{"$f":"Раздел1!F18","v":1},null,null,null,{"$f":"Раздел2!D10","v":0}]
[null,"Автомодельный спорт","03",0,{"$f":"Раздел2!H11","v":0},{"$f":"Раздел2!I11","v":0},{"$f":"Раздел2!J11","v":0},{"$f":"Раздел2!K11","v":0},0,null,null,null,null,0,null,null,null,null,null,null,{"$f":"Раздел2!F12","v":0},{"$f":"Раздел2!F12","v":0},{"$f":"Раздел2!H12","v":0},{"$f":"Раздел2!I12","v":0},{"$f":"Раздел2!J12","v":0},{"$f":"Раздел2!K12","v":0},null,null,null,{"$f":"Раздел1!H18","v":0},{"$f":"Раздел1!H18","v":0},null,null,null,{"$f":"Раздел2!D11","v":0}]
[null,"Айкидо","04",0,{"$f":"Раздел2!H12","v":0},{"$f":"Раздел2!I12","v":0},{"$f":"Раздел2!J12","v":0},{"$f":"Раздел2!K12","v":0},0,null,null,null,null,0,null,null,null,null,null,null,{"$f":"Раздел2!F14","v":0},{"$f":"Раздел2!F14","v":0},{"$f":"Раздел2!H14","v":0},{"$f":"Раздел2!I14","v":0},{"$f":"Раздел2!J14","v":0},{"$f":"Раздел2!K14","v":0},null,null,null,null,null,null,null,null,{"$f":"Раздел2!D12","v":0}]
[null,"Айсшток","05",0,{"$f":"Раздел2!H13","v":0},{"$f":"Раздел2!I13","v":0},{"$f":"Раздел2!J13","v":0},{"$f":"Раздел2!K13","v":0},0,null,null,null,null,0,null,null,null,null,null,null,{"$f":"Раздел2!F15","v":0},{"$f":"Раздел2!F15","v":0},{"$f":"Раздел2!H15","v":0},{"$f":"Раздел2!I15","v":0},{"$f":"Раздел2!J15","v":0},{"$f":"Раздел2!K15","v":0},null,null,null,null,null,null,null,null,{"$f":"Раздел2!D13","v":0}]
[null,"Акробатический рок-н-ролл","06",0,{"$f":"Раздел2!H14","v":0},{"$f":"Раздел2!I14","v":0},{"$f":"Раздел2!J14","v":0},{"$f":"Раздел2!K14","v":0},0,null,null,null,null,0,null,null,null,null,null,null,{"$f":"Раздел2!F16","v":0},{"$f":"Раздел2!F16","v":0},{"$f":"Раздел2!H16","v":0},{"$f":"Раздел2!I16","v":0},{"$f":"Раздел2!J16","v":0},{"$f":"Раздел2!K16","v":0},null,null,null,null,null,null,null,null,{"$f":"Раздел2!D14","v":0}]
[null,"Альпинизм","07",0,{"$f":"Раздел2!H15","v":0},{"$f":"Раздел2!I15","v":0},{"$f":"Раздел2!J15","v":0},{"$f":"Раздел2!K15","v":0},0,null,null,null,null,0,null,null,null,null,null,null,{"$f":"Раздел2!F18","v":0},{"$f":"Раздел2!F18","v":0},{"$f":"Раздел2!H18","v":0},{"$f":"Раздел2!I18","v":0},{"$f":"Раздел2!J18","v":0},{"$f":"Раздел2!K18","v":0},null,null,null,null,null,null,null,null,{"$f":"Раздел2!D15","v":0}]
[null,"Американский футбол","08",0,{"$f":"Раздел2!H16","v":0},{"$f":"Раздел2!I16","v":0},{"$f":"Раздел2!J16","v":0},{"$f":"Раздел2!K16","v":0},0,null,null,null,null,0,null,null,null,null,null,null,{"$f":"Раздел2!F19","v":0},{"$f":"Раздел2!F19","v":0},{"$f":"Раздел2!H19","v":0},{"$f":"Раздел2!I19","v":0},{"$f":"Раздел2!J19","v":0},{"$f":"Раздел2!K19","v":0},null,null,null,null,null,null,null,null,{"$f":"Раздел2!D16","v":0}]
[null,"Армейский рукопашный бой","09",0,{"$f":"Раздел2!H17","v":0},{"$f":"Раздел2!I17","v":0},{"$f":"Раздел2!J17","v":0},{"$f":"Раздел2!K17","v":0},0,null,null,null,null,0,null,null,null,null,null,null,{"$f":"Раздел2!F20","v":248},{"$f":"Раздел2!F20","v":248},{"$f":"Раздел2!H20","v":0},{"$f":"Раздел2!I20","v":0},{"$f":"Раздел2!J20","v":0},{"$f":"Раздел2!K20","v":0},null,null,null,null,null,null,null,null,{"$f":"Раздел2!D17","v":0}]
[null,"Армрестлинг","10",0,{"$f":"Раздел2!H18","v":0},{"$f":"Раздел2!I18","v":0},{"$f":"Раздел2!J18","v":0},{"$f":"Раздел2!K18","v":0},0,null,null,null,null,0,null,null,null,null,null,null,{"$f":"Раздел2!F21","v":162},{"$f":"Раздел2!F21","v":162},{"$f":"Раздел2!H21","v":0},{"$f":"Раздел2!I21","v":0},{"$f":"Раздел2!J21","v":0},{"$f":"Раздел2!K21","v":0},null,null,null,null,null,null,null,null,{"$f":"Раздел2!D18","v":0}]
[null,"Бадминтон","11",0,{"$f":"Раздел2!H19","v":0},{"$f":"Раздел2!I19","v":0},{"$f":"Раздел2!J19","v":0},{"$f":"Раздел2!K19","v":0},0,null,null,null,null,0,null,null,null,null,null,null,{"$f":"Раздел2!F22","v":86},{"$f":"Раздел2!F22","v":86},{"$f":"Раздел2!H22","v":0},{"$f":"Раздел2!I22","v":0},{"$f":"Раздел2!J22","v":0},{"$f":"Раздел2!K22","v":0},null,null,null,null,null,null,null,null,{"$f":"Раздел2!D19","v":0}]
[null,"Баскетбол - всего","12",{"$f":"SUM(D20:D21)","v":0},{"$f":"SUM(E20:E21)","v":0},0,{"$f":"SUM(G20:G21)","v":0},0,0,0,0,0,0,0,0,0,0,0,null,null,{"$f":"Раздел2!F23","v":0},{"$f":"Раздел2!F23","v":0},{"$f":"Раздел2!H23","v":0},{"$f":"Раздел2!I23","v":0},{"$f":"Раздел2!J23","v":0},{"$f":"Раздел2!K23","v":0},null,null,null,null,null,null,null,null,{"$f":"Раздел2!D20","v":1}]
[null,"в том числе:\nБаскетбол (муж.)","13",{"$f":"SUM(E20:H20)","v":0},{"$f":"Раздел2!H21","v":0},{"$f":"Раздел2!I21","v":0},{"$f":"Раздел2!J21","v":0},{"$f":"Раздел2!K21","v":0},0,null,null,null,null,0,null,null,null,null,null,null,{"$f":"Раздел2!F24","v":0},{"$f":"Раздел2!F24","v":0},{"$f":"Раздел2!H24","v":0},{"$f":"Раздел2!I24","v":0},{"$f":"Раздел2!J24","v":0},{"$f":"Раздел2!K24","v":0},null,null,null,null,null,null,null,null,{"$f":"Раздел2!D21","v":1}]
[null,"Баскетбол (жен.)","14",0,{"$f":"Раздел2!H22","v":0},{"$f":"Раздел2!I22","v":0},{"$f":"Раздел2!J22","v":0},{"$f":"Раздел2!K22","v":0},0,null,null,null,null,0,null,null,null,null,null,null,{"$f":"Раздел2!F25","v":0},{"$f":"Раздел2!F25","v":0},{"$f":"Раздел2!H25","v":0},{"$f":"Раздел2!I25","v":0},{"$f":"Раздел2!J25","v":0},{"$f":"Раздел2!K25","v":0},null,null,null,null,null,null,null,null,{"$f":"Раздел2!D22","v":1}]
[null,"Бейсбол","15",0,{"$f":"Раздел2!H23","v":0},{"$f":"Раздел2!I23","v":0},{"$f":"Раздел2!J23","v":0},{"$f":"Раздел2!K23","v":0},0,null,null,null,null,0,null,null,null,null,null,null,{"$f":"Раздел2!F26","v":0},{"$f":"Раздел2!F26","v":0},{"$f":"Раздел2!H26","v":0},{"$f":"Раздел2!I26","v":0},{"$f":"Раздел2!J26","v":0},{"$f":"Раздел2!K26","v":0},null,null,null,null,null,null,null,null,{"$f":"Раздел2!D23","v":0}]
[null,"Биатлон","16",0,{"$f":"Раздел2!H24","v":0},{"$f":"Раздел2!I24","v":0},{"$f":"Раздел2!J24","v":0},{"$f":"Раздел2!K24","v":0},0,null,null,null,null,0,null,null,null,null,null,null,{"$f":"Раздел2!F27","v":0},{"$f":"Раздел2!F27","v":0},{"$f":"Раздел2!H27","v":0},{"$f":"Раздел2!I27","v":0},{"$f":"Раздел2!J27","v":0},{"$f":"Раздел2!K27","v":0},null,null,null,null,null,null,null,null,{"$f":"Раздел2!D24","v":0}]
[null,"Бильярдный спорт","17",0,{"$f":"Раздел2!H25","v":0},{"$f":"Раздел2!I25","v":0},{"$f":"Раздел2!J25","v":0},{"$f":"Раздел2!K25","v":0},0,null,null,null,null,0,null,null,null,null,null,null,{"$f":"Раздел2!F28","v":0},{"$f":"Раздел2!F28","v":0},{"$f":"Раздел2!H28","v":0},{"$f":"Раздел2!I28","v":0},{"$f":"Раздел2!J28","v":0},{"$f":"Раздел2!K28","v":0},null,null,null,null,null,null,null,null,{"$f":"Раздел2!D25","v":0}]
[null,"Бобслей - всего","18",{"$f":"SUM(D26:D27)","v":0},{"$f":"SUM(E26:E27)","v":0},0,0,0,0,0,0,0,0,0,0,0,0,0,null,null,{"$f":"Раздел2!F29","v":0},{"$f":"Раздел2!F29","v":0},{"$f":"Раздел2!H29","v":0},{"$f":"Раздел2!I29","v":0},{"$f":"Раздел2!J29","v":0},{"$f":"Раздел2!K29","v":0},null,null,null,null,null,null,null,null,{"$f":"Раздел2!D26","v":0}]
[null,"в том числе:\nБобслей","19",0,{"$f":"Раздел2!H27","v":0},{"$f":"Раздел2!I27","v":0},{"$f":"Раздел2!J27","v":0},{"$f":"Раздел2!K27","v":0},0,null,null,null,null,0,null,null,null,null,null,null,{"$f":"Раздел2!F30","v":0},{"$f":"Раздел2!F30","v":0},{"$f":"Раздел2!H30","v":0},{"$f":"Раздел2!I30","v":0},{"$f":"Раздел2!J30","v":0},{"$f":"Раздел2!K30","v":0},null,null,null,null,null,null,null,null,{"$f":"Раздел2!D27","v":0}]
[null,"Скелетон","20",0,{"$f":"Раздел2!H28","v":0},{"$f":"Раздел2!I28","v":0},{"$f":"Раздел2!J28","v":0},{"$f":"Раздел2!K28","v":0},0,null,null,null,null,0,null,null,null,null,null,null,{"$f":"Раздел2!F31","v":0},{"$f":"Раздел2!F31","v":0},{"$f":"Раздел2!H31","v":0},{"$f":"Раздел2!I31","v":0},{"$f":"Раздел2!J31","v":0},{"$f":"Раздел2!K31","v":0},null,null,null,null,null,null,null,null,{"$f":"Раздел2!D28","v":0}]
[null,"Бодибилдинг","21",0,{"$f":"Раздел2!H29","v":0},{"$f":"Раздел2!I29","v":0},{"$f":"Раздел2!J29","v":0},{"$f":"Раздел2!K29","v":0},0,null,null,null,null,0,null,null,null,null,null,null,{"$f":"Раздел2!F32","v":0},{"$f":"Раздел2!F32","v":0},{"$f":"Раздел2!H32","v":0},{"$f":"Раздел2!I32","v":0},{"$f":"Раздел2!J32","v":0},{"$f":"Раздел2!K32","v":0},null,null,null,null,null,null,null,null,{"$f":"Раздел2!D29","v":0}]
[null,"Бокс","22",0,{"$f":"Раздел2!H30","v":0},{"$f":"Раздел2!I30","v":0},{"$f":"Раздел2!J30","v":0},{"$f":"Раздел2!K30","v":0},0,null,null,null,null,0,null,null,null,null,null,null,{"$f":"Раздел2!F33","v":0},{"$f":"Раздел2!F33","v":0},{"$f":"Раздел2!H33","v":0},{"$f":"Раздел2!I33","v":0},{"$f":"Раздел2!J33","v":0},{"$f":"Раздел2!K33","v":0},null,null,null,null,null,null,null,null,{"$f":"Раздел2!D30","v":0}]
[null,"Борьба на поясах","23",0,{"$f":"Раздел2!H31","v":0},{"$f":"Раздел2!I31","v":0},{"$f":"Раздел2!J31","v":0},{"$f":"Раздел2!K31","v":0},0,null,null,null,null,0,null,null,null,null,null,null,{"$f":"Раздел2!F38","v":0},{"$f":"Раздел2!F38","v":0},{"$f":"Раздел2!H38","v":0},{"$f":"Раздел2!I38","v":0},{"$f":"Раздел2!J38","v":0},{"$f":"Раздел2!K38","v":0},null,null,null,null,null,null,null,null,{"$f":"Раздел2!D31","v":0}]
[null,"Боулинг","24",0,{"$f":"Раздел2!H32","v":0},{"$f":"Раздел2!I32","v":0},{"$f":"Раздел2!J32","v":0},{"$f":"Раздел2!K32","v":0},0,null,null,null,null,0,null,null,null,null,null,null,{"$f":"Раздел2!F39","v":0},{"$f":"Раздел2!F39","v":0},{"$f":"Раздел2!H39","v":0},{"$f":"Раздел2!I39","v":0},{"$f":"Раздел2!J39","v":0},{"$f":"Раздел2!K39","v":0},null,null,null,null,null,null,null,null,{"$f":"Раздел2!D32","v":0}]
[null,"Велосипедный спорт - всего","25",{"$f":"SUM(D33:D36)","v":0},{"$f":"SUM(E33:E36)","v":0},0,0,0,0,0,0,0,0,0,0,0,0,0,null,null,{"$f":"Раздел2!F40","v":0},{"$f":"Раздел2!F40","v":0},{"$f":"Раздел2!H40","v":0},{"$f":"Раздел2!I40","v":0},{"$f":"Раздел2!J40","v":0},{"$f":"Раздел2!K40","v":0},null,null,null,null,null,null,null,null,{"$f":"Раздел2!D33","v":0}]
[null,"в том числе:\nBMX","26",0,{"$f":"Раздел2!H34","v":0},{"$f":"Раздел2!I34","v":0},{"$f":"Раздел2!J34","v":0},{"$f":"Раздел2!K34","v":0},0,null,null,null,null,0,null,null,null,null,null,null,null,null,null,null,null,null,null,null,null,null,null,null,null,null,{"$f":"Раздел2!D34","v":0}]
[null,"Маунтинбайк","27",0,{"$f":"Раздел2!H35","v":0},{"$f":"Раздел2!I35","v":0},{"$f":"Раздел2!J35","v":0},{"$f":"Раздел2!K35","v":0},0,null,null,null,null,0,null,null,null,null,null,null,null,null,null,null,null,null,null,null,null,null,null,null,null,null,{"$f":"Раздел2!D35","v":0}]
[null,"Трек","28",0,{"$f":"Раздел2!H36","v":0},{"$f":"Раздел2!I36","v":0},{"$f":"Раздел2!J36","v":0},{"$f":"Раздел2!K36","v":0},0,null,null,null,null,0,null,null,null,null,null,null,null,null,null,null,null,null,null,null,null,null,null,null,null,null,{"$f":"Раздел2!D36","v":0}]
[null,"Шоссе","29",0,{"$f":"Раздел2!H37","v":0},{"$f":"Раздел2!I37","v":0},{"$f":"Раздел2!J37","v":0},{"$f":"Раздел2!K37","v":0},0,null,null,null,null,0,null,null,null,null,null,null,null,null,null,null,null,null,null,null,null,null,null,null,null,null,{"$f":"Раздел2!D37","v":0}]
[null,"Вертолетный спорт","30",0,{"$f":"Раздел2!H38","v":0},{"$f":"Раздел2!I38","v":0},{"$f":"Раздел2!J38","v":0},{"$f":"Раздел2!K38","v":0},0,null,null,null,null,0,null,null,null,null,null,null,{"$f":"Раздел2!F41","v":0},{"$f":"Раздел2!F41","v":0},{"$f":"Раздел2!H41","v":0},{"$f":"Раздел2!I41","v":0},{"$f":"Раздел2!J41","v":0},{"$f":"Раздел2!K41","v":0},null,null,null,null,null,null,null,null,{"$f":"Раздел2!D38","v":0}]
[null,"Водно-моторный спорт","31",0,{"$f":"Раздел2!H39","v":0},{"$f":"Раздел2!I39","v":0},{"$f":"Раздел2!J39","v":0},{"$f":"Раздел2!K39","v":0},0,null,null,null,null,0,null,null,null,null,null,null,{"$f":"Раздел2!F42","v":0},{"$f":"Раздел2!F42","v":0},{"$f":"Раздел2!H42","v":0},{"$f":"Раздел2!I42","v":0},{"$f":"Раздел2!J42","v":0},{"$f":"Раздел2!K42","v":0},null,null,null,null,null,null,null,null,{"$f":"Раздел2!D39","v":0}]
[null,"Водно-спасательное многоборье","32",0,{"$f":"Раздел2!H40","v":0},{"$f":"Раздел2!I40","v":0},{"$f":"Раздел2!J40","v":0},{"$f":"Раздел2!K40","v":0},0,null,null,null,null,0,null,null,null,null,null,null,{"$f":"Раздел2!F43","v":0},{"$f":"Раздел2!F43","v":0},{"$f":"Раздел2!H43","v":0},{"$f":"Раздел2!I43","v":0},{"$f":"Раздел2!J43","v":0},{"$f":"Раздел2!K43","v":0},null,null,null,null,null,null,null,null,{"$f":"Раздел2!D40","v":0}]
[null,"Водное поло - всего ","33",{"$f":"SUM(D41:D42)","v":0},{"$f":"SUM(E41:E42)","v":0},0,0,0,0,0,0,0,0,0,0,0,0,0,null,null,{"$f":"Раздел2!F44","v":0},{"$f":"Раздел2!F44","v":0},{"$f":"Раздел2!H44","v":0},{"$f":"Раздел2!I44","v":0},{"$f":"Раздел2!J44","v":0},{"$f":"Раздел2!K44","v":0},null,null,null,null,null,null,null,null,{"$f":"Раздел2!D41","v":0}]
[null,"в том числе:\nВодное поло (муж.)","34",0,{"$f":"Раздел2!H42","v":0},{"$f":"Раздел2!I42","v":0},{"$f":"Раздел2!J42","v":0},{"$f":"Раздел2!K42","v":0},0,null,null,null,null,0,null,null,null,null,null,null,{"$f":"Раздел2!F45","v":0},{"$f":"Раздел2!F45","v":0},{"$f":"Раздел2!H45","v":0},{"$f":"Раздел2!I45","v":0},{"$f":"Раздел2!J45","v":0},{"$f":"Раздел2!K45","v":0},null,null,null,null,null,null,null,null,{"$f":"Раздел2!D42","v":0}]
[null,"Водное поло (жен.)","35",0,{"$f":"Раздел2!H43","v":0},{"$f":"Раздел2!I43","v":0},{"$f":"Раздел2!J43","v":0},{"$f":"Раздел2!K43","v":0},0,null,null,null,null,0,null,null,null,null,null,null,{"$f":"Раздел2!F46","v":0},{"$f":"Раздел2!F46","v":0},{"$f":"Раздел2!H46","v":0},{"$f":"Раздел2!I46","v":0},{"$f":"Раздел2!J46","v":0},{"$f":"Раздел2!K46","v":0},null,null,null,null,null,null,null,null,{"$f":"Раздел2!D43","v":0}]
[null,"Воднолыжный спорт","36",0,{"$f":"Раздел2!H44","v":0},{"$f":"Раздел2!I44","v":0},{"$f":"Раздел2!J44","v":0},{"$f":"Раздел2!K44","v":0},0,null,null,null,null,0,null,null,null,null,null,null,{"$f":"Раздел2!F49","v":71},{"$f":"Раздел2!F49","v":71},{"$f":"Раздел2!H49","v":0},{"$f":"Раздел2!I49","v":0},{"$f":"Раздел2!J49","v":0},{"$f":"Раздел2!K49","v":0},null,null,null,null,null,null,null,null,{"$f":"Раздел2!D44","v":0}]
[null,"Военно-прикладной спорт","37",0,{"$f":"Раздел2!H45","v":0},{"$f":"Раздел2!I45","v":0},{"$f":"Раздел2!J45","v":0},{"$f":"Раздел2!K45","v":0},0,null,null,null,null,0,null,null,null,null,null,null,{"$f":"Раздел2!F50","v":112},{"$f":"Раздел2!F50","v":112},{"$f":"Раздел2!H50","v":0},{"$f":"Раздел2!I50","v":0},{"$f":"Раздел2!J50","v":0},{"$f":"Раздел2!K50","v":0},null,null,null,null,null,null,null,null,{"$f":"Раздел2!D45","v":0}]
[null,"Военно-спортивное многоборье","38",0,{"$f":"Раздел2!H46","v":0},{"$f":"Раздел2!I46","v":0},{"$f":"Раздел2!J46","v":0},{"$f":"Раздел2!K46","v":0},0,null,null,null,null,0,null,null,null,null,null,null,{"$f":"Раздел2!F51","v":0},{"$f":"Раздел2!F51","v":0},{"$f":"Раздел2!H51","v":0},{"$f":"Раздел2!I51","v":0},{"$f":"Раздел2!J51","v":0},{"$f":"Раздел2!K51","v":0},null,null,null,null,null,null,null,null,{"$f":"Раздел2!D46","v":0}]
[null,"Воздухоплавательный спорт","39",0,{"$f":"Раздел2!H47","v":0},{"$f":"Раздел2!I47","v":0},{"$f":"Раздел2!J47","v":0},{"$f":"Раздел2!K47","v":0},0,null,null,null,null,0,null,null,null,null,null,null,{"$f":"Раздел2!F52","v":0},{"$f":"Раздел2!F52","v":0},{"$f":"Раздел2!H52","v":0},{"$f":"Раздел2!I52","v":0},{"$f":"Раздел2!J52","v":0},{"$f":"Раздел2!K52","v":0},null,null,null,null,null,null,null,null,{"$f":"Раздел2!D47","v":0}]
[null,"Волейбол - всего","40",{"$f":"SUM(D48:D51)","v":0},{"$f":"SUM(E48:E51)","v":0},0,0,0,0,0,0,0,0,0,0,0,0,0,null,null,{"$f":"Раздел2!F53","v":0},{"$f":"Раздел2!F53","v":0},{"$f":"Раздел2!H53","v":0},{"$f":"Раздел2!I53","v":0},{"$f":"Раздел2!J53","v":0},{"$f":"Раздел2!K53","v":0},null,null,null,null,null,null,null,null,{"$f":"Раздел2!D48","v":1}]
[null,"в том числе:\nВолейбол (муж.)","41",0,{"$f":"Раздел2!H49","v":0},{"$f":"Раздел2!I49","v":0},{"$f":"Раздел2!J49","v":0},{"$f":"Раздел2!K49","v":0},0,null,null,null,null,0,null,null,null,null,null,null,{"$f":"Раздел2!F54","v":0},{"$f":"Раздел2!F54","v":0},{"$f":"Раздел2!H54","v":0},{"$f":"Раздел2!I54","v":0},{"$f":"Раздел2!J54","v":0},{"$f":"Раздел2!K54","v":0},null,null,null,null,null,null,null,null,{"$f":"Раздел2!D49","v":1}]
[null,"Волейбол (жен.)","42",0,{"$f":"Раздел2!H50","v":0},{"$f":"Раздел2!I50","v":0},{"$f":"Раздел2!J50","v":0},{"$f":"Раздел2!K50","v":0},0,null,null,null,null,0,null,null,null,null,null,null,{"$f":"Раздел2!F55","v":0},{"$f":"Раздел2!F55","v":0},{"$f":"Раздел2!H55","v":0},{"$f":"Раздел2!I55","v":0},{"$f":"Раздел2!J55","v":0},{"$f":"Раздел2!K55","v":0},null,null,null,null,null,null,null,null,{"$f":"Раздел2!D50","v":1}]
[null,"Пляжный волейбол (муж.)","43",0,{"$f":"Раздел2!H51","v":0},{"$f":"Раздел2!I51","v":0},{"$f":"Раздел2!J51","v":0},{"$f":"Раздел2!K51","v":0},0,null,null,null,null,0,null,null,null,null,null,null,{"$f":"Раздел2!F56","v":0},{"$f":"Раздел2!F56","v":0},{"$f":"Раздел2!H56","v":0},{"$f":"Раздел2!I56","v":0},{"$f":"Раздел2!J56","v":0},{"$f":"Раздел2!K56","v":0},null,null,null,null,null,null,null,null,{"$f":"Раздел2!D51","v":0}]
[null,"Пляжный волейбол (жен.)","44",0,{"$f":"Раздел2!H52","v":0},{"$f":"Раздел2!I52","v":0},{"$f":"Раздел2!J52","v":0},{"$f":"Раздел2!K52","v":0},0,null,null,null,null,0,null,null,null,null,null,null,{"$f":"Раздел2!F57","v":0},{"$f":"Раздел2!F57","v":0},{"$f":"Раздел2!H57","v":0},{"$f":"Раздел2!I57","v":0},{"$f":"Раздел2!J57","v":0},{"$f":"Раздел2!K57","v":0},null,null,null,null,null,null,null,null,{"$f":"Раздел2!D52","v":0}]
[null,"Восточное боевое единоборство","45",0,{"$f":"Раздел2!H53","v":0},{"$f":"Раздел2!I53","v":0},{"$f":"Раздел2!J53","v":0},{"$f":"Раздел2!K53","v":0},0,null,null,null,null,0,null,null,null,null,null,null,{"$f":"Раздел2!F58","v":0},{"$f":"Раздел2!F58","v":0},{"$f":"Раздел2!H58","v":0},{"$f":"Раздел2!I58","v":0},{"$f":"Раздел2!J58","v":0},{"$f":"Раздел2!K58","v":0},null,null,null,null,null,null,null,null,{"$f":"Раздел2!D53","v":0}]
[null,"Всестилевое каратэ","46",0,{"$f":"Раздел2!H54","v":0},{"$f":"Раздел2!I54","v":0},{"$f":"Раздел2!J54","v":0},{"$f":"Раздел2!K54","v":0},0,null,null,null,null,0,null,null,null,null,null,null,{"$f":"Раздел2!F59","v":0},{"$f":"Раздел2!F59","v":0},{"$f":"Раздел2!H59","v":0},{"$f":"Раздел2!I59","v":0},{"$f":"Раздел2!J59","v":0},{"$f":"Раздел2!K59","v":0},null,null,null,null,null,null,null,null,{"$f":"Раздел2!D54","v":0}]
[null,"Гандбол - всего","47",{"$f":"SUM(D55:D57)","v":0},{"$f":"SUM(E55:E57)","v":0},0,0,0,0,0,0,0,0,0,0,0,0,0,null,null,{"$f":"Раздел2!F61","v":0},{"$f":"Раздел2!F61","v":0},{"$f":"Раздел2!H61","v":0},{"$f":"Раздел2!I61","v":0},{"$f":"Раздел2!J61","v":0},{"$f":"Раздел2!K61","v":0},null,null,null,null,null,null,null,null,{"$f":"Раздел2!D55","v":0}]
[null,"в том числе:\nГандбол (муж.)","48",0,{"$f":"Раздел2!H56","v":0},{"$f":"Раздел2!I56","v":0},{"$f":"Раздел2!J56","v":0},{"$f":"Раздел2!K56","v":0},0,null,null,null,null,0,null,null,null,null,null,null,{"$f":"Раздел2!F62","v":0},{"$f":"Раздел2!F62","v":0},{"$f":"Раздел2!H62","v":0},{"$f":"Раздел2!I62","v":0},{"$f":"Раздел2!J62","v":0},{"$f":"Раздел2!K62","v":0},null,null,null,null,null,null,null,null,{"$f":"Раздел2!D56","v":0}]
[null,"Гандбол (жен.)","49",0,{"$f":"Раздел2!H57","v":0},{"$f":"Раздел2!I57","v":0},{"$f":"Раздел2!J57","v":0},{"$f":"Раздел2!K57","v":0},0,null,null,null,null,0,null,null,null,null,null,null,{"$f":"Раздел2!F63","v":0},{"$f":"Раздел2!F63","v":0},{"$f":"Раздел2!H63","v":0},{"$f":"Раздел2!I63","v":0},{"$f":"Раздел2!J63","v":0},{"$f":"Раздел2!K63","v":0},null,null,null,null,null,null,null,null,{"$f":"Раздел2!D57","v":0}]
[null,"Пляжный гандбол","50",0,{"$f":"Раздел2!H58","v":0},{"$f":"Раздел2!I58","v":0},{"$f":"Раздел2!J58","v":0},{"$f":"Раздел2!K58","v":0},0,null,null,null,null,0,null,null,null,null,null,null,{"$f":"Раздел2!F64","v":0},{"$f":"Раздел2!F64","v":0},{"$f":"Раздел2!H64","v":0},{"$f":"Раздел2!I64","v":0},{"$f":"Раздел2!J64","v":0},{"$f":"Раздел2!K64","v":0},null,null,null,null,null,null,null,null,{"$f":"Раздел2!D58","v":0}]
[null,"Гиревой спорт","51",0,{"$f":"Раздел2!H59","v":0},{"$f":"Раздел2!I59","v":0},{"$f":"Раздел2!J59","v":0},{"$f":"Раздел2!K59","v":0},0,null,null,null,null,0,null,null,null,null,null,null,{"$f":"Раздел2!F65","v":0},{"$f":"Раздел2!F65","v":0},{"$f":"Раздел2!H65","v":0},{"$f":"Раздел2!I65","v":0},{"$f":"Раздел2!J65","v":0},{"$f":"Раздел2!K65","v":0},null,null,null,null,null,null,null,null,{"$f":"Раздел2!D59","v":0}]
[null,"Го","52",0,{"$f":"Раздел2!H60","v":0},{"$f":"Раздел2!I60","v":0},{"$f":"Раздел2!J60","v":0},{"$f":"Раздел2!K60","v":0},0,null,null,null,null,0,null,null,null,null,null,null,{"$f":"Раздел2!F66","v":0},{"$f":"Раздел2!F66","v":0},{"$f":"Раздел2!H66","v":0},{"$f":"Раздел2!I66","v":0},{"$f":"Раздел2!J66","v":0},{"$f":"Раздел2!K66","v":0},null,null,null,null,null,null,null,null,{"$f":"Раздел2!D60","v":0}]
[null,"Гольф","53",0,{"$f":"Раздел2!H61","v":0},{"$f":"Раздел2!I61","v":0},{"$f":"Раздел2!J61","v":0},{"$f":"Раздел2!K61","v":0},0,null,null,null,null,0,null,null,null,null,null,null,{"$f":"Раздел2!F68","v":0},{"$f":"Раздел2!F68","v":0},{"$f":"Раздел2!H68","v":0},{"$f":"Раздел2!I68","v":0},{"$f":"Раздел2!J68","v":0},{"$f":"Раздел2!K68","v":0},null,null,null,null,null,null,null,null,{"$f":"Раздел2!D61","v":0}]
[null,"Гонки на охотничьих лыжах","54",0,{"$f":"Раздел2!H62","v":0},{"$f":"Раздел2!I62","v":0},{"$f":"Раздел2!J62","v":0},{"$f":"Раздел2!K62","v":0},0,null,null,null,null,0,null,null,null,null,null,null,{"$f":"Раздел2!F69","v":0},{"$f":"Раздел2!F69","v":0},{"$f":"Раздел2!H69","v":0},{"$f":"Раздел2!I69","v":0},{"$f":"Раздел2!J69","v":0},{"$f":"Раздел2!K69","v":0},null,null,null,null,null,null,null,null,{"$f":"Раздел2!D62","v":0}]
[null,"Горнолыжный спорт","55",0,{"$f":"Раздел2!H63","v":0},{"$f":"Раздел2!I63","v":0},{"$f":"Раздел2!J63","v":0},{"$f":"Раздел2!K63","v":0},0,null,null,null,null,0,null,null,null,null,null,null,{"$f":"Раздел2!F70","v":0},{"$f":"Раздел2!F70","v":0},{"$f":"Раздел2!H70","v":0},{"$f":"Раздел2!I70","v":0},{"$f":"Раздел2!J70","v":0},{"$f":"Раздел2!K70","v":0},null,null,null,null,null,null,null,null,{"$f":"Раздел2!D63","v":0}]
[null,"Городошный спорт","56",0,{"$f":"Раздел2!H64","v":0},{"$f":"Раздел2!I64","v":0},{"$f":"Раздел2!J64","v":0},{"$f":"Раздел2!K64","v":0},0,null,null,null,null,0,null,null,null,null,null,null,{"$f":"Раздел2!F71","v":0},{"$f":"Раздел2!F71","v":0},{"$f":"Раздел2!H71","v":0},{"$f":"Раздел2!I71","v":0},{"$f":"Раздел2!J71","v":0},{"$f":"Раздел2!K71","v":0},null,null,null,null,null,null,null,null,{"$f":"Раздел2!D64","v":0}]
[null,"Гребля на байдарках и каноэ","57",0,{"$f":"Раздел2!H65","v":0},{"$f":"Раздел2!I65","v":0},{"$f":"Раздел2!J65","v":0},{"$f":"Раздел2!K65","v":0},0,null,null,null,null,0,null,null,null,null,null,null,{"$f":"Раздел2!F72","v":0},{"$f":"Раздел2!F72","v":0},{"$f":"Раздел2!H72","v":0},{"$f":"Раздел2!I72","v":0},{"$f":"Раздел2!J72","v":0},{"$f":"Раздел2!K72","v":0},null,null,null,null,null,null,null,null,{"$f":"Раздел2!D65","v":0}]
[null,"Гребля на шлюпках","58",0,{"$f":"Раздел2!H66","v":0},{"$f":"Раздел2!I66","v":0},{"$f":"Раздел2!J66","v":0},{"$f":"Раздел2!K66","v":0},0,null,null,null,null,0,null,null,null,null,null,null,{"$f":"Раздел2!F73","v":0},{"$f":"Раздел2!F73","v":0},{"$f":"Раздел2!H73","v":0},{"$f":"Раздел2!I73","v":0},{"$f":"Раздел2!J73","v":0},{"$f":"Раздел2!K73","v":0},null,null,null,null,null,null,null,null,{"$f":"Раздел2!D66","v":0}]
[null,"Гребной слалом","59",0,{"$f":"Раздел2!H67","v":0},{"$f":"Раздел2!I67","v":0},{"$f":"Раздел2!J67","v":0},{"$f":"Раздел2!K67","v":0},0,null,null,null,null,0,null,null,null,null,null,null,{"$f":"Раздел2!F74","v":0},{"$f":"Раздел2!F74","v":0},{"$f":"Раздел2!H74","v":0},{"$f":"Раздел2!I74","v":0},{"$f":"Раздел2!J74","v":0},{"$f":"Раздел2!K74","v":0},null,null,null,null,null,null,null,null,{"$f":"Раздел2!D67","v":0}]
[null,"Гребной спорт - всего","60",{"$f":"SUM(D68:D71)","v":0},{"$f":"SUM(E68:E71)","v":0},0,0,0,0,0,0,0,0,0,0,0,0,0,null,null,{"$f":"Раздел2!F75","v":0},{"$f":"Раздел2!F75","v":0},{"$f":"Раздел2!H75","v":0},{"$f":"Раздел2!I75","v":0},{"$f":"Раздел2!J75","v":0},{"$f":"Раздел2!K75","v":0},null,null,null,null,null,null,null,null,{"$f":"Раздел2!D68","v":0}]
[null,"в том числе:\nАкадемическая гребля","61",0,{"$f":"Раздел2!H69","v":0},{"$f":"Раздел2!I69","v":0},{"$f":"Раздел2!J69","v":0},{"$f":"Раздел2!K69","v":0},0,null,null,null,null,0,null,null,null,null,null,null,{"$f":"Раздел2!F76","v":0},{"$f":"Раздел2!F76","v":0},{"$f":"Раздел2!H76","v":0},{"$f":"Раздел2!I76","v":0},{"$f":"Раздел2!J76","v":0},{"$f":"Раздел2!K76","v":0},null,null,null,null,null,null,null,null,{"$f":"Раздел2!D69","v":0}]
[null,"Гребля-индор","62",0,{"$f":"Раздел2!H70","v":0},{"$f":"Раздел2!I70","v":0},{"$f":"Раздел2!J70","v":0},{"$f":"Раздел2!K70","v":0},0,null,null,null,null,0,null,null,null,null,null,null,{"$f":"Раздел2!F77","v":0},{"$f":"Раздел2!F77","v":0},{"$f":"Раздел2!H77","v":0},{"$f":"Раздел2!I77","v":0},{"$f":"Раздел2!J77","v":0},{"$f":"Раздел2!K77","v":0},null,null,null,null,null,null,null,null,{"$f":"Раздел2!D70","v":0}]
[null,"Народная гребля","63",0,{"$f":"Раздел2!H71","v":0},{"$f":"Раздел2!I71","v":0},{"$f":"Раздел2!J71","v":0},{"$f":"Раздел2!K71","v":0},0,null,null,null,null,0,null,null,null,null,null,null,{"$f":"Раздел2!F78","v":0},{"$f":"Раздел2!F78","v":0},{"$f":"Раздел2!H78","v":0},{"$f":"Раздел2!I78","v":0},{"$f":"Раздел2!J78","v":0},{"$f":"Раздел2!K78","v":0},null,null,null,null,null,null,null,null,{"$f":"Раздел2!D71","v":0}]
[null,"Прибрежная гребля","64",0,{"$f":"Раздел2!H72","v":0},{"$f":"Раздел2!I72","v":0},{"$f":"Раздел2!J72","v":0},{"$f":"Раздел2!K72","v":0},0,null,null,null,null,0,null,null,null,null,null,null,{"$f":"Раздел2!F79","v":0},{"$f":"Раздел2!F79","v":0},{"$f":"Раздел2!H79","v":0},{"$f":"Раздел2!I79","v":0},{"$f":"Раздел2!J79","v":0},{"$f":"Раздел2!K79","v":0},null,null,null,null,null,null,null,null,{"$f":"Раздел2!D72","v":0}]
[null,"Гребно-парусное двоеборье","65",0,{"$f":"Раздел2!H73","v":0},{"$f":"Раздел2!I73","v":0},{"$f":"Раздел2!J73","v":0},{"$f":"Раздел2!K73","v":0},0,null,null,null,null,0,null,null,null,null,null,null,{"$f":"Раздел2!F80","v":0},{"$f":"Раздел2!F80","v":0},{"$f":"Раздел2!H80","v":0},{"$f":"Раздел2!I80","v":0},{"$f":"Раздел2!J80","v":0},{"$f":"Раздел2!K80","v":0},null,null,null,null,null,null,null,null,{"$f":"Раздел2!D73","v":0}]
[null,"Дартс","66",{"$f":"SUM(E73:H73)","v":0},{"$f":"Раздел2!H74","v":0},{"$f":"Раздел2!I74","v":0},{"$f":"Раздел2!J74","v":0},{"$f":"Раздел2!K74","v":0},{"$f":"SUM(J73:M73)","v":0},null,null,null,null,{"$f":"SUM(O73:R73)","v":0},null,null,null,null,null,null,{"$f":"Раздел2!F81","v":0},{"$f":"Раздел2!F81","v":0},{"$f":"Раздел2!H81","v":0},{"$f":"Раздел2!I81","v":0},{"$f":"Раздел2!J81","v":0},{"$f":"Раздел2!K81","v":0},null,null,null,null,null,null,null,null,{"$f":"Раздел2!D74","v":0}]
[null,"Джиу-джитсу","67",0,{"$f":"Раздел2!H75","v":0},{"$f":"Раздел2!I75","v":0},{"$f":"Раздел2!J75","v":0},{"$f":"Раздел2!K75","v":0},0,null,null,null,null,0,null,null,null,null,null,null,{"$f":"Раздел2!F82","v":0},{"$f":"Раздел2!F82","v":0},{"$f":"Раздел2!H82","v":0},{"$f":"Раздел2!I82","v":0},{"$f":"Раздел2!J82","v":0},{"$f":"Раздел2!K82","v":0},null,null,null,null,null,null,null,null,{"$f":"Раздел2!D75","v":0}]
[null,"Дзюдо","68",0,{"$f":"Раздел2!H76","v":0},{"$f":"Раздел2!I76","v":0},{"$f":"Раздел2!J76","v":0},{"$f":"Раздел2!K76","v":0},0,null,null,null,null,0,null,null,null,null,null,null,{"$f":"Раздел2!F83","v":0},{"$f":"Раздел2!F83","v":0},{"$f":"Раздел2!H83","v":0},{"$f":"Раздел2!I83","v":0},{"$f":"Раздел2!J83","v":0},{"$f":"Раздел2!K83","v":0},null,null,null,null,null,null,null,null,{"$f":"Раздел2!D76","v":0}]
[null,"Ездовой спорт","69",0,{"$f":"Раздел2!H77","v":0},{"$f":"Раздел2!I77","v":0},{"$f":"Раздел2!J77","v":0},{"$f":"Раздел2!K77","v":0},0,null,null,null,null,0,null,null,null,null,null,null,{"$f":"Раздел2!F84","v":0},{"$f":"Раздел2!F84","v":0},{"$f":"Раздел2!H84","v":0},{"$f":"Раздел2!I84","v":0},{"$f":"Раздел2!J84","v":0},{"$f":"Раздел2!K84","v":0},null,null,null,null,null,null,null,null,{"$f":"Раздел2!D77","v":0}]
[null,"Капоэйра","70",0,{"$f":"Раздел2!H78","v":0},{"$f":"Раздел2!I78","v":0},{"$f":"Раздел2!J78","v":0},{"$f":"Раздел2!K78","v":0},0,null,null,null,null,0,null,null,null,null,null,null,{"$f":"Раздел2!F85","v":0},{"$f":"Раздел2!F85","v":0},{"$f":"Раздел2!H85","v":0},{"$f":"Раздел2!I85","v":0},{"$f":"Раздел2!J85","v":0},{"$f":"Раздел2!K85","v":0},null,null,null,null,null,null,null,null,{"$f":"Раздел2!D78","v":0}]
[null,"Каратэ","71",0,{"$f":"Раздел2!H79","v":0},{"$f":"Раздел2!I79","v":0},{"$f":"Раздел2!J79","v":0},{"$f":"Раздел2!K79","v":0},0,null,null,null,null,0,null,null,null,null,null,null,{"$f":"Раздел2!F86","v":0},{"$f":"Раздел2!F86","v":0},{"$f":"Раздел2!H86","v":0},{"$f":"Раздел2!I86","v":0},{"$f":"Раздел2!J86","v":0},{"$f":"Раздел2!K86","v":0},null,null,null,null,null,null,null,null,{"$f":"Раздел2!D79","v":0}]
[null,"Кендо","72",0,{"$f":"Раздел2!H80","v":0},{"$f":"Раздел2!I80","v":0},{"$f":"Раздел2!J80","v":0},{"$f":"Раздел2!K80","v":0},0,null,null,null,null,0,null,null,null,null,null,null,{"$f":"Раздел2!F87","v":0},{"$f":"Раздел2!F87","v":0},{"$f":"Раздел2!H87","v":0},{"$f":"Раздел2!I87","v":0},{"$f":"Раздел2!J87","v":0},{"$f":"Раздел2!K87","v":0},null,null,null,null,null,null,null,null,{"$f":"Раздел2!D80","v":0}]
[null,"Керешу","73",0,{"$f":"Раздел2!H81","v":0},{"$f":"Раздел2!I81","v":0},{"$f":"Раздел2!J81","v":0},{"$f":"Раздел2!K81","v":0},0,null,null,null,null,0,null,null,null,null,null,null,{"$f":"Раздел2!F88","v":0},{"$f":"Раздел2!F88","v":0},{"$f":"Раздел2!H88","v":0},{"$f":"Раздел2!I88","v":0},{"$f":"Раздел2!J88","v":0},{"$f":"Раздел2!K88","v":0},null,null,null,null,null,null,null,null,{"$f":"Раздел2!D81","v":0}]
[null,"Кёрлинг - всего","74",{"$f":"SUM(D82:D83)","v":0},{"$f":"SUM(E82:E83)","v":0},0,0,0,0,0,0,0,0,0,0,0,0,0,null,null,{"$f":"Раздел2!F89","v":0},{"$f":"Раздел2!F89","v":0},{"$f":"Раздел2!H89","v":0},{"$f":"Раздел2!I89","v":0},{"$f":"Раздел2!J89","v":0},{"$f":"Раздел2!K89","v":0},null,null,null,null,null,null,null,null,{"$f":"Раздел2!D82","v":0}]
[null,"в том числе:\nКерлинг (муж.)","75",0,{"$f":"Раздел2!H83","v":0},{"$f":"Раздел2!I83","v":0},{"$f":"Раздел2!J83","v":0},{"$f":"Раздел2!K83","v":0},0,null,null,null,null,0,null,null,null,null,null,null,{"$f":"Раздел2!F90","v":0},{"$f":"Раздел2!F90","v":0},{"$f":"Раздел2!H90","v":0},{"$f":"Раздел2!I90","v":0},{"$f":"Раздел2!J90","v":0},{"$f":"Раздел2!K90","v":0},null,null,null,null,null,null,null,null,{"$f":"Раздел2!D83","v":0}]
[null,"Керлинг (жен.)","76",0,{"$f":"Раздел2!H84","v":0},{"$f":"Раздел2!I84","v":0},{"$f":"Раздел2!J84","v":0},{"$f":"Раздел2!K84","v":0},0,null,null,null,null,0,null,null,null,null,null,null,{"$f":"Раздел2!F91","v":0},{"$f":"Раздел2!F91","v":0},{"$f":"Раздел2!H91","v":0},{"$f":"Раздел2!I91","v":0},{"$f":"Раздел2!J91","v":0},{"$f":"Раздел2!K91","v":0},null,null,null,null,null,null,null,null,{"$f":"Раздел2!D84","v":0}]
[null,"Кикбоксинг","77",0,{"$f":"Раздел2!H85","v":0},{"$f":"Раздел2!I85","v":0},{"$f":"Раздел2!J85","v":0},{"$f":"Раздел2!K85","v":0},0,null,null,null,null,0,null,null,null,null,null,null,{"$f":"Раздел2!F92","v":0},{"$f":"Раздел2!F92","v":0},{"$f":"Раздел2!H92","v":0},{"$f":"Раздел2!I92","v":0},{"$f":"Раздел2!J92","v":0},{"$f":"Раздел2!K92","v":0},null,null,null,null,null,null,null,null,{"$f":"Раздел2!D85","v":0}]
[null,"Кинологический спорт","78",0,{"$f":"Раздел2!H86","v":0},{"$f":"Раздел2!I86","v":0},{"$f":"Раздел2!J86","v":0},{"$f":"Раздел2!K86","v":0},0,null,null,null,null,0,null,null,null,null,null,null,{"$f":"Раздел2!F93","v":0},{"$f":"Раздел2!F93","v":0},{"$f":"Раздел2!H93","v":0},{"$f":"Раздел2!I93","v":0},{"$f":"Раздел2!J93","v":0},{"$f":"Раздел2!K93","v":0},null,null,null,null,null,null,null,null,{"$f":"Раздел2!D86","v":0}]
[null,"Киокусинкай","79",0,{"$f":"Раздел2!H87","v":0},{"$f":"Раздел2!I87","v":0},{"$f":"Раздел2!J87","v":0},{"$f":"Раздел2!K87","v":0},0,null,null,null,null,0,null,null,null,null,null,null,{"$f":"Раздел2!F94","v":0},{"$f":"Раздел2!F94","v":0},{"$f":"Раздел2!H94","v":0},{"$f":"Раздел2!I94","v":0},{"$f":"Раздел2!J94","v":0},{"$f":"Раздел2!K94","v":0},null,null,null,null,null,null,null,null,{"$f":"Раздел2!D87","v":0}]
[null,"Комплексное единоборство","80",0,{"$f":"Раздел2!H88","v":0},{"$f":"Раздел2!I88","v":0},{"$f":"Раздел2!J88","v":0},{"$f":"Раздел2!K88","v":0},0,null,null,null,null,0,null,null,null,null,null,null,{"$f":"Раздел2!F95","v":0},{"$f":"Раздел2!F95","v":0},{"$f":"Раздел2!H95","v":0},{"$f":"Раздел2!I95","v":0},{"$f":"Раздел2!J95","v":0},{"$f":"Раздел2!K95","v":0},null,null,null,null,null,null,null,null,{"$f":"Раздел2!D88","v":0}]
[null,"Компьютерный спорт","81",0,{"$f":"Раздел2!H89","v":0},{"$f":"Раздел2!I89","v":0},{"$f":"Раздел2!J89","v":0},{"$f":"Раздел2!K89","v":0},0,null,null,null,null,0,null,null,null,null,null,null,{"$f":"Раздел2!F96","v":0},{"$f":"Раздел2!F96","v":0},{"$f":"Раздел2!H96","v":0},{"$f":"Раздел2!I96","v":0},{"$f":"Раздел2!J96","v":0},{"$f":"Раздел2!K96","v":0},null,null,null,null,null,null,null,null,{"$f":"Раздел2!D89","v":0}]
[null,"Конный спорт","82",0,{"$f":"Раздел2!H90","v":0},{"$f":"Раздел2!I90","v":0},{"$f":"Раздел2!J90","v":0},{"$f":"Раздел2!K90","v":0},0,null,null,null,null,0,null,null,null,null,null,null,{"$f":"Раздел2!F97","v":0},{"$f":"Раздел2!F97","v":0},{"$f":"Раздел2!H97","v":0},{"$f":"Раздел2!I97","v":0},{"$f":"Раздел2!J97","v":0},{"$f":"Раздел2!K97","v":0},null,null,null,null,null,null,null,null,{"$f":"Раздел2!D90","v":0}]
[null,"Конькобежный спорт - всего","83",{"$f":"SUM(D91:D92)","v":0},{"$f":"SUM(E91:E92)","v":0},0,0,0,0,0,0,0,0,0,0,0,0,0,null,null,{"$f":"Раздел2!F98","v":577},{"$f":"Раздел2!F98","v":577},{"$f":"Раздел2!H98","v":0},{"$f":"Раздел2!I98","v":175},{"$f":"Раздел2!J98","v":14},{"$f":"Раздел2!K98","v":0},null,null,null,null,null,null,null,null,{"$f":"Раздел2!D91","v":0}]
[null,"в том числе:\nКонькобежный спорт","84",0,{"$f":"Раздел2!H92","v":0},{"$f":"Раздел2!I92","v":0},{"$f":"Раздел2!J92","v":0},{"$f":"Раздел2!K92","v":0},0,null,null,null,null,0,null,null,null,null,null,null,{"$f":"Раздел2!F99","v":0},{"$f":"Раздел2!F99","v":0},{"$f":"Раздел2!H99","v":0},{"$f":"Раздел2!I99","v":0},{"$f":"Раздел2!J99","v":0},{"$f":"Раздел2!K99","v":0},null,null,null,null,null,null,null,null,{"$f":"Раздел2!D92","v":0}]
[null,"Шорт-трек","85",0,{"$f":"Раздел2!H93","v":0},{"$f":"Раздел2!I93","v":0},{"$f":"Раздел2!J93","v":0},{"$f":"Раздел2!K93","v":0},0,null,null,null,null,0,null,null,null,null,null,null,{"$f":"Раздел2!F100","v":0},{"$f":"Раздел2!F100","v":0},{"$f":"Раздел2!H100","v":0},{"$f":"Раздел2!I100","v":0},{"$f":"Раздел2!J100","v":0},{"$f":"Раздел2!K100","v":0},null,null,null,null,null,null,null,null,{"$f":"Раздел2!D93","v":0}]
[null,"Корэш","86",0,{"$f":"Раздел2!H94","v":0},{"$f":"Раздел2!I94","v":0},{"$f":"Раздел2!J94","v":0},{"$f":"Раздел2!K94","v":0},0,null,null,null,null,0,null,null,null,null,null,null,{"$f":"Раздел2!F101","v":0},{"$f":"Раздел2!F101","v":0},{"$f":"Раздел2!H101","v":0},{"$f":"Раздел2!I101","v":0},{"$f":"Раздел2!J101","v":0},{"$f":"Раздел2!K101","v":0},null,null,null,null,null,null,null,null,{"$f":"Раздел2!D94","v":0}]
[null,"Корфбол","87",0,{"$f":"Раздел2!H95","v":0},{"$f":"Раздел2!I95","v":0},{"$f":"Раздел2!J95","v":0},{"$f":"Раздел2!K95","v":0},0,null,null,null,null,0,null,null,null,null,null,null,{"$f":"Раздел2!F102","v":577},{"$f":"Раздел2!F102","v":577},{"$f":"Раздел2!H102","v":0},{"$f":"Раздел2!I102","v":175},{"$f":"Раздел2!J102","v":14},{"$f":"Раздел2!K102","v":0},null,null,null,null,null,null,null,null,{"$f":"Раздел2!D95","v":0}]
[null,"Кудо","88",0,{"$f":"Раздел2!H96","v":0},{"$f":"Раздел2!I96","v":0},{"$f":"Раздел2!J96","v":0},{"$f":"Раздел2!K96","v":0},0,null,null,null,null,0,null,null,null,null,null,null,{"$f":"Раздел2!F103","v":0},{"$f":"Раздел2!F103","v":0},{"$f":"Раздел2!H103","v":0},{"$f":"Раздел2!I103","v":0},{"$f":"Раздел2!J103","v":0},{"$f":"Раздел2!K103","v":0},null,null,null,null,null,null,null,null,{"$f":"Раздел2!D96","v":0}]
[null,"Лапта","89",0,{"$f":"Раздел2!H97","v":0},{"$f":"Раздел2!I97","v":0},{"$f":"Раздел2!J97","v":0},{"$f":"Раздел2!K97","v":0},0,null,null,null,null,0,null,null,null,null,null,null,{"$f":"Раздел2!F104","v":0},{"$f":"Раздел2!F104","v":0},{"$f":"Раздел2!H104","v":0},{"$f":"Раздел2!I104","v":0},{"$f":"Раздел2!J104","v":0},{"$f":"Раздел2!K104","v":0},null,null,null,null,null,null,null,null,{"$f":"Раздел2!D97","v":0}]
[null,"Легкая атлетика - всего","90",{"$f":"SUM(D98:D104)","v":189},{"$f":"SUM(E98:E104)","v":0},175,14,0,36,0,34,2,0,36,0,33,3,0,null,null,{"$f":"Раздел2!F105","v":0},{"$f":"Раздел2!F105","v":0},{"$f":"Раздел2!H105","v":0},{"$f":"Раздел2!I105","v":0},{"$f":"Раздел2!J105","v":0},{"$f":"Раздел2!K105","v":0},null,null,null,null,null,null,null,null,{"$f":"Раздел2!D98","v":1}]
[null,"в том числе:\nСпринтерский и барьерный бег","91",0,{"$f":"Раздел2!H99","v":0},{"$f":"Раздел2!I99","v":0},{"$f":"Раздел2!J99","v":0},{"$f":"Раздел2!K99","v":0},0,null,null,null,null,0,null,null,null,null,null,null,{"$f":"Раздел2!F106","v":0},{"$f":"Раздел2!F106","v":0},{"$f":"Раздел2!H106","v":0},{"$f":"Раздел2!I106","v":0},{"$f":"Раздел2!J106","v":0},{"$f":"Раздел2!K106","v":0},null,null,null,null,null,null,null,null,{"$f":"Раздел2!D99","v":0}]
[null,"Бег на средние дистанции и бег с препятствиями","92",0,{"$f":"Раздел2!H100","v":0},{"$f":"Раздел2!I100","v":0},{"$f":"Раздел2!J100","v":0},{"$f":"Раздел2!K100","v":0},0,null,null,null,null,0,null,null,null,null,null,null,{"$f":"Раздел2!F107","v":0},{"$f":"Раздел2!F107","v":0},{"$f":"Раздел2!H107","v":0},{"$f":"Раздел2!I107","v":0},{"$f":"Раздел2!J107","v":0},{"$f":"Раздел2!K107","v":0},null,null,null,null,null,null,null,null,{"$f":"Раздел2!D100","v":0}]
[null,"Бег на длинные и сверхдлинные дистанции","93",0,{"$f":"Раздел2!H101","v":0},{"$f":"Раздел2!I101","v":0},{"$f":"Раздел2!J101","v":0},{"$f":"Раздел2!K101","v":0},0,null,null,null,null,0,null,null,null,null,null,null,{"$f":"Раздел2!F108","v":0},{"$f":"Раздел2!F108","v":0},{"$f":"Раздел2!H108","v":0},{"$f":"Раздел2!I108","v":0},{"$f":"Раздел2!J108","v":0},{"$f":"Раздел2!K108","v":0},null,null,null,null,null,null,null,null,{"$f":"Раздел2!D101","v":0}]
[null,"Многоборья","94",189,{"$f":"Раздел2!H102","v":0},{"$f":"Раздел2!I102","v":175},{"$f":"Раздел2!J102","v":14},{"$f":"Раздел2!K102","v":0},36,null,34,2,null,36,null,33,3,null,null,null,{"$f":"Раздел2!F109","v":0},{"$f":"Раздел2!F109","v":0},{"$f":"Раздел2!H109","v":0},{"$f":"Раздел2!I109","v":0},{"$f":"Раздел2!J109","v":0},{"$f":"Раздел2!K109","v":0},null,null,null,null,null,null,null,null,{"$f":"Раздел2!D102","v":1}]
[null,"Прыжки","95",0,{"$f":"Раздел2!H103","v":0},{"$f":"Раздел2!I103","v":0},{"$f":"Раздел2!J103","v":0},{"$f":"Раздел2!K103","v":0},0,null,null,null,null,0,null,null,null,null,null,null,{"$f":"Раздел2!F110","v":0},{"$f":"Раздел2!F110","v":0},{"$f":"Раздел2!H110","v":0},{"$f":"Раздел2!I110","v":0},{"$f":"Раздел2!J110","v":0},{"$f":"Раздел2!K110","v":0},null,null,null,null,null,null,null,null,{"$f":"Раздел2!D103","v":0}]
[null,"Метания","96",0,{"$f":"Раздел2!H104","v":0},{"$f":"Раздел2!I104","v":0},{"$f":"Раздел2!J104","v":0},{"$f":"Раздел2!K104","v":0},0,null,null,null,null,0,null,null,null,null,null,null,{"$f":"Раздел2!F111","v":0},{"$f":"Раздел2!F111","v":0},{"$f":"Раздел2!H111","v":0},{"$f":"Раздел2!I111","v":0},{"$f":"Раздел2!J111","v":0},{"$f":"Раздел2!K111","v":0},null,null,null,null,null,null,null,null,{"$f":"Раздел2!D104","v":0}]
[null,"Спортивная ходьба","97",0,{"$f":"Раздел2!H105","v":0},{"$f":"Раздел2!I105","v":0},{"$f":"Раздел2!J105","v":0},{"$f":"Раздел2!K105","v":0},0,null,null,null,null,0,null,null,null,null,null,null,{"$f":"Раздел2!F112","v":0},{"$f":"Раздел2!F112","v":0},{"$f":"Раздел2!H112","v":0},{"$f":"Раздел2!I112","v":0},{"$f":"Раздел2!J112","v":0},{"$f":"Раздел2!K112","v":0},null,null,null,null,null,null,null,null,{"$f":"Раздел2!D105","v":0}]
[null,"Лыжное двоеборье","98",0,{"$f":"Раздел2!H106","v":0},{"$f":"Раздел2!I106","v":0},{"$f":"Раздел2!J106","v":0},{"$f":"Раздел2!K106","v":0},0,null,null,null,null,0,null,null,null,null,null,null,{"$f":"Раздел2!F113","v":0},{"$f":"Раздел2!F113","v":0},{"$f":"Раздел2!H113","v":0},{"$f":"Раздел2!I113","v":0},{"$f":"Раздел2!J113","v":0},{"$f":"Раздел2!K113","v":0},null,null,null,null,null,null,null,null,{"$f":"Раздел2!D106","v":0}]
[null,"Лыжные гонки","99",0,{"$f":"Раздел2!H107","v":0},{"$f":"Раздел2!I107","v":0},{"$f":"Раздел2!J107","v":0},{"$f":"Раздел2!K107","v":0},0,null,null,null,null,0,null,null,null,null,null,null,{"$f":"Раздел2!F114","v":0},{"$f":"Раздел2!F114","v":0},{"$f":"Раздел2!H114","v":0},{"$f":"Раздел2!I114","v":0},{"$f":"Раздел2!J114","v":0},{"$f":"Раздел2!K114","v":0},null,null,null,null,null,null,null,null,{"$f":"Раздел2!D107","v":0}]
[null,"Мас-рестлинг","100",0,{"$f":"Раздел2!H108","v":0},{"$f":"Раздел2!I108","v":0},{"$f":"Раздел2!J108","v":0},{"$f":"Раздел2!K108","v":0},0,null,null,null,null,0,null,null,null,null,null,null,{"$f":"Раздел2!F115","v":0},{"$f":"Раздел2!F115","v":0},{"$f":"Раздел2!H115","v":0},{"$f":"Раздел2!I115","v":0},{"$f":"Раздел2!J115","v":0},{"$f":"Раздел2!K115","v":0},null,null,null,null,null,null,null,null,{"$f":"Раздел2!D108","v":0}]
[null,"Международное военно-спортивное многоборье","101",0,{"$f":"Раздел2!H109","v":0},{"$f":"Раздел2!I109","v":0},{"$f":"Раздел2!J109","v":0},{"$f":"Раздел2!K109","v":0},0,null,null,null,null,0,null,null,null,null,null,null,{"$f":"Раздел2!F116","v":0},{"$f":"Раздел2!F116","v":0},{"$f":"Раздел2!H116","v":0},{"$f":"Раздел2!I116","v":0},{"$f":"Раздел2!J116","v":0},{"$f":"Раздел2!K116","v":0},null,null,null,null,null,null,null,null,{"$f":"Раздел2!D109","v":0}]
[null,"Многоборье кинологов","102",0,{"$f":"Раздел2!H110","v":0},{"$f":"Раздел2!I110","v":0},{"$f":"Раздел2!J110","v":0},{"$f":"Раздел2!K110","v":0},0,null,null,null,null,0,null,null,null,null,null,null,{"$f":"Раздел2!F117","v":0},{"$f":"Раздел2!F117","v":0},{"$f":"Раздел2!H117","v":0},{"$f":"Раздел2!I117","v":0},{"$f":"Раздел2!J117","v":0},{"$f":"Раздел2!K117","v":0},null,null,null,null,null,null,null,null,{"$f":"Раздел2!D110","v":0}]
[null,"Многоборье спасателей МЧС России","103",0,{"$f":"Раздел2!H111","v":0},{"$f":"Раздел2!I111","v":0},{"$f":"Раздел2!J111","v":0},{"$f":"Раздел2!K111","v":0},0,null,null,null,null,0,null,null,null,null,null,null,{"$f":"Раздел2!F118","v":0},{"$f":"Раздел2!F118","v":0},{"$f":"Раздел2!H118","v":0},{"$f":"Раздел2!I118","v":0},{"$f":"Раздел2!J118","v":0},{"$f":"Раздел2!K118","v":0},null,null,null,null,null,null,null,null,{"$f":"Раздел2!D111","v":0}]
[null,"Морское многоборье","104",0,{"$f":"Раздел2!H112","v":0},{"$f":"Раздел2!I112","v":0},{"$f":"Раздел2!J112","v":0},{"$f":"Раздел2!K112","v":0},0,null,null,null,null,0,null,null,null,null,null,null,{"$f":"Раздел2!F119","v":0},{"$f":"Раздел2!F119","v":0},{"$f":"Раздел2!H119","v":0},{"$f":"Раздел2!I119","v":0},{"$f":"Раздел2!J119","v":0},{"$f":"Раздел2!K119","v":0},null,null,null,null,null,null,null,null,{"$f":"Раздел2!D112","v":0}]
[null,"Мотоциклетный спорт","105",0,{"$f":"Раздел2!H113","v":0},{"$f":"Раздел2!I113","v":0},{"$f":"Раздел2!J113","v":0},{"$f":"Раздел2!K113","v":0},0,null,null,null,null,0,null,null,null,null,null,null,{"$f":"Раздел2!F120","v":0},{"$f":"Раздел2!F120","v":0},{"$f":"Раздел2!H120","v":0},{"$f":"Раздел2!I120","v":0},{"$f":"Раздел2!J120","v":0},{"$f":"Раздел2!K120","v":0},null,null,null,null,null,null,null,null,{"$f":"Раздел2!D113","v":0}]
[null,"Настольный теннис","106",0,{"$f":"Раздел2!H114","v":0},{"$f":"Раздел2!I114","v":0},{"$f":"Раздел2!J114","v":0},{"$f":"Раздел2!K114","v":0},0,null,null,null,null,0,null,null,null,null,null,null,{"$f":"Раздел2!F121","v":0},{"$f":"Раздел2!F121","v":0},{"$f":"Раздел2!H121","v":0},{"$f":"Раздел2!I121","v":0},{"$f":"Раздел2!J121","v":0},{"$f":"Раздел2!K121","v":0},null,null,null,null,null,null,null,null,{"$f":"Раздел2!D114","v":0}]
[null,"Парашютный спорт","107",0,{"$f":"Раздел2!H115","v":0},{"$f":"Раздел2!I115","v":0},{"$f":"Раздел2!J115","v":0},{"$f":"Раздел2!K115","v":0},0,null,null,null,null,0,null,null,null,null,null,null,{"$f":"Раздел2!F122","v":0},{"$f":"Раздел2!F122","v":0},{"$f":"Раздел2!H122","v":0},{"$f":"Раздел2!I122","v":0},{"$f":"Раздел2!J122","v":0},{"$f":"Раздел2!K122","v":0},null,null,null,null,null,null,null,null,{"$f":"Раздел2!D115","v":0}]
[null,"Парусный спорт","108",0,{"$f":"Раздел2!H116","v":0},{"$f":"Раздел2!I116","v":0},{"$f":"Раздел2!J116","v":0},{"$f":"Раздел2!K116","v":0},0,null,null,null,null,0,null,null,null,null,null,null,{"$f":"Раздел2!F123","v":0},{"$f":"Раздел2!F123","v":0},{"$f":"Раздел2!H123","v":0},{"$f":"Раздел2!I123","v":0},{"$f":"Раздел2!J123","v":0},{"$f":"Раздел2!K123","v":0},null,null,null,null,null,null,null,null,{"$f":"Раздел2!D116","v":0}]
[null,"Пауэрлифтинг","109",0,{"$f":"Раздел2!H117","v":0},{"$f":"Раздел2!I117","v":0},{"$f":"Раздел2!J117","v":0},{"$f":"Раздел2!K117","v":0},0,null,null,null,null,0,null,null,null,null,null,null,{"$f":"Раздел2!F124","v":0},{"$f":"Раздел2!F124","v":0},{"$f":"Раздел2!H124","v":0},{"$f":"Раздел2!I124","v":0},{"$f":"Раздел2!J124","v":0},{"$f":"Раздел2!K124","v":0},null,null,null,null,null,null,null,null,{"$f":"Раздел2!D117","v":0}]
[null,"Перетягивание каната","110",0,{"$f":"Раздел2!H118","v":0},{"$f":"Раздел2!I118","v":0},{"$f":"Раздел2!J118","v":0},{"$f":"Раздел2!K118","v":0},0,null,null,null,null,0,null,null,null,null,null,null,{"$f":"Раздел2!F125","v":102},{"$f":"Раздел2!F125","v":102},{"$f":"Раздел2!H125","v":0},{"$f":"Раздел2!I125","v":0},{"$f":"Раздел2!J125","v":0},{"$f":"Раздел2!K125","v":0},null,null,null,null,null,null,null,null,{"$f":"Раздел2!D118","v":0}]
[null,"Петанк","111",0,{"$f":"Раздел2!H119","v":0},{"$f":"Раздел2!I119","v":0},{"$f":"Раздел2!J119","v":0},{"$f":"Раздел2!K119","v":0},0,null,null,null,null,0,null,null,null,null,null,null,{"$f":"Раздел2!F126","v":0},{"$f":"Раздел2!F126","v":0},{"$f":"Раздел2!H126","v":0},{"$f":"Раздел2!I126","v":0},{"$f":"Раздел2!J126","v":0},{"$f":"Раздел2!K126","v":0},null,null,null,null,null,null,null,null,{"$f":"Раздел2!D119","v":0}]
[null,"Плавание - всего","112",{"$f":"SUM(D120:D121)","v":0},{"$f":"SUM(E120:E121)","v":0},0,{"$f":"SUM(G120:G121)","v":0},0,0,0,0,0,0,0,0,0,0,0,null,null,{"$f":"Раздел2!F127","v":0},{"$f":"Раздел2!F127","v":0},{"$f":"Раздел2!H127","v":0},{"$f":"Раздел2!I127","v":0},{"$f":"Раздел2!J127","v":0},{"$f":"Раздел2!K127","v":0},null,null,null,null,null,null,null,null,{"$f":"Раздел2!D120","v":0}]
[null,"в том числе:\nПлавание ","113",0,{"$f":"Раздел2!H121","v":0},{"$f":"Раздел2!I121","v":0},{"$f":"Раздел2!J121","v":0},{"$f":"Раздел2!K121","v":0},0,null,null,null,null,0,null,null,null,null,null,null,{"$f":"Раздел2!F128","v":0},{"$f":"Раздел2!F128","v":0},{"$f":"Раздел2!H128","v":0},{"$f":"Раздел2!I128","v":0},{"$f":"Раздел2!J128","v":0},{"$f":"Раздел2!K128","v":0},null,null,null,null,null,null,null,null,{"$f":"Раздел2!D121","v":0}]
[null,"Открытая вода","114",0,{"$f":"Раздел2!H122","v":0},{"$f":"Раздел2!I122","v":0},{"$f":"Раздел2!J122","v":0},{"$f":"Раздел2!K122","v":0},0,null,null,null,null,0,null,null,null,null,null,null,{"$f":"Раздел2!F129","v":0},{"$f":"Раздел2!F129","v":0},{"$f":"Раздел2!H129","v":0},{"$f":"Раздел2!I129","v":0},{"$f":"Раздел2!J129","v":0},{"$f":"Раздел2!K129","v":0},null,null,null,null,null,null,null,null,{"$f":"Раздел2!D122","v":0}]
[null,"Планерный спорт","115",0,{"$f":"Раздел2!H123","v":0},{"$f":"Раздел2!I123","v":0},{"$f":"Раздел2!J123","v":0},{"$f":"Раздел2!K123","v":0},0,null,null,null,null,0,null,null,null,null,null,null,{"$f":"Раздел2!F130","v":0},{"$f":"Раздел2!F130","v":0},{"$f":"Раздел2!H130","v":0},{"$f":"Раздел2!I130","v":0},{"$f":"Раздел2!J130","v":0},{"$f":"Раздел2!K130","v":0},null,null,null,null,null,null,null,null,{"$f":"Раздел2!D123","v":0}]
[null,"Подводный спорт","116",0,{"$f":"Раздел2!H124","v":0},{"$f":"Раздел2!I124","v":0},{"$f":"Раздел2!J124","v":0},{"$f":"Раздел2!K124","v":0},0,null,null,null,null,0,null,null,null,null,null,null,{"$f":"Раздел2!F131","v":0},{"$f":"Раздел2!F131","v":0},{"$f":"Раздел2!H131","v":0},{"$f":"Раздел2!I131","v":0},{"$f":"Раздел2!J131","v":0},{"$f":"Раздел2!K131","v":0},null,null,null,null,null,null,null,null,{"$f":"Раздел2!D124","v":0}]
[null,"Пожарно-спасательный спорт","117",0,{"$f":"Раздел2!H125","v":0},{"$f":"Раздел2!I125","v":0},{"$f":"Раздел2!J125","v":0},{"$f":"Раздел2!K125","v":0},0,null,null,null,null,0,null,null,null,null,null,null,{"$f":"Раздел2!F132","v":0},{"$f":"Раздел2!F132","v":0},{"$f":"Раздел2!H132","v":0},{"$f":"Раздел2!I132","v":0},{"$f":"Раздел2!J132","v":0},{"$f":"Раздел2!K132","v":0},null,null,null,null,null,null,null,null,{"$f":"Раздел2!D125","v":1}]
[null,"Полиатлон","118",0,{"$f":"Раздел2!H126","v":0},{"$f":"Раздел2!I126","v":0},{"$f":"Раздел2!J126","v":0},{"$f":"Раздел2!K126","v":0},0,null,null,null,null,0,null,null,null,null,null,null,{"$f":"Раздел2!F133","v":0},{"$f":"Раздел2!F133","v":0},{"$f":"Раздел2!H133","v":0},{"$f":"Раздел2!I133","v":0},{"$f":"Раздел2!J133","v":0},{"$f":"Раздел2!K133","v":0},null,null,null,null,null,null,null,null,{"$f":"Раздел2!D126","v":0}]
[null,"Практическая стрельба","119",0,{"$f":"Раздел2!H127","v":0},{"$f":"Раздел2!I127","v":0},{"$f":"Раздел2!J127","v":0},{"$f":"Раздел2!K127","v":0},0,null,null,null,null,0,null,null,null,null,null,null,{"$f":"Раздел2!F134","v":0},{"$f":"Раздел2!F134","v":0},{"$f":"Раздел2!H134","v":0},{"$f":"Раздел2!I134","v":0},{"$f":"Раздел2!J134","v":0},{"$f":"Раздел2!K134","v":0},null,null,null,null,null,null,null,null,{"$f":"Раздел2!D127","v":0}]
[null,"Прыжки в воду - всего","120",{"$f":"SUM(D128:D129)","v":0},{"$f":"SUM(E128:E129)","v":0},0,0,0,0,0,0,0,0,0,0,0,0,0,null,null,{"$f":"Раздел2!F135","v":0},{"$f":"Раздел2!F135","v":0},{"$f":"Раздел2!H135","v":0},{"$f":"Раздел2!I135","v":0},{"$f":"Раздел2!J135","v":0},{"$f":"Раздел2!K135","v":0},null,null,null,null,null,null,null,null,{"$f":"Раздел2!D128","v":0}]
[null,"в том числе:\nПрыжки в воду","121",0,{"$f":"Раздел2!H129","v":0},{"$f":"Раздел2!I129","v":0},{"$f":"Раздел2!J129","v":0},{"$f":"Раздел2!K129","v":0},0,null,null,null,null,0,null,null,null,null,null,null,{"$f":"Раздел2!F136","v":0},{"$f":"Раздел2!F136","v":0},{"$f":"Раздел2!H136","v":0},{"$f":"Раздел2!I136","v":0},{"$f":"Раздел2!J136","v":0},{"$f":"Раздел2!K136","v":0},null,null,null,null,null,null,null,null,{"$f":"Раздел2!D129","v":0}]
[null,"Прыжки в открытый водоем","122",0,{"$f":"Раздел2!H130","v":0},{"$f":"Раздел2!I130","v":0},{"$f":"Раздел2!J130","v":0},{"$f":"Раздел2!K130","v":0},0,null,null,null,null,0,null,null,null,null,null,null,{"$f":"Раздел2!F137","v":0},{"$f":"Раздел2!F137","v":0},{"$f":"Раздел2!H137","v":0},{"$f":"Раздел2!I137","v":0},{"$f":"Раздел2!J137","v":0},{"$f":"Раздел2!K137","v":0},null,null,null,null,null,null,null,null,{"$f":"Раздел2!D130","v":0}]
[null,"Прыжки на батуте - всего","123",{"$f":"SUM(D131:D134)","v":0},{"$f":"SUM(E131:E134)","v":0},0,0,0,0,0,0,0,0,0,0,0,0,0,null,null,{"$f":"Раздел2!F138","v":0},{"$f":"Раздел2!F138","v":0},{"$f":"Раздел2!H138","v":0},{"$f":"Раздел2!I138","v":0},{"$f":"Раздел2!J138","v":0},{"$f":"Раздел2!K138","v":0},null,null,null,null,null,null,null,null,{"$f":"Раздел2!D131","v":0}]
[null,"в том числе:\nАкробатическая дорожка","124",0,{"$f":"Раздел2!H132","v":0},{"$f":"Раздел2!I132","v":0},{"$f":"Раздел2!J132","v":0},{"$f":"Раздел2!K132","v":0},0,null,null,null,null,0,null,null,null,null,null,null,{"$f":"Раздел2!F139","v":0},{"$f":"Раздел2!F139","v":0},{"$f":"Раздел2!H139","v":0},{"$f":"Раздел2!I139","v":0},{"$f":"Раздел2!J139","v":0},{"$f":"Раздел2!K139","v":0},null,null,null,null,null,null,null,null,{"$f":"Раздел2!D132","v":0}]
[null,"Двойной минитрамп","125",0,{"$f":"Раздел2!H133","v":0},{"$f":"Раздел2!I133","v":0},{"$f":"Раздел2!J133","v":0},{"$f":"Раздел2!K133","v":0},0,null,null,null,null,0,null,null,null,null,null,null,{"$f":"Раздел2!F140","v":0},{"$f":"Раздел2!F140","v":0},{"$f":"Раздел2!H140","v":0},{"$f":"Раздел2!I140","v":0},{"$f":"Раздел2!J140","v":0},{"$f":"Раздел2!K140","v":0},null,null,null,null,null,null,null,null,{"$f":"Раздел2!D133","v":0}]
[null,"Индивидуальные прыжки","126",0,{"$f":"Раздел2!H134","v":0},{"$f":"Раздел2!I134","v":0},{"$f":"Раздел2!J134","v":0},{"$f":"Раздел2!K134","v":0},0,null,null,null,null,0,null,null,null,null,null,null,{"$f":"Раздел2!F141","v":0},{"$f":"Раздел2!F141","v":0},{"$f":"Раздел2!H141","v":0},{"$f":"Раздел2!I141","v":0},{"$f":"Раздел2!J141","v":0},{"$f":"Раздел2!K141","v":0},null,null,null,null,null,null,null,null,{"$f":"Раздел2!D134","v":0}]
[null,"Синхронные прыжки","127",0,{"$f":"Раздел2!H135","v":0},{"$f":"Раздел2!I135","v":0},{"$f":"Раздел2!J135","v":0},{"$f":"Раздел2!K135","v":0},0,null,null,null,null,0,null,null,null,null,null,null,{"$f":"Раздел2!F142","v":0},{"$f":"Раздел2!F142","v":0},{"$f":"Раздел2!H142","v":0},{"$f":"Раздел2!I142","v":0},{"$f":"Раздел2!J142","v":0},{"$f":"Раздел2!K142","v":0},null,null,null,null,null,null,null,null,{"$f":"Раздел2!D135","v":0}]
[null,"Прыжки на лыжах с трамплина","128",0,{"$f":"Раздел2!H136","v":0},{"$f":"Раздел2!I136","v":0},{"$f":"Раздел2!J136","v":0},{"$f":"Раздел2!K136","v":0},0,null,null,null,null,0,null,null,null,null,null,null,{"$f":"Раздел2!F143","v":0},{"$f":"Раздел2!F143","v":0},{"$f":"Раздел2!H143","v":0},{"$f":"Раздел2!I143","v":0},{"$f":"Раздел2!J143","v":0},{"$f":"Раздел2!K143","v":0},null,null,null,null,null,null,null,null,{"$f":"Раздел2!D136","v":0}]
[null,"Пулевая стрельба - всего","129",{"$f":"SUM(D137:D141)","v":0},{"$f":"SUM(E137:E141)","v":0},0,0,0,0,0,0,0,0,0,0,0,0,0,null,null,{"$f":"Раздел2!F144","v":0},{"$f":"Раздел2!F144","v":0},{"$f":"Раздел2!H144","v":0},{"$f":"Раздел2!I144","v":0},{"$f":"Раздел2!J144","v":0},{"$f":"Раздел2!K144","v":0},null,null,null,null,null,null,null,null,{"$f":"Раздел2!D137","v":0}]
[null,"в том числе:\nПневматическая винтовка","130",{"$f":"SUM(E137:H137)","v":0},{"$f":"Раздел2!H138","v":0},{"$f":"Раздел2!I138","v":0},{"$f":"Раздел2!J138","v":0},{"$f":"Раздел2!K138","v":0},{"$f":"SUM(J137:M137)","v":0},null,null,null,null,{"$f":"SUM(O137:R137)","v":0},null,null,null,null,null,null,{"$f":"Раздел2!F145","v":0},{"$f":"Раздел2!F145","v":0},{"$f":"Раздел2!H145","v":0},{"$f":"Раздел2!I145","v":0},{"$f":"Раздел2!J145","v":0},{"$f":"Раздел2!K145","v":0},null,null,null,null,null,null,null,null,{"$f":"Раздел2!D138","v":0}]
[null,"Пневматический пистолет","131",0,{"$f":"Раздел2!H139","v":0},{"$f":"Раздел2!I139","v":0},{"$f":"Раздел2!J139","v":0},{"$f":"Раздел2!K139","v":0},0,null,null,null,null,0,null,null,null,null,null,null,{"$f":"Раздел2!F146","v":0},{"$f":"Раздел2!F146","v":0},{"$f":"Раздел2!H146","v":0},{"$f":"Раздел2!I146","v":0},{"$f":"Раздел2!J146","v":0},{"$f":"Раздел2!K146","v":0},null,null,null,null,null,null,null,null,{"$f":"Раздел2!D139","v":0}]
[null,"Малокалиберная винтовка","132",0,{"$f":"Раздел2!H140","v":0},{"$f":"Раздел2!I140","v":0},{"$f":"Раздел2!J140","v":0},{"$f":"Раздел2!K140","v":0},0,null,null,null,null,0,null,null,null,null,null,null,{"$f":"Раздел2!F147","v":0},{"$f":"Раздел2!F147","v":0},{"$f":"Раздел2!H147","v":0},{"$f":"Раздел2!I147","v":0},{"$f":"Раздел2!J147","v":0},{"$f":"Раздел2!K147","v":0},null,null,null,null,null,null,null,null,{"$f":"Раздел2!D140","v":0}]
[null,"Малокалиберный пистолет","133",0,{"$f":"Раздел2!H141","v":0},{"$f":"Раздел2!I141","v":0},{"$f":"Раздел2!J141","v":0},{"$f":"Раздел2!K141","v":0},0,null,null,null,null,0,null,null,null,null,null,null,{"$f":"Раздел2!F148","v":0},{"$f":"Раздел2!F148","v":0},{"$f":"Раздел2!H148","v":0},{"$f":"Раздел2!I148","v":0},{"$f":"Раздел2!J148","v":0},{"$f":"Раздел2!K148","v":0},null,null,null,null,null,null,null,null,{"$f":"Раздел2!D141","v":0}]
[null,"Движущаяся мишень","134",0,{"$f":"Раздел2!H142","v":0},{"$f":"Раздел2!I142","v":0},{"$f":"Раздел2!J142","v":0},{"$f":"Раздел2!K142","v":0},0,null,null,null,null,0,null,null,null,null,null,null,{"$f":"Раздел2!F149","v":0},{"$f":"Раздел2!F149","v":0},{"$f":"Раздел2!H149","v":0},{"$f":"Раздел2!I149","v":0},{"$f":"Раздел2!J149","v":0},{"$f":"Раздел2!K149","v":0},null,null,null,null,null,null,null,null,{"$f":"Раздел2!D142","v":0}]
[null,"Пэйнтбол","135",0,{"$f":"Раздел2!H143","v":0},{"$f":"Раздел2!I143","v":0},{"$f":"Раздел2!J143","v":0},{"$f":"Раздел2!K143","v":0},0,null,null,null,null,0,null,null,null,null,null,null,{"$f":"Раздел2!F150","v":0},{"$f":"Раздел2!F150","v":0},{"$f":"Раздел2!H150","v":0},{"$f":"Раздел2!I150","v":0},{"$f":"Раздел2!J150","v":0},{"$f":"Раздел2!K150","v":0},null,null,null,null,null,null,null,null,{"$f":"Раздел2!D143","v":0}]
[null,"Радиоспорт","136",0,{"$f":"Раздел2!H144","v":0},{"$f":"Раздел2!I144","v":0},{"$f":"Раздел2!J144","v":0},{"$f":"Раздел2!K144","v":0},0,null,null,null,null,0,null,null,null,null,null,null,{"$f":"Раздел2!F151","v":0},{"$f":"Раздел2!F151","v":0},{"$f":"Раздел2!H151","v":0},{"$f":"Раздел2!I151","v":0},{"$f":"Раздел2!J151","v":0},{"$f":"Раздел2!K151","v":0},null,null,null,null,null,null,null,null,{"$f":"Раздел2!D144","v":0}]
[null,"Рафтинг","137",0,{"$f":"Раздел2!H145","v":0},{"$f":"Раздел2!I145","v":0},{"$f":"Раздел2!J145","v":0},{"$f":"Раздел2!K145","v":0},0,null,null,null,null,0,null,null,null,null,null,null,{"$f":"Раздел2!F152","v":0},{"$f":"Раздел2!F152","v":0},{"$f":"Раздел2!H152","v":0},{"$f":"Раздел2!I152","v":0},{"$f":"Раздел2!J152","v":0},{"$f":"Раздел2!K152","v":0},null,null,null,null,null,null,null,null,{"$f":"Раздел2!D145","v":0}]
[null,"Регби - всего","138",{"$f":"SUM(D146:D149)","v":0},{"$f":"SUM(E146:E149)","v":0},0,0,0,0,0,0,0,0,0,0,0,0,0,null,null,{"$f":"Раздел2!F153","v":0},{"$f":"Раздел2!F153","v":0},{"$f":"Раздел2!H153","v":0},{"$f":"Раздел2!I153","v":0},{"$f":"Раздел2!J153","v":0},{"$f":"Раздел2!K153","v":0},null,null,null,null,null,null,null,null,{"$f":"Раздел2!D146","v":0}]
[null,"в том числе:\nРегби","139",0,{"$f":"Раздел2!H147","v":0},{"$f":"Раздел2!I147","v":0},{"$f":"Раздел2!J147","v":0},{"$f":"Раздел2!K147","v":0},0,null,null,null,null,0,null,null,null,null,null,null,{"$f":"Раздел2!F154","v":0},{"$f":"Раздел2!F154","v":0},{"$f":"Раздел2!H154","v":0},{"$f":"Раздел2!I154","v":0},{"$f":"Раздел2!J154","v":0},{"$f":"Раздел2!K154","v":0},null,null,null,null,null,null,null,null,{"$f":"Раздел2!D147","v":0}]
[null,"Регби 7 (муж.)","140",0,{"$f":"Раздел2!H148","v":0},{"$f":"Раздел2!I148","v":0},{"$f":"Раздел2!J148","v":0},{"$f":"Раздел2!K148","v":0},0,null,null,null,null,0,null,null,null,null,null,null,{"$f":"Раздел2!F155","v":0},{"$f":"Раздел2!F155","v":0},{"$f":"Раздел2!H155","v":0},{"$f":"Раздел2!I155","v":0},{"$f":"Раздел2!J155","v":0},{"$f":"Раздел2!K155","v":0},null,null,null,null,null,null,null,null,{"$f":"Раздел2!D148","v":0}]
[null,"Регби 7 (жен.)","141",0,{"$f":"Раздел2!H149","v":0},{"$f":"Раздел2!I149","v":0},{"$f":"Раздел2!J149","v":0},{"$f":"Раздел2!K149","v":0},0,null,null,null,null,0,null,null,null,null,null,null,{"$f":"Раздел2!F156","v":0},{"$f":"Раздел2!F156","v":0},{"$f":"Раздел2!H156","v":0},{"$f":"Раздел2!I156","v":0},{"$f":"Раздел2!J156","v":0},{"$f":"Раздел2!K156","v":0},null,null,null,null,null,null,null,null,{"$f":"Раздел2!D149","v":0}]
[null,"Регби - пляжное","142",0,{"$f":"Раздел2!H150","v":0},{"$f":"Раздел2!I150","v":0},{"$f":"Раздел2!J150","v":0},{"$f":"Раздел2!K150","v":0},0,null,null,null,null,0,null,null,null,null,null,null,{"$f":"Раздел2!F157","v":0},{"$f":"Раздел2!F157","v":0},{"$f":"Раздел2!H157","v":0},{"$f":"Раздел2!I157","v":0},{"$f":"Раздел2!J157","v":0},{"$f":"Раздел2!K157","v":0},null,null,null,null,null,null,null,null,{"$f":"Раздел2!D150","v":0}]
[null,"Регбол","143",0,{"$f":"Раздел2!H151","v":0},{"$f":"Раздел2!I151","v":0},{"$f":"Раздел2!J151","v":0},{"$f":"Раздел2!K151","v":0},0,null,null,null,null,0,null,null,null,null,null,null,{"$f":"Раздел2!F158","v":0},{"$f":"Раздел2!F158","v":0},{"$f":"Раздел2!H158","v":0},{"$f":"Раздел2!I158","v":0},{"$f":"Раздел2!J158","v":0},{"$f":"Раздел2!K158","v":0},null,null,null,null,null,null,null,null,{"$f":"Раздел2!D151","v":0}]
[null,"Роллер спорт","144",0,{"$f":"Раздел2!H152","v":0},{"$f":"Раздел2!I152","v":0},{"$f":"Раздел2!J152","v":0},{"$f":"Раздел2!K152","v":0},0,null,null,null,null,0,null,null,null,null,null,null,{"$f":"Раздел2!F159","v":0},{"$f":"Раздел2!F159","v":0},{"$f":"Раздел2!H159","v":0},{"$f":"Раздел2!I159","v":0},{"$f":"Раздел2!J159","v":0},{"$f":"Раздел2!K159","v":0},null,null,null,null,null,null,null,null,{"$f":"Раздел2!D152","v":0}]
[null,"Рукопашный бой","145",0,{"$f":"Раздел2!H153","v":0},{"$f":"Раздел2!I153","v":0},{"$f":"Раздел2!J153","v":0},{"$f":"Раздел2!K153","v":0},0,null,null,null,null,0,null,null,null,null,null,null,{"$f":"Раздел2!F160","v":0},{"$f":"Раздел2!F160","v":0},{"$f":"Раздел2!H160","v":0},{"$f":"Раздел2!I160","v":0},{"$f":"Раздел2!J160","v":0},{"$f":"Раздел2!K160","v":0},null,null,null,null,null,null,null,null,{"$f":"Раздел2!D153","v":0}]
[null,"Рыболовный спорт","146",0,{"$f":"Раздел2!H154","v":0},{"$f":"Раздел2!I154","v":0},{"$f":"Раздел2!J154","v":0},{"$f":"Раздел2!K154","v":0},0,null,null,null,null,0,null,null,null,null,null,null,{"$f":"Раздел2!F161","v":0},{"$f":"Раздел2!F161","v":0},{"$f":"Раздел2!H161","v":0},{"$f":"Раздел2!I161","v":0},{"$f":"Раздел2!J161","v":0},{"$f":"Раздел2!K161","v":0},null,null,null,null,null,null,null,null,{"$f":"Раздел2!D154","v":0}]
[null,"Сават","147",0,{"$f":"Раздел2!H155","v":0},{"$f":"Раздел2!I155","v":0},{"$f":"Раздел2!J155","v":0},{"$f":"Раздел2!K155","v":0},0,null,null,null,null,0,null,null,null,null,null,null,{"$f":"Раздел2!F162","v":0},{"$f":"Раздел2!F162","v":0},{"$f":"Раздел2!H162","v":0},{"$f":"Раздел2!I162","v":0},{"$f":"Раздел2!J162","v":0},{"$f":"Раздел2!K162","v":0},null,null,null,null,null,null,null,null,{"$f":"Раздел2!D155","v":0}]
[null,"Самбо","148",0,{"$f":"Раздел2!H156","v":0},{"$f":"Раздел2!I156","v":0},{"$f":"Раздел2!J156","v":0},{"$f":"Раздел2!K156","v":0},0,null,null,null,null,0,null,null,null,null,null,null,{"$f":"Раздел2!F163","v":0},{"$f":"Раздел2!F163","v":0},{"$f":"Раздел2!H163","v":0},{"$f":"Раздел2!I163","v":0},{"$f":"Раздел2!J163","v":0},{"$f":"Раздел2!K163","v":0},null,null,null,null,null,null,null,null,{"$f":"Раздел2!D156","v":0}]
[null,"Самолетный спорт","149",0,{"$f":"Раздел2!H157","v":0},{"$f":"Раздел2!I157","v":0},{"$f":"Раздел2!J157","v":0},{"$f":"Раздел2!K157","v":0},0,null,null,null,null,0,null,null,null,null,null,null,{"$f":"Раздел2!F164","v":0},{"$f":"Раздел2!F164","v":0},{"$f":"Раздел2!H164","v":0},{"$f":"Раздел2!I164","v":0},{"$f":"Раздел2!J164","v":0},{"$f":"Раздел2!K164","v":0},null,null,null,null,null,null,null,null,{"$f":"Раздел2!D157","v":0}]
[null,"Санный спорт","150",0,{"$f":"Раздел2!H158","v":0},{"$f":"Раздел2!I158","v":0},{"$f":"Раздел2!J158","v":0},{"$f":"Раздел2!K158","v":0},0,null,null,null,null,0,null,null,null,null,null,null,{"$f":"Раздел2!F165","v":0},{"$f":"Раздел2!F165","v":0},{"$f":"Раздел2!H165","v":0},{"$f":"Раздел2!I165","v":0},{"$f":"Раздел2!J165","v":0},{"$f":"Раздел2!K165","v":0},null,null,null,null,null,null,null,null,{"$f":"Раздел2!D158","v":0}]
[null,"Северное многоборье","151",0,{"$f":"Раздел2!H159","v":0},{"$f":"Раздел2!I159","v":0},{"$f":"Раздел2!J159","v":0},{"$f":"Раздел2!K159","v":0},0,null,null,null,null,0,null,null,null,null,null,null,{"$f":"Раздел2!F166","v":0},{"$f":"Раздел2!F166","v":0},{"$f":"Раздел2!H166","v":0},{"$f":"Раздел2!I166","v":0},{"$f":"Раздел2!J166","v":0},{"$f":"Раздел2!K166","v":0},null,null,null,null,null,null,null,null,{"$f":"Раздел2!D159","v":0}]
[null,"Серфинг","152",0,{"$f":"Раздел2!H160","v":0},{"$f":"Раздел2!I160","v":0},{"$f":"Раздел2!J160","v":0},{"$f":"Раздел2!K160","v":0},0,null,null,null,null,0,null,null,null,null,null,null,{"$f":"Раздел2!F167","v":0},{"$f":"Раздел2!F167","v":0},{"$f":"Раздел2!H167","v":0},{"$f":"Раздел2!I167","v":0},{"$f":"Раздел2!J167","v":0},{"$f":"Раздел2!K167","v":0},null,null,null,null,null,null,null,null,{"$f":"Раздел2!D160","v":0}]
[null,"Синхронное плавание","153",0,{"$f":"Раздел2!H161","v":0},{"$f":"Раздел2!I161","v":0},{"$f":"Раздел2!J161","v":0},{"$f":"Раздел2!K161","v":0},0,null,null,null,null,0,null,null,null,null,null,null,{"$f":"Раздел2!F168","v":0},{"$f":"Раздел2!F168","v":0},{"$f":"Раздел2!H168","v":0},{"$f":"Раздел2!I168","v":0},{"$f":"Раздел2!J168","v":0},{"$f":"Раздел2!K168","v":0},null,null,null,null,null,null,null,null,{"$f":"Раздел2!D161","v":0}]
[null,"Скалолазание","154",0,{"$f":"Раздел2!H162","v":0},{"$f":"Раздел2!I162","v":0},{"$f":"Раздел2!J162","v":0},{"$f":"Раздел2!K162","v":0},0,null,null,null,null,0,null,null,null,null,null,null,{"$f":"Раздел2!F169","v":0},{"$f":"Раздел2!F169","v":0},{"$f":"Раздел2!H169","v":0},{"$f":"Раздел2!I169","v":0},{"$f":"Раздел2!J169","v":0},{"$f":"Раздел2!K169","v":0},null,null,null,null,null,null,null,null,{"$f":"Раздел2!D162","v":0}]
[null,"Сквош","155",0,{"$f":"Раздел2!H163","v":0},{"$f":"Раздел2!I163","v":0},{"$f":"Раздел2!J163","v":0},{"$f":"Раздел2!K163","v":0},0,null,null,null,null,0,null,null,null,null,null,null,{"$f":"Раздел2!F170","v":0},{"$f":"Раздел2!F170","v":0},{"$f":"Раздел2!H170","v":0},{"$f":"Раздел2!I170","v":0},{"$f":"Раздел2!J170","v":0},{"$f":"Раздел2!K170","v":0},null,null,null,null,null,null,null,null,{"$f":"Раздел2!D163","v":0}]
[null,"Скейтбординг","156",0,{"$f":"Раздел2!H164","v":0},{"$f":"Раздел2!I164","v":0},{"$f":"Раздел2!J164","v":0},{"$f":"Раздел2!K164","v":0},0,null,null,null,null,0,null,null,null,null,null,null,{"$f":"Раздел2!F171","v":0},{"$f":"Раздел2!F171","v":0},{"$f":"Раздел2!H171","v":0},{"$f":"Раздел2!I171","v":0},{"$f":"Раздел2!J171","v":0},{"$f":"Раздел2!K171","v":0},null,null,null,null,null,null,null,null,{"$f":"Раздел2!D164","v":0}]
[null,"Служебно-прикладной спорт","157",0,{"$f":"Раздел2!H165","v":0},{"$f":"Раздел2!I165","v":0},{"$f":"Раздел2!J165","v":0},{"$f":"Раздел2!K165","v":0},0,null,null,null,null,0,null,null,null,null,null,null,{"$f":"Раздел2!F172","v":0},{"$f":"Раздел2!F172","v":0},{"$f":"Раздел2!H172","v":0},{"$f":"Раздел2!I172","v":0},{"$f":"Раздел2!J172","v":0},{"$f":"Раздел2!K172","v":0},null,null,null,null,null,null,null,null,{"$f":"Раздел2!D165","v":0}]
[null,"Служебно-прикладной спорт ФСО России","158",0,{"$f":"Раздел2!H166","v":0},{"$f":"Раздел2!I166","v":0},{"$f":"Раздел2!J166","v":0},{"$f":"Раздел2!K166","v":0},0,null,null,null,null,0,null,null,null,null,null,null,{"$f":"Раздел2!F173","v":0},{"$f":"Раздел2!F173","v":0},{"$f":"Раздел2!H173","v":0},{"$f":"Раздел2!I173","v":0},{"$f":"Раздел2!J173","v":0},{"$f":"Раздел2!K173","v":0},null,null,null,null,null,null,null,null,{"$f":"Раздел2!D166","v":0}]
[null,"Служебно-прикладной спорт ФТС России","159",0,{"$f":"Раздел2!H167","v":0},{"$f":"Раздел2!I167","v":0},{"$f":"Раздел2!J167","v":0},{"$f":"Раздел2!K167","v":0},0,null,null,null,null,0,null,null,null,null,null,null,{"$f":"Раздел2!F174","v":0},{"$f":"Раздел2!F174","v":0},{"$f":"Раздел2!H174","v":0},{"$f":"Раздел2!I174","v":0},{"$f":"Раздел2!J174","v":0},{"$f":"Раздел2!K174","v":0},null,null,null,null,null,null,null,null,{"$f":"Раздел2!D167","v":0}]
[null,"Служебное двоеборье","160",0,{"$f":"Раздел2!H168","v":0},{"$f":"Раздел2!I168","v":0},{"$f":"Раздел2!J168","v":0},{"$f":"Раздел2!K168","v":0},0,null,null,null,null,0,null,null,null,null,null,null,{"$f":"Раздел2!F175","v":0},{"$f":"Раздел2!F175","v":0},{"$f":"Раздел2!H175","v":0},{"$f":"Раздел2!I175","v":0},{"$f":"Раздел2!J175","v":0},{"$f":"Раздел2!K175","v":0},null,null,null,null,null,null,null,null,{"$f":"Раздел2!D168","v":0}]
[null,"Служебное единоборство","161",0,{"$f":"Раздел2!H169","v":0},{"$f":"Раздел2!I169","v":0},{"$f":"Раздел2!J169","v":0},{"$f":"Раздел2!K169","v":0},0,null,null,null,null,0,null,null,null,null,null,null,{"$f":"Раздел2!F176","v":0},{"$f":"Раздел2!F176","v":0},{"$f":"Раздел2!H176","v":0},{"$f":"Раздел2!I176","v":0},{"$f":"Раздел2!J176","v":0},{"$f":"Раздел2!K176","v":0},null,null,null,null,null,null,null,null,{"$f":"Раздел2!D169","v":0}]
[null,"Служебное многоборье","162",0,{"$f":"Раздел2!H170","v":0},{"$f":"Раздел2!I170","v":0},{"$f":"Раздел2!J170","v":0},{"$f":"Раздел2!K170","v":0},0,null,null,null,null,0,null,null,null,null,null,null,{"$f":"Раздел2!F177","v":0},{"$f":"Раздел2!F177","v":0},{"$f":"Раздел2!H177","v":0},{"$f":"Раздел2!I177","v":0},{"$f":"Раздел2!J177","v":0},{"$f":"Раздел2!K177","v":0},null,null,null,null,null,null,null,null,{"$f":"Раздел2!D170","v":0}]
[null,"Служебный биатлон","163",0,{"$f":"Раздел2!H171","v":0},{"$f":"Раздел2!I171","v":0},{"$f":"Раздел2!J171","v":0},{"$f":"Раздел2!K171","v":0},0,null,null,null,null,0,null,null,null,null,null,null,{"$f":"Раздел2!F178","v":0},{"$f":"Раздел2!F178","v":0},{"$f":"Раздел2!H178","v":0},{"$f":"Раздел2!I178","v":0},{"$f":"Раздел2!J178","v":0},{"$f":"Раздел2!K178","v":0},null,null,null,null,null,null,null,null,{"$f":"Раздел2!D171","v":0}]
[null,"Спасательный спорт","164",0,{"$f":"Раздел2!H172","v":0},{"$f":"Раздел2!I172","v":0},{"$f":"Раздел2!J172","v":0},{"$f":"Раздел2!K172","v":0},0,null,null,null,null,0,null,null,null,null,null,null,{"$f":"Раздел2!F179","v":0},{"$f":"Раздел2!F179","v":0},{"$f":"Раздел2!H179","v":0},{"$f":"Раздел2!I179","v":0},{"$f":"Раздел2!J179","v":0},{"$f":"Раздел2!K179","v":0},null,null,null,null,null,null,null,null,{"$f":"Раздел2!D172","v":0}]
[null,"Стрельба из боевого ручного стрелкового оружия","165",0,{"$f":"Раздел2!H173","v":0},{"$f":"Раздел2!I173","v":0},{"$f":"Раздел2!J173","v":0},{"$f":"Раздел2!K173","v":0},0,null,null,null,null,0,null,null,null,null,null,null,{"$f":"Раздел2!F180","v":128},{"$f":"Раздел2!F180","v":128},{"$f":"Раздел2!H180","v":0},{"$f":"Раздел2!I180","v":0},{"$f":"Раздел2!J180","v":0},{"$f":"Раздел2!K180","v":0},null,null,null,null,null,null,null,null,{"$f":"Раздел2!D173","v":0}]
[null,"Стрельба из штатного или табельного оружия","166",0,{"$f":"Раздел2!H174","v":0},{"$f":"Раздел2!I174","v":0},{"$f":"Раздел2!J174","v":0},{"$f":"Раздел2!K174","v":0},0,null,null,null,null,0,null,null,null,null,null,null,{"$f":"Раздел2!F181","v":0},{"$f":"Раздел2!F181","v":0},{"$f":"Раздел2!H181","v":0},{"$f":"Раздел2!I181","v":0},{"$f":"Раздел2!J181","v":0},{"$f":"Раздел2!K181","v":0},null,null,null,null,null,null,null,null,{"$f":"Раздел2!D174","v":0}]
[null,"Смешанное боевое единоборство (ММА)","167",0,{"$f":"Раздел2!H175","v":0},{"$f":"Раздел2!I175","v":0},{"$f":"Раздел2!J175","v":0},{"$f":"Раздел2!K175","v":0},0,null,null,null,null,0,null,null,null,null,null,null,{"$f":"Раздел2!F182","v":0},{"$f":"Раздел2!F182","v":0},{"$f":"Раздел2!H182","v":0},{"$f":"Раздел2!I182","v":0},{"$f":"Раздел2!J182","v":0},{"$f":"Раздел2!K182","v":0},null,null,null,null,null,null,null,null,{"$f":"Раздел2!D175","v":0}]
[null,"Сноуборд","168",0,{"$f":"Раздел2!H176","v":0},{"$f":"Раздел2!I176","v":0},{"$f":"Раздел2!J176","v":0},{"$f":"Раздел2!K176","v":0},0,null,null,null,null,0,null,null,null,null,null,null,{"$f":"Раздел2!F183","v":0},{"$f":"Раздел2!F183","v":0},{"$f":"Раздел2!H183","v":0},{"$f":"Раздел2!I183","v":0},{"$f":"Раздел2!J183","v":0},{"$f":"Раздел2!K183","v":0},null,null,null,null,null,null,null,null,{"$f":"Раздел2!D176","v":0}]
[null,"Современное пятиборье","169",0,{"$f":"Раздел2!H177","v":0},{"$f":"Раздел2!I177","v":0},{"$f":"Раздел2!J177","v":0},{"$f":"Раздел2!K177","v":0},0,null,null,null,null,0,null,null,null,null,null,null,{"$f":"Раздел2!F184","v":0},{"$f":"Раздел2!F184","v":0},{"$f":"Раздел2!H184","v":0},{"$f":"Раздел2!I184","v":0},{"$f":"Раздел2!J184","v":0},{"$f":"Раздел2!K184","v":0},null,null,null,null,null,null,null,null,{"$f":"Раздел2!D177","v":0}]
[null,"Софтбол","170",0,{"$f":"Раздел2!H178","v":0},{"$f":"Раздел2!I178","v":0},{"$f":"Раздел2!J178","v":0},{"$f":"Раздел2!K178","v":0},0,null,null,null,null,0,null,null,null,null,null,null,{"$f":"Раздел2!F185","v":0},{"$f":"Раздел2!F185","v":0},{"$f":"Раздел2!H185","v":0},{"$f":"Раздел2!I185","v":0},{"$f":"Раздел2!J185","v":0},{"$f":"Раздел2!K185","v":0},null,null,null,null,null,null,null,null,{"$f":"Раздел2!D178","v":0}]
[null,"Спорт сверхлегкой авиации","171",0,{"$f":"Раздел2!H179","v":0},{"$f":"Раздел2!I179","v":0},{"$f":"Раздел2!J179","v":0},{"$f":"Раздел2!K179","v":0},0,null,null,null,null,0,null,null,null,null,null,null,{"$f":"Раздел2!F186","v":0},{"$f":"Раздел2!F186","v":0},{"$f":"Раздел2!H186","v":0},{"$f":"Раздел2!I186","v":0},{"$f":"Раздел2!J186","v":0},{"$f":"Раздел2!K186","v":0},null,null,null,null,null,null,null,null,{"$f":"Раздел2!D179","v":0}]
[null,"Спортивная акробатика","172",0,{"$f":"Раздел2!H180","v":0},{"$f":"Раздел2!I180","v":0},{"$f":"Раздел2!J180","v":0},{"$f":"Раздел2!K180","v":0},0,null,null,null,null,0,null,null,null,null,null,null,{"$f":"Раздел2!F187","v":0},{"$f":"Раздел2!F187","v":0},{"$f":"Раздел2!H187","v":0},{"$f":"Раздел2!I187","v":0},{"$f":"Раздел2!J187","v":0},{"$f":"Раздел2!K187","v":0},null,null,null,null,null,null,null,null,{"$f":"Раздел2!D180","v":1}]
[null,"Спортивная аэробика","173",0,{"$f":"Раздел2!H181","v":0},{"$f":"Раздел2!I181","v":0},{"$f":"Раздел2!J181","v":0},{"$f":"Раздел2!K181","v":0},0,null,null,null,null,0,null,null,null,null,null,null,{"$f":"Раздел2!F188","v":201},{"$f":"Раздел2!F188","v":201},{"$f":"Раздел2!H188","v":0},{"$f":"Раздел2!I188","v":0},{"$f":"Раздел2!J188","v":0},{"$f":"Раздел2!K188","v":0},null,null,null,null,null,null,null,null,{"$f":"Раздел2!D181","v":0}]
[null,"Спортивная борьба - всего","174",{"$f":"SUM(D182:D186)","v":0},{"$f":"SUM(E182:E186)","v":0},0,0,0,0,0,0,0,0,0,0,0,0,0,null,null,{"$f":"Раздел2!F189","v":0},{"$f":"Раздел2!F189","v":0},{"$f":"Раздел2!H189","v":0},{"$f":"Раздел2!I189","v":0},{"$f":"Раздел2!J189","v":0},{"$f":"Раздел2!K189","v":0},null,null,null,null,null,null,null,null,{"$f":"Раздел2!D182","v":0}]
[null,"в том числе:\nВольная борьба","175",0,{"$f":"Раздел2!H183","v":0},{"$f":"Раздел2!I183","v":0},{"$f":"Раздел2!J183","v":0},{"$f":"Раздел2!K183","v":0},0,null,null,null,null,0,null,null,null,null,null,null,{"$f":"Раздел2!F190","v":0},{"$f":"Раздел2!F190","v":0},{"$f":"Раздел2!H190","v":0},{"$f":"Раздел2!I190","v":0},{"$f":"Раздел2!J190","v":0},{"$f":"Раздел2!K190","v":0},null,null,null,null,null,null,null,null,{"$f":"Раздел2!D183","v":0}]
[null,"Греко-римская борьба","176",0,{"$f":"Раздел2!H184","v":0},{"$f":"Раздел2!I184","v":0},{"$f":"Раздел2!J184","v":0},{"$f":"Раздел2!K184","v":0},0,null,null,null,null,0,null,null,null,null,null,null,{"$f":"Раздел2!F191","v":0},{"$f":"Раздел2!F191","v":0},{"$f":"Раздел2!H191","v":0},{"$f":"Раздел2!I191","v":0},{"$f":"Раздел2!J191","v":0},{"$f":"Раздел2!K191","v":0},null,null,null,null,null,null,null,null,{"$f":"Раздел2!D184","v":0}]
[null,"Грэпплинг","177",0,{"$f":"Раздел2!H185","v":0},{"$f":"Раздел2!I185","v":0},{"$f":"Раздел2!J185","v":0},{"$f":"Раздел2!K185","v":0},0,null,null,null,null,0,null,null,null,null,null,null,{"$f":"Раздел2!F192","v":0},{"$f":"Раздел2!F192","v":0},{"$f":"Раздел2!H192","v":0},{"$f":"Раздел2!I192","v":0},{"$f":"Раздел2!J192","v":0},{"$f":"Раздел2!K192","v":0},null,null,null,null,null,null,null,null,{"$f":"Раздел2!D185","v":0}]
[null,"Грэпплинг-ги","178",0,{"$f":"Раздел2!H186","v":0},{"$f":"Раздел2!I186","v":0},{"$f":"Раздел2!J186","v":0},{"$f":"Раздел2!K186","v":0},0,null,null,null,null,0,null,null,null,null,null,null,{"$f":"Раздел2!F193","v":0},{"$f":"Раздел2!F193","v":0},{"$f":"Раздел2!H193","v":0},{"$f":"Раздел2!I193","v":0},{"$f":"Раздел2!J193","v":0},{"$f":"Раздел2!K193","v":0},null,null,null,null,null,null,null,null,{"$f":"Раздел2!D186","v":0}]
[null,"Панкратион","179",0,{"$f":"Раздел2!H187","v":0},{"$f":"Раздел2!I187","v":0},{"$f":"Раздел2!J187","v":0},{"$f":"Раздел2!K187","v":0},0,null,null,null,null,0,null,null,null,null,null,null,{"$f":"Раздел2!F194","v":0},{"$f":"Раздел2!F194","v":0},{"$f":"Раздел2!H194","v":0},{"$f":"Раздел2!I194","v":0},{"$f":"Раздел2!J194","v":0},{"$f":"Раздел2!K194","v":0},null,null,null,null,null,null,null,null,{"$f":"Раздел2!D187","v":0}]
[null,"Спортивная гимнастика","180",0,{"$f":"Раздел2!H188","v":0},{"$f":"Раздел2!I188","v":0},{"$f":"Раздел2!J188","v":0},{"$f":"Раздел2!K188","v":0},0,null,null,null,null,0,null,null,null,null,null,null,{"$f":"Раздел2!F195","v":0},{"$f":"Раздел2!F195","v":0},{"$f":"Раздел2!H195","v":0},{"$f":"Раздел2!I195","v":0},{"$f":"Раздел2!J195","v":0},{"$f":"Раздел2!K195","v":0},null,null,null,null,null,null,null,null,{"$f":"Раздел2!D188","v":1}]
[null,"Спортивная йога","181",0,{"$f":"Раздел2!H189","v":0},{"$f":"Раздел2!I189","v":0},{"$f":"Раздел2!J189","v":0},{"$f":"Раздел2!K189","v":0},0,null,null,null,null,0,null,null,null,null,null,null,{"$f":"Раздел2!F196","v":0},{"$f":"Раздел2!F196","v":0},{"$f":"Раздел2!H196","v":0},{"$f":"Раздел2!I196","v":0},{"$f":"Раздел2!J196","v":0},{"$f":"Раздел2!K196","v":0},null,null,null,null,null,null,null,null,{"$f":"Раздел2!D189","v":0}]
[null,"Спортивно-прикладное собаководство","182",0,{"$f":"Раздел2!H190","v":0},{"$f":"Раздел2!I190","v":0},{"$f":"Раздел2!J190","v":0},{"$f":"Раздел2!K190","v":0},0,null,null,null,null,0,null,null,null,null,null,null,{"$f":"Раздел2!F197","v":0},{"$f":"Раздел2!F197","v":0},{"$f":"Раздел2!H197","v":0},{"$f":"Раздел2!I197","v":0},{"$f":"Раздел2!J197","v":0},{"$f":"Раздел2!K197","v":0},null,null,null,null,null,null,null,null,{"$f":"Раздел2!D190","v":0}]
[null,"Спортивное ориентирование","183",0,{"$f":"Раздел2!H191","v":0},{"$f":"Раздел2!I191","v":0},{"$f":"Раздел2!J191","v":0},{"$f":"Раздел2!K191","v":0},0,null,null,null,null,0,null,null,null,null,null,null,{"$f":"Раздел2!F198","v":0},{"$f":"Раздел2!F198","v":0},{"$f":"Раздел2!H198","v":0},{"$f":"Раздел2!I198","v":0},{"$f":"Раздел2!J198","v":0},{"$f":"Раздел2!K198","v":0},null,null,null,null,null,null,null,null,{"$f":"Раздел2!D191","v":0}]
[null,"Спортивный бридж","184",0,{"$f":"Раздел2!H192","v":0},{"$f":"Раздел2!I192","v":0},{"$f":"Раздел2!J192","v":0},{"$f":"Раздел2!K192","v":0},0,null,null,null,null,0,null,null,null,null,null,null,{"$f":"Раздел2!F199","v":0},{"$f":"Раздел2!F199","v":0},{"$f":"Раздел2!H199","v":0},{"$f":"Раздел2!I199","v":0},{"$f":"Раздел2!J199","v":0},{"$f":"Раздел2!K199","v":0},null,null,null,null,null,null,null,null,{"$f":"Раздел2!D192","v":0}]
[null,"Спортивный туризм","185",0,{"$f":"Раздел2!H193","v":0},{"$f":"Раздел2!I193","v":0},{"$f":"Раздел2!J193","v":0},{"$f":"Раздел2!K193","v":0},0,null,null,null,null,0,null,null,null,null,null,null,{"$f":"Раздел2!F200","v":0},{"$f":"Раздел2!F200","v":0},{"$f":"Раздел2!H200","v":0},{"$f":"Раздел2!I200","v":0},{"$f":"Раздел2!J200","v":0},{"$f":"Раздел2!K200","v":0},null,null,null,null,null,null,null,null,{"$f":"Раздел2!D193","v":0}]
[null,"Стендовая стрельба - всего","186",{"$f":"SUM(D194:D197)","v":0},{"$f":"SUM(E194:E197)","v":0},0,0,0,0,0,0,0,0,0,0,0,0,0,null,null,{"$f":"Раздел2!F201","v":0},{"$f":"Раздел2!F201","v":0},{"$f":"Раздел2!H201","v":0},{"$f":"Раздел2!I201","v":0},{"$f":"Раздел2!J201","v":0},{"$f":"Раздел2!K201","v":0},null,null,null,null,null,null,null,null,{"$f":"Раздел2!D194","v":0}]
[null,"в том числе:\nТрап","187",0,{"$f":"Раздел2!H195","v":0},{"$f":"Раздел2!I195","v":0},{"$f":"Раздел2!J195","v":0},{"$f":"Раздел2!K195","v":0},0,null,null,null,null,0,null,null,null,null,null,null,{"$f":"Раздел2!F202","v":0},{"$f":"Раздел2!F202","v":0},{"$f":"Раздел2!H202","v":0},{"$f":"Раздел2!I202","v":0},{"$f":"Раздел2!J202","v":0},{"$f":"Раздел2!K202","v":0},null,null,null,null,null,null,null,null,{"$f":"Раздел2!D195","v":0}]
[null,"Скит","188",0,{"$f":"Раздел2!H196","v":0},{"$f":"Раздел2!I196","v":0},{"$f":"Раздел2!J196","v":0},{"$f":"Раздел2!K196","v":0},0,null,null,null,null,0,null,null,null,null,null,null,{"$f":"Раздел2!F203","v":0},{"$f":"Раздел2!F203","v":0},{"$f":"Раздел2!H203","v":0},{"$f":"Раздел2!I203","v":0},{"$f":"Раздел2!J203","v":0},{"$f":"Раздел2!K203","v":0},null,null,null,null,null,null,null,null,{"$f":"Раздел2!D196","v":0}]
[null,"Дубль-трап","189",0,{"$f":"Раздел2!H197","v":0},{"$f":"Раздел2!I197","v":0},{"$f":"Раздел2!J197","v":0},{"$f":"Раздел2!K197","v":0},0,null,null,null,null,0,null,null,null,null,null,null,{"$f":"Раздел2!F204","v":0},{"$f":"Раздел2!F204","v":0},{"$f":"Раздел2!H204","v":0},{"$f":"Раздел2!I204","v":0},{"$f":"Раздел2!J204","v":0},{"$f":"Раздел2!K204","v":0},null,null,null,null,null,null,null,null,{"$f":"Раздел2!D197","v":0}]
[null,"Спортинг","190",0,{"$f":"Раздел2!H198","v":0},{"$f":"Раздел2!I198","v":0},{"$f":"Раздел2!J198","v":0},{"$f":"Раздел2!K198","v":0},0,null,null,null,null,0,null,null,null,null,null,null,{"$f":"Раздел2!F205","v":0},{"$f":"Раздел2!F205","v":0},{"$f":"Раздел2!H205","v":0},{"$f":"Раздел2!I205","v":0},{"$f":"Раздел2!J205","v":0},{"$f":"Раздел2!K205","v":0},null,null,null,null,null,null,null,null,{"$f":"Раздел2!D198","v":0}]
[null,"Стрельба из арбалета","191",0,{"$f":"Раздел2!H199","v":0},{"$f":"Раздел2!I199","v":0},{"$f":"Раздел2!J199","v":0},{"$f":"Раздел2!K199","v":0},0,null,null,null,null,0,null,null,null,null,null,null,{"$f":"Раздел2!F206","v":0},{"$f":"Раздел2!F206","v":0},{"$f":"Раздел2!H206","v":0},{"$f":"Раздел2!I206","v":0},{"$f":"Раздел2!J206","v":0},{"$f":"Раздел2!K206","v":0},null,null,null,null,null,null,null,null,{"$f":"Раздел2!D199","v":0}]
[null,"Стрельба из лука - всего","192",{"$f":"SUM(D200:D202)","v":0},{"$f":"SUM(E200:E202)","v":0},0,0,0,0,0,0,0,0,0,0,0,0,0,null,null,{"$f":"Раздел2!F207","v":0},{"$f":"Раздел2!F207","v":0},{"$f":"Раздел2!H207","v":0},{"$f":"Раздел2!I207","v":0},{"$f":"Раздел2!J207","v":0},{"$f":"Раздел2!K207","v":0},null,null,null,null,null,null,null,null,{"$f":"Раздел2!D200","v":0}]
[null,"в том числе:\nКлассический лук","193",0,{"$f":"Раздел2!H201","v":0},{"$f":"Раздел2!I201","v":0},{"$f":"Раздел2!J201","v":0},{"$f":"Раздел2!K201","v":0},0,null,null,null,null,0,null,null,null,null,null,null,{"$f":"Раздел2!F208","v":0},{"$f":"Раздел2!F208","v":0},{"$f":"Раздел2!H208","v":0},{"$f":"Раздел2!I208","v":0},{"$f":"Раздел2!J208","v":0},{"$f":"Раздел2!K208","v":0},null,null,null,null,null,null,null,null,{"$f":"Раздел2!D201","v":0}]
[null,"   Блочный лук","194",{"$f":"SUM(E201:H201)","v":0},{"$f":"Раздел2!H202","v":0},{"$f":"Раздел2!I202","v":0},{"$f":"Раздел2!J202","v":0},{"$f":"Раздел2!K202","v":0},{"$f":"SUM(J201:M201)","v":0},null,null,null,null,{"$f":"SUM(O201:R201)","v":0},null,null,null,null,null,null,{"$f":"Раздел2!F209","v":0},{"$f":"Раздел2!F209","v":0},{"$f":"Раздел2!H209","v":0},{"$f":"Раздел2!I209","v":0},{"$f":"Раздел2!J209","v":0},{"$f":"Раздел2!K209","v":0},null,null,null,null,null,null,null,null,{"$f":"Раздел2!D202","v":0}]
[null,"   Ачери ","195",0,{"$f":"Раздел2!H203","v":0},{"$f":"Раздел2!I203","v":0},{"$f":"Раздел2!J203","v":0},{"$f":"Раздел2!K203","v":0},0,null,null,null,null,0,null,null,null,null,null,null,{"$f":"Раздел2!F210","v":0},{"$f":"Раздел2!F210","v":0},{"$f":"Раздел2!H210","v":0},{"$f":"Раздел2!I210","v":0},{"$f":"Раздел2!J210","v":0},{"$f":"Раздел2!K210","v":0},null,null,null,null,null,null,null,null,{"$f":"Раздел2!D203","v":0}]
[null,"Судомодельный спорт","196",0,{"$f":"Раздел2!H204","v":0},{"$f":"Раздел2!I204","v":0},{"$f":"Раздел2!J204","v":0},{"$f":"Раздел2!K204","v":0},0,null,null,null,null,0,null,null,null,null,null,null,{"$f":"Раздел2!F211","v":0},{"$f":"Раздел2!F211","v":0},{"$f":"Раздел2!H211","v":0},{"$f":"Раздел2!I211","v":0},{"$f":"Раздел2!J211","v":0},{"$f":"Раздел2!K211","v":0},null,null,null,null,null,null,null,null,{"$f":"Раздел2!D204","v":0}]
[null,"Сумо","197",0,{"$f":"Раздел2!H205","v":0},{"$f":"Раздел2!I205","v":0},{"$f":"Раздел2!J205","v":0},{"$f":"Раздел2!K205","v":0},0,null,null,null,null,0,null,null,null,null,null,null,{"$f":"Раздел2!F212","v":0},{"$f":"Раздел2!F212","v":0},{"$f":"Раздел2!H212","v":0},{"$f":"Раздел2!I212","v":0},{"$f":"Раздел2!J212","v":0},{"$f":"Раздел2!K212","v":0},null,null,null,null,null,null,null,null,{"$f":"Раздел2!D205","v":0}]
[null,"Тайский бокс","198",0,{"$f":"Раздел2!H206","v":0},{"$f":"Раздел2!I206","v":0},{"$f":"Раздел2!J206","v":0},{"$f":"Раздел2!K206","v":0},0,null,null,null,null,0,null,null,null,null,null,null,{"$f":"Раздел2!F213","v":0},{"$f":"Раздел2!F213","v":0},{"$f":"Раздел2!H213","v":0},{"$f":"Раздел2!I213","v":0},{"$f":"Раздел2!J213","v":0},{"$f":"Раздел2!K213","v":0},null,null,null,null,null,null,null,null,{"$f":"Раздел2!D206","v":0}]
[null,"Танцевальный спорт","199",0,{"$f":"Раздел2!H207","v":0},{"$f":"Раздел2!I207","v":0},{"$f":"Раздел2!J207","v":0},{"$f":"Раздел2!K207","v":0},0,null,null,null,null,0,null,null,null,null,null,null,{"$f":"Раздел2!F214","v":0},{"$f":"Раздел2!F214","v":0},{"$f":"Раздел2!H214","v":0},{"$f":"Раздел2!I214","v":0},{"$f":"Раздел2!J214","v":0},{"$f":"Раздел2!K214","v":0},null,null,null,null,null,null,null,null,{"$f":"Раздел2!D207","v":0}]
[null,"Теннис","200",0,{"$f":"Раздел2!H208","v":0},{"$f":"Раздел2!I208","v":0},{"$f":"Раздел2!J208","v":0},{"$f":"Раздел2!K208","v":0},0,null,null,null,null,0,null,null,null,null,null,null,{"$f":"Раздел2!F215","v":0},{"$f":"Раздел2!F215","v":0},{"$f":"Раздел2!H215","v":0},{"$f":"Раздел2!I215","v":0},{"$f":"Раздел2!J215","v":0},{"$f":"Раздел2!K215","v":0},null,null,null,null,null,null,null,null,{"$f":"Раздел2!D208","v":0}]
[null,"Триатлон","201",0,{"$f":"Раздел2!H209","v":0},{"$f":"Раздел2!I209","v":0},{"$f":"Раздел2!J209","v":0},{"$f":"Раздел2!K209","v":0},0,null,null,null,null,0,null,null,null,null,null,null,{"$f":"Раздел2!F216","v":0},{"$f":"Раздел2!F216","v":0},{"$f":"Раздел2!H216","v":0},{"$f":"Раздел2!I216","v":0},{"$f":"Раздел2!J216","v":0},{"$f":"Раздел2!K216","v":0},null,null,null,null,null,null,null,null,{"$f":"Раздел2!D209","v":0}]
[null,"Тхэквондо - всего","202",{"$f":"SUM(D210:D211)","v":0},{"$f":"SUM(E210:E211)","v":0},0,0,0,0,0,0,0,0,0,0,0,0,0,null,null,{"$f":"Раздел2!F217","v":0},{"$f":"Раздел2!F217","v":0},{"$f":"Раздел2!H217","v":0},{"$f":"Раздел2!I217","v":0},{"$f":"Раздел2!J217","v":0},{"$f":"Раздел2!K217","v":0},null,null,null,null,null,null,null,null,{"$f":"Раздел2!D210","v":0}]
[null,"в том числе:\nТхэквондо (ГТФ, ИТФ, МФТ)","203",0,{"$f":"Раздел2!H211","v":0},{"$f":"Раздел2!I211","v":0},{"$f":"Раздел2!J211","v":0},{"$f":"Раздел2!K211","v":0},0,null,null,null,null,0,null,null,null,null,null,null,{"$f":"Раздел2!F218","v":0},{"$f":"Раздел2!F218","v":0},{"$f":"Раздел2!H218","v":0},{"$f":"Раздел2!I218","v":0},{"$f":"Раздел2!J218","v":0},{"$f":"Раздел2!K218","v":0},null,null,null,null,null,null,null,null,{"$f":"Раздел2!D211","v":0}]
[null,"Тхэквондо (ВТФ)","204",0,{"$f":"Раздел2!H212","v":0},{"$f":"Раздел2!I212","v":0},{"$f":"Раздел2!J212","v":0},{"$f":"Раздел2!K212","v":0},0,null,null,null,null,0,null,null,null,null,null,null,{"$f":"Раздел2!F219","v":0},{"$f":"Раздел2!F219","v":0},{"$f":"Раздел2!H219","v":0},{"$f":"Раздел2!I219","v":0},{"$f":"Раздел2!J219","v":0},{"$f":"Раздел2!K219","v":0},null,null,null,"Частично перешли",{"$f":"SUM(Раздел2!H220:K220)","v":0},null,null,null,{"$f":"Раздел2!D212","v":0}]
[null,"Тяжелая атлетика","205",0,{"$f":"Раздел2!H213","v":0},{"$f":"Раздел2!I213","v":0},{"$f":"Раздел2!J213","v":0},{"$f":"Раздел2!K213","v":0},0,null,null,null,null,0,null,null,null,null,null,null,{"$f":"Раздел2!F220","v":0},{"$f":"Раздел2!F220","v":0},{"$f":"Раздел2!H220","v":0},{"$f":"Раздел2!I220","v":0},{"$f":"Раздел2!J220","v":0},{"$f":"Раздел2!K220","v":0},null,null,null,{"$f":"Раздел1!G18","v":0},null,null,null,null,{"$f":"Раздел2!D213","v":0}]
[null,"Универсальный бой","206",0,{"$f":"Раздел2!H214","v":0},{"$f":"Раздел2!I214","v":0},{"$f":"Раздел2!J214","v":0},{"$f":"Раздел2!K214","v":0},0,null,null,null,null,0,null,null,null,null,null,null,{"$f":"Раздел2!F221","v":0},{"$f":"Раздел2!F221","v":0},{"$f":"Раздел2!H221","v":0},{"$f":"Раздел2!I221","v":0},{"$f":"Раздел2!J221","v":0},{"$f":"Раздел2!K221","v":0},null,null,null,"Полностью перешли",null,null,null,null,{"$f":"Раздел2!D214","v":0}]
[null,"Ушу","207",0,{"$f":"Раздел2!H215","v":0},{"$f":"Раздел2!I215","v":0},{"$f":"Раздел2!J215","v":0},{"$f":"Раздел2!K215","v":0},0,null,null,null,null,0,null,null,null,null,null,null,{"$f":"Раздел2!F222","v":0},{"$f":"Раздел2!F222","v":0},{"$f":"Раздел2!H222","v":0},{"$f":"Раздел2!I222","v":0},{"$f":"Раздел2!J222","v":0},{"$f":"Раздел2!K222","v":0},null,null,null,{"$f":"Раздел1!J18","v":0},null,null,null,null,{"$f":"Раздел2!D215","v":0}]
[null,"Фехтование - всего","208",{"$f":"SUM(D216:D219)","v":0},{"$f":"SUM(E216:E219)","v":0},0,0,0,0,0,0,0,0,0,0,0,0,0,null,null,{"$f":"Раздел2!F223","v":0},{"$f":"Раздел2!F223","v":0},{"$f":"Раздел2!H223","v":0},{"$f":"Раздел2!I223","v":0},{"$f":"Раздел2!J223","v":0},{"$f":"Раздел2!K223","v":0},null,null,null,null,null,null,null,null,{"$f":"Раздел2!D216","v":0}]
[null,"в том числе:\nРапира","209",0,{"$f":"Раздел2!H217","v":0},{"$f":"Раздел2!I217","v":0},{"$f":"Раздел2!J217","v":0},{"$f":"Раздел2!K217","v":0},0,null,null,null,null,0,null,null,null,null,null,null,{"$f":"Раздел2!F224","v":0},{"$f":"Раздел2!F224","v":0},{"$f":"Раздел2!H224","v":0},{"$f":"Раздел2!I224","v":0},{"$f":"Раздел2!J224","v":0},{"$f":"Раздел2!K224","v":0},null,null,null,null,null,null,null,null,{"$f":"Раздел2!D217","v":0}]
[null,"Сабля","210",0,{"$f":"Раздел2!H218","v":0},{"$f":"Раздел2!I218","v":0},{"$f":"Раздел2!J218","v":0},{"$f":"Раздел2!K218","v":0},0,null,null,null,null,0,null,null,null,null,null,null,{"$f":"Раздел2!F225","v":0},{"$f":"Раздел2!F225","v":0},{"$f":"Раздел2!H225","v":0},{"$f":"Раздел2!I225","v":0},{"$f":"Раздел2!J225","v":0},{"$f":"Раздел2!K225","v":0},null,null,null,null,null,null,null,null,{"$f":"Раздел2!D218","v":0}]
[null,"Шпага","211",0,{"$f":"Раздел2!H219","v":0},{"$f":"Раздел2!I219","v":0},{"$f":"Раздел2!J219","v":0},{"$f":"Раздел2!K219","v":0},0,null,null,null,null,0,null,null,null,null,null,null,{"$f":"Раздел2!F226","v":0},{"$f":"Раздел2!F226","v":0},{"$f":"Раздел2!H226","v":0},{"$f":"Раздел2!I226","v":0},{"$f":"Раздел2!J226","v":0},{"$f":"Раздел2!K226","v":0},null,null,null,null,null,null,null,null,{"$f":"Раздел2!D219","v":0}]
[null,"Арт-фехтование","212",0,{"$f":"Раздел2!H220","v":0},{"$f":"Раздел2!I220","v":0},{"$f":"Раздел2!J220","v":0},{"$f":"Раздел2!K220","v":0},0,null,null,null,null,0,null,null,null,null,null,null,{"$f":"Раздел2!F227","v":0},{"$f":"Раздел2!F227","v":0},{"$f":"Раздел2!H227","v":0},{"$f":"Раздел2!I227","v":0},{"$f":"Раздел2!J227","v":0},{"$f":"Раздел2!K227","v":0},null,null,null,null,null,null,null,null,{"$f":"Раздел2!D220","v":0}]
[null,"Фигурное катание на коньках","213",0,{"$f":"Раздел2!H221","v":0},{"$f":"Раздел2!I221","v":0},{"$f":"Раздел2!J221","v":0},{"$f":"Раздел2!K221","v":0},0,null,null,null,null,0,null,null,null,null,null,null,{"$f":"Раздел2!F228","v":0},{"$f":"Раздел2!F228","v":0},{"$f":"Раздел2!H228","v":0},{"$f":"Раздел2!I228","v":0},{"$f":"Раздел2!J228","v":0},{"$f":"Раздел2!K228","v":0},null,null,null,null,null,null,null,null,{"$f":"Раздел2!D221","v":0}]
[null,"Фитнес-аэробика","214",0,{"$f":"Раздел2!H222","v":0},{"$f":"Раздел2!I222","v":0},{"$f":"Раздел2!J222","v":0},{"$f":"Раздел2!K222","v":0},0,null,null,null,null,0,null,null,null,null,null,null,{"$f":"Раздел2!F229","v":0},{"$f":"Раздел2!F229","v":0},{"$f":"Раздел2!H229","v":0},{"$f":"Раздел2!I229","v":0},{"$f":"Раздел2!J229","v":0},{"$f":"Раздел2!K229","v":0},null,null,null,null,null,null,null,null,{"$f":"Раздел2!D222","v":0}]
[null,"Флаинг диск","215",0,{"$f":"Раздел2!H223","v":0},{"$f":"Раздел2!I223","v":0},{"$f":"Раздел2!J223","v":0},{"$f":"Раздел2!K223","v":0},0,null,null,null,null,0,null,null,null,null,null,null,{"$f":"Раздел2!F230","v":0},{"$f":"Раздел2!F230","v":0},{"$f":"Раздел2!H230","v":0},{"$f":"Раздел2!I230","v":0},{"$f":"Раздел2!J230","v":0},{"$f":"Раздел2!K230","v":0},null,null,null,null,null,null,null,null,{"$f":"Раздел2!D223","v":0}]
[null,"Флорбол","216",0,{"$f":"Раздел2!H224","v":0},{"$f":"Раздел2!I224","v":0},{"$f":"Раздел2!J224","v":0},{"$f":"Раздел2!K224","v":0},0,null,null,null,null,0,null,null,null,null,null,null,{"$f":"Раздел2!F231","v":0},{"$f":"Раздел2!F231","v":0},{"$f":"Раздел2!H231","v":0},{"$f":"Раздел2!I231","v":0},{"$f":"Раздел2!J231","v":0},{"$f":"Раздел2!K231","v":0},null,null,null,null,null,null,null,null,{"$f":"Раздел2!D224","v":0}]
[null,"Фристайл - всего","217",{"$f":"SUM(D225:D229)","v":0},{"$f":"SUM(E225:E229)","v":0},0,0,0,0,0,0,0,0,0,0,0,0,0,null,null,{"$f":"Раздел2!F232","v":0},{"$f":"Раздел2!F232","v":0},{"$f":"Раздел2!H232","v":0},{"$f":"Раздел2!I232","v":0},{"$f":"Раздел2!J232","v":0},{"$f":"Раздел2!K232","v":0},null,null,null,null,null,null,null,null,{"$f":"Раздел2!D225","v":0}]
[null,"в том числе:\nАкробатика","218",0,{"$f":"Раздел2!H226","v":0},{"$f":"Раздел2!I226","v":0},{"$f":"Раздел2!J226","v":0},{"$f":"Раздел2!K226","v":0},0,null,null,null,null,0,null,null,null,null,null,null,{"$f":"Раздел2!F233","v":0},{"$f":"Раздел2!F233","v":0},{"$f":"Раздел2!H233","v":0},{"$f":"Раздел2!I233","v":0},{"$f":"Раздел2!J233","v":0},{"$f":"Раздел2!K233","v":0},null,null,null,null,null,null,null,null,{"$f":"Раздел2!D226","v":0}]
[null,"Могул","219",0,{"$f":"Раздел2!H227","v":0},{"$f":"Раздел2!I227","v":0},{"$f":"Раздел2!J227","v":0},{"$f":"Раздел2!K227","v":0},0,null,null,null,null,0,null,null,null,null,null,null,{"$f":"Раздел2!F234","v":0},{"$f":"Раздел2!F234","v":0},{"$f":"Раздел2!H234","v":0},{"$f":"Раздел2!I234","v":0},{"$f":"Раздел2!J234","v":0},{"$f":"Раздел2!K234","v":0},null,null,null,null,null,null,null,null,{"$f":"Раздел2!D227","v":0}]
[null,"Ски-кросс","220",0,{"$f":"Раздел2!H228","v":0},{"$f":"Раздел2!I228","v":0},{"$f":"Раздел2!J228","v":0},{"$f":"Раздел2!K228","v":0},0,null,null,null,null,0,null,null,null,null,null,null,{"$f":"Раздел2!F235","v":0},{"$f":"Раздел2!F235","v":0},{"$f":"Раздел2!H235","v":0},{"$f":"Раздел2!I235","v":0},{"$f":"Раздел2!J235","v":0},{"$f":"Раздел2!K235","v":0},null,null,null,null,null,null,null,null,{"$f":"Раздел2!D228","v":0}]
[null,"Хаф-пайп","221",0,{"$f":"Раздел2!H229","v":0},{"$f":"Раздел2!I229","v":0},{"$f":"Раздел2!J229","v":0},{"$f":"Раздел2!K229","v":0},0,null,null,null,null,0,null,null,null,null,null,null,{"$f":"Раздел2!F236","v":0},{"$f":"Раздел2!F236","v":0},{"$f":"Раздел2!H236","v":0},{"$f":"Раздел2!I236","v":0},{"$f":"Раздел2!J236","v":0},{"$f":"Раздел2!K236","v":0},null,null,null,null,null,null,null,null,{"$f":"Раздел2!D229","v":0}]
[null,"Слоуп-стайл","222",0,{"$f":"Раздел2!H230","v":0},{"$f":"Раздел2!I230","v":0},{"$f":"Раздел2!J230","v":0},{"$f":"Раздел2!K230","v":0},0,null,null,null,null,0,null,null,null,null,null,null,{"$f":"Раздел2!F237","v":0},{"$f":"Раздел2!F237","v":0},{"$f":"Раздел2!H237","v":0},{"$f":"Раздел2!I237","v":0},{"$f":"Раздел2!J237","v":0},{"$f":"Раздел2!K237","v":0},null,null,null,null,null,null,null,null,{"$f":"Раздел2!D230","v":0}]
[null,"Функциональное многоборье","223",0,{"$f":"Раздел2!H231","v":0},{"$f":"Раздел2!I231","v":0},{"$f":"Раздел2!J231","v":0},{"$f":"Раздел2!K231","v":0},0,null,null,null,null,0,null,null,null,null,null,null,{"$f":"Раздел2!F238","v":0},{"$f":"Раздел2!F238","v":0},{"$f":"Раздел2!H238","v":0},{"$f":"Раздел2!I238","v":0},{"$f":"Раздел2!J238","v":0},{"$f":"Раздел2!K238","v":0},null,null,null,null,null,null,null,null,{"$f":"Раздел2!D231","v":0}]
[null,"Футбол - всего","224",{"$f":"SUM(D232:D235)","v":0},{"$f":"SUM(E232:E235)","v":0},0,0,0,0,0,0,0,0,0,0,0,0,0,null,null,{"$f":"Раздел2!F239","v":0},{"$f":"Раздел2!F239","v":0},{"$f":"Раздел2!H239","v":0},{"$f":"Раздел2!I239","v":0},{"$f":"Раздел2!J239","v":0},{"$f":"Раздел2!K239","v":0},null,null,null,null,null,null,null,null,{"$f":"Раздел2!D232","v":0}]
[null,"в том числе:\nФутбол (муж.)","225",0,{"$f":"Раздел2!H233","v":0},{"$f":"Раздел2!I233","v":0},{"$f":"Раздел2!J233","v":0},{"$f":"Раздел2!K233","v":0},0,null,null,null,null,0,null,null,null,null,null,null,{"$f":"Раздел2!F240","v":0},{"$f":"Раздел2!F240","v":0},{"$f":"Раздел2!H240","v":0},{"$f":"Раздел2!I240","v":0},{"$f":"Раздел2!J240","v":0},{"$f":"Раздел2!K240","v":0},null,null,null,null,null,null,null,null,{"$f":"Раздел2!D233","v":0}]
[null,"Футбол (жен.)","226",0,{"$f":"Раздел2!H234","v":0},{"$f":"Раздел2!I234","v":0},{"$f":"Раздел2!J234","v":0},{"$f":"Раздел2!K234","v":0},0,null,null,null,null,0,null,null,null,null,null,null,null,null,null,null,null,null,null,null,null,null,null,null,null,null,{"$f":"Раздел2!D234","v":0}]
[null,"Мини-футбол (футзал)","227",0,{"$f":"Раздел2!H235","v":0},{"$f":"Раздел2!I235","v":0},{"$f":"Раздел2!J235","v":0},{"$f":"Раздел2!K235","v":0},0,null,null,null,null,0,null,null,null,null,null,null,null,null,null,null,null,null,null,null,null,null,null,null,null,null,{"$f":"Раздел2!D235","v":0}]
[null,"Пляжный футбол","228",0,{"$f":"Раздел2!H236","v":0},{"$f":"Раздел2!I236","v":0},{"$f":"Раздел2!J236","v":0},{"$f":"Раздел2!K236","v":0},0,null,null,null,null,0,null,null,null,null,null,null,null,null,null,null,null,null,null,null,null,null,null,null,null,null,{"$f":"Раздел2!D236","v":0}]
[null,"Хапсагай","229",0,{"$f":"Раздел2!H237","v":0},{"$f":"Раздел2!I237","v":0},{"$f":"Раздел2!J237","v":0},{"$f":"Раздел2!K237","v":0},0,null,null,null,null,0,null,null,null,null,null,null,null,null,null,null,null,null,null,null,null,null,null,null,null,null,{"$f":"Раздел2!D237","v":0}]
[null,"Хоккей - всего","230",{"$f":"SUM(D238:D239)","v":0},{"$f":"SUM(E238:E239)","v":0},0,0,0,0,0,0,0,0,0,0,0,0,0,null,null,null,null,null,null,null,null,null,null,null,null,null,null,null,null,{"$f":"Раздел2!D238","v":0}]
[null,"в том числе:\nХоккей (муж.)","231",0,{"$f":"Раздел2!H239","v":0},{"$f":"Раздел2!I239","v":0},{"$f":"Раздел2!J239","v":0},{"$f":"Раздел2!K239","v":0},0,null,null,null,null,0,null,null,null,null,null,null,null,null,null,null,null,null,null,null,null,null,null,null,null,null,{"$f":"Раздел2!D239","v":0}]
[null,"Хоккей (жен.)","232",0,{"$f":"Раздел2!H240","v":0},{"$f":"Раздел2!I240","v":0},{"$f":"Раздел2!J240","v":0},{"$f":"Раздел2!K240","v":0},0,null,null,null,null,0,null,null,null,null,null,null,null,null,null,null,null,null,null,null,null,null,null,null,null,null,{"$f":"Раздел2!D240","v":0}]
[null,"Хоккей на траве - всего","233",{"$f":"SUM(D241:D243)","v":0},{"$f":"SUM(E241:E243)","v":0},0,0,0,0,0,0,0,0,0,0,0,0,0,null,null,null,null,null,null,null,null,null,null,null,null,null,null,null,null,{"$f":"Раздел2!D241","v":0}]
[null,"в том числе:\nХоккей на траве (муж.)","234",0,{"$f":"Раздел2!H242","v":0},{"$f":"Раздел2!I242","v":0},{"$f":"Раздел2!J242","v":0},{"$f":"Раздел2!K242","v":0},0,null,null,null,null,0,null,null,null,null,null,null,null,null,null,null,null,null,null,null,null,null,null,null,null,null,{"$f":"Раздел2!D242","v":0}]
[null,"Хоккей на траве (жен.)","235",0,{"$f":"Раздел2!H243","v":0},{"$f":"Раздел2!I243","v":0},{"$f":"Раздел2!J243","v":0},{"$f":"Раздел2!K243","v":0},0,null,null,null,null,0,null,null,null,null,null,null,null,null,null,null,null,null,null,null,null,null,null,null,null,null,{"$f":"Раздел2!D243","v":0}]
[null,"Индорхоккей","236",0,{"$f":"Раздел2!H244","v":0},{"$f":"Раздел2!I244","v":0},{"$f":"Раздел2!J244","v":0},{"$f":"Раздел2!K244","v":0},0,null,null,null,null,0,null,null,null,null,null,null,null,null,null,null,null,null,null,null,null,null,null,null,null,null,{"$f":"Раздел2!D244","v":0}]
[null,"Хоккей с мячом","237",0,{"$f":"Раздел2!H245","v":0},{"$f":"Раздел2!I245","v":0},{"$f":"Раздел2!J245","v":0},{"$f":"Раздел2!K245","v":0},0,null,null,null,null,0,null,null,null,null,null,null,null,null,null,null,null,null,null,null,null,null,null,null,null,null,{"$f":"Раздел2!D245","v":0}]
[null,"Художественная гимнастика","238",0,{"$f":"Раздел2!H246","v":0},{"$f":"Раздел2!I246","v":0},{"$f":"Раздел2!J246","v":0},{"$f":"Раздел2!K246","v":0},0,null,null,null,null,0,null,null,null,null,null,null,null,null,null,null,null,null,null,null,null,null,null,null,null,null,{"$f":"Раздел2!D246","v":0}]
[null,"Хуреш","239",0,{"$f":"Раздел2!H247","v":0},{"$f":"Раздел2!I247","v":0},{"$f":"Раздел2!J247","v":0},{"$f":"Раздел2!K247","v":0},0,null,null,null,null,0,null,null,null,null,null,null,null,null,null,null,null,null,null,null,null,null,null,null,null,null,{"$f":"Раздел2!D247","v":0}]
[null,"Чир спорт","240",0,{"$f":"Раздел2!H248","v":0},{"$f":"Раздел2!I248","v":0},{"$f":"Раздел2!J248","v":0},{"$f":"Раздел2!K248","v":0},0,null,null,null,null,0,null,null,null,null,null,null,null,null,null,null,null,null,null,null,null,null,null,null,null,null,{"$f":"Раздел2!D248","v":0}]
[null,"Шахматы","241",0,{"$f":"Раздел2!H249","v":0},{"$f":"Раздел2!I249","v":0},{"$f":"Раздел2!J249","v":0},{"$f":"Раздел2!K249","v":0},0,null,null,null,null,0,null,null,null,null,null,null,null,null,null,null,null,null,null,null,null,null,null,null,null,null,{"$f":"Раздел2!D249","v":0}]
[null,"Шашки","242",0,{"$f":"Раздел2!H250","v":0},{"$f":"Раздел2!I250","v":0},{"$f":"Раздел2!J250","v":0},{"$f":"Раздел2!K250","v":0},0,null,null,null,null,0,null,null,null,null,null,null,null,null,null,null,null,null,null,null,null,null,null,null,null,null,{"$f":"Раздел2!D250","v":0}]
[null,"Шодсанлат","243",0,{"$f":"Раздел2!H251","v":0},{"$f":"Раздел2!I251","v":0},{"$f":"Раздел2!J251","v":0},{"$f":"Раздел2!K251","v":0},0,null,null,null,null,0,null,null,null,null,null,null,null,null,null,null,null,null,null,null,null,null,null,null,null,null,{"$f":"Раздел2!D251","v":0}]
[null,"Эстетическая гимнастика","244",0,{"$f":"Раздел2!H252","v":0},{"$f":"Раздел2!I252","v":0},{"$f":"Раздел2!J252","v":0},{"$f":"Раздел2!K252","v":0},0,null,null,null,null,0,null,null,null,null,null,null,null,null,null,null,null,null,null,null,null,null,null,null,null,null,{"$f":"Раздел2!D252","v":0}]
[null,"Якутские национальные прыжки","245",0,{"$f":"Раздел2!H253","v":0},{"$f":"Раздел2!I253","v":0},{"$f":"Раздел2!J253","v":0},{"$f":"Раздел2!K253","v":0},0,null,null,null,null,0,null,null,null,null,null,null,null,null,null,null,null,null,null,null,null,null,null,null,null,null,{"$f":"Раздел2!D253","v":0}]
[null,"ИТОГО","246",189,{"$f":"SUM(E8:E19,E22:E25,E28:E32,E37:E40,E43:E47,E52:E54,E58:E67,E72:E81,E84:E90,E93:E97,E105:E119,E122:E127,E130,E135:E136,E142:E145,E150:E181,E187:E193,E198:E199,E203:E209,E212:E215,E220:E224,E230:E231,E236:E237,E240,E244:E252)","v":0},175,14,{"$f":"SUM(H8:H19,H22:H25,H28:H32,H37:H40,H43:H47,H52:H54,H58:H67,H72:H81,H84:H90,H93:H97,H105:H119,H122:H127,H130,H135:H136,H142:H145,H150:H181,H187:H193,H198:H199,H203:H209,H212:H215,H220:H224,H230:H231,H236:H237,H240,H244:H252)","v":0},36,0,34,2,0,36,0,33,{"$f":"SUM(Q8:Q19,Q22:Q25,Q28:Q32,Q37:Q40,Q43:Q47,Q52:Q54,Q58:Q67,Q72:Q81,Q84:Q90,Q93:Q97,Q105:Q119,Q122:Q127,Q130,Q135:Q136,Q142:Q145,Q150:Q181,Q187:Q193,Q198:Q199,Q203:Q209,Q212:Q215,Q220:Q224,Q230:Q231,Q236:Q237,Q240,Q244:Q252)","v":3},0,null,null,null,null,null,null,null,null,null,null,null,{"$f":"SUM(Раздел2!H254:K254,Раздел2!U254,Раздел2!W254)","v":1439},null,null,null,null,{"$f":"Раздел2!D254","v":6}]

{"sheet":"Раздел4","index":4,"n_rows":8,"n_cols":22,"rows_kept":8,"cut":false,"hidden":false,"merged":[[2,0,5,0],[0,0,0,19],[2,2,5,2],[4,7,5,7],[4,8,5,8],[4,9,5,9],[4,10,5,10],[4,11,5,11],[4,12,5,12],[2,1,5,1],[2,3,2,15],[3,3,3,15],[2,16,2,19],[3,16,3,18],[3,19,5,19],[4,3,5,3],[4,18,5,18],[4,17,5,17],[4,5,5,5],[4,6,5,6],[4,4,5,4],[4,13,5,13],[4,14,5,14],[4,15,5,15],[4,16,5,16]]}
["Раздел IV. Численность занимающихся в организациях, осуществляющих реализацию программ спортивной подготовки, в возрасте от 5 до 18 лет"]
[null,null,null,null,null,null,null,null,null,null,null,null,null,null,null,null,null,null,null,"Код по ОКЕИ: человек - 792"]
["Наименование показателя","№ строки","Всего","Возрастной состав занимающихся (число полных лет по состоянию на 31 декабря отчетного года)",null,null,null,null,null,null,null,null,null,null,null,null,"Распределение численности занимающихся по источникам финансирования (из гр. 6-10 раздела II)"]
[null,null,null,"(из гр. 6-10 раздела II)",null,null,null,null,null,null,null,null,null,null,null,null,"За счет бюджетных ассигнований:",null,null,"По договорам об оказании платных услуг"]
[null,null,null,5,6,7,8,9,10,11,12,13,14,15,16,17,"федерального бюджета","бюджета субъекта РФ","местного бюджета"]
[]
[1,2,3,4,5,6,7,8,9,10,11,12,13,14,15,16,17,18,19,20]
["Численность занимающихся в организациях, осуществляющих реализацию программ спортивной подготовки, в возрасте от 5 до 18 лет",1,{"$f":"SUM(D8:P8)","v":171},null,null,null,null,null,null,null,null,null,30,49,45,47,null,null,171,null,{"$f":"SUM(Раздел2!Q254)","v":171},{"$f":"Раздел2!Q254","v":171}]

{"sheet":"Раздел5","index":5,"n_rows":253,"n_cols":30,"rows_kept":253,"cut":false,"hidden":false,"merged":[[0,0,122,0],[2,1,5,1],[2,2,5,2],[4,4,5,4],[4,9,4,11],[2,28,5,28],[2,3,2,11],[3,12,5,12],[4,22,4,24],[4,8,5,8],[3,13,3,16],[3,8,3,11],[4,5,4,7],[3,3,5,3],[2,27,5,27],[0,25,122,25],[0,1,0,24],[4,13,5,13],[2,12,2,24],[3,17,3,20],[4,17,5,17],[3,21,3,24],[4,14,4,16],[1,16,1,24],[4,21,5,21],[3,4,3,7],[4,18,4,20]]}
[null,"Раздел V. Спортивные разряды, спортивные звания"]
[null,null,null,null,null,null,null,null,null,null,null,null,null,null,null,null,"Код по ОКЕИ: человек – 792, единица – 642"]
[null,"Виды спорта","№ строки","Из числа занимающихся (гр. 5 раздела II)\nспортсменов, имеющих разряды, звания",null,null,null,null,null,null,null,null,"Разряды, звания, присвоенные и подтвержденные в отчетном году",null,null,null,null,null,null,null,null,null,null,null,null,null,null,"Раздел2 графа3\nЧисло отделений","Раздел2 графа5\nЧисло отделений"]
[null,null,null,"Всего","спортивные разряды",null,null,null,"спортивные звания",null,null,null,"Всего","спортивные разряды присвоенные",null,null,null,"спортивные разряды подтвержденные",null,null,null,"спортивные звания присвоенные"]
[null,null,null,null,"Всего","в том числе:",null,null,"Всего","в том числе:",null,null,null,"Всего","в том числе:",null,null,"Всего","в том числе:",null,null,"Всего","в том числе:"]
[null,null,null,null,null,"КМС","1 разряд","другие разряды",null,"ЗМС","МСМК","МС",null,null,"КМС","1 разряд","другие разряды",null,"КМС","1 разряд","другие разряды",null,"ЗМС","МСМК","МС"]
[null,1,2,3,4,5,6,7,8,9,10,11,12,13,14,15,16,17,18,19,20,21,22,23,24]
[null,"Авиамодельный спорт","01",{"$f":"E8+I8","v":0},{"$f":"SUM(F8:H8)","v":0},null,null,null,{"$f":"SUM(J8:L8)","v":0},null,null,null,{"$f":"N8+V8","v":0},{"$f":"SUM(O8:Q8)","v":0},null,null,null,{"$f":"SUM(S8:U8)","v":0},null,null,null,{"$f":"SUM(W8:Y8)","v":0},null,null,null,null,null,{"$f":"Раздел2!#REF!","v":{"$error":"#REF!"}},{"$f":"Раздел2!F9","v":0},{"$f":"Раздел2!D9","v":0}]
[null,"Автомобильный спорт","02",{"$f":"E9+I9","v":0},{"$f":"SUM(F9:H9)","v":0},null,null,null,{"$f":"SUM(J9:L9)","v":0},null,null,null,{"$f":"N9+V9","v":0},{"$f":"SUM(O9:Q9)","v":0},null,null,null,{"$f":"SUM(S9:U9)","v":0},null,null,null,{"$f":"SUM(W9:Y9)","v":0},null,null,null,null,null,{"$f":"Раздел2!#REF!","v":{"$error":"#REF!"}},{"$f":"Раздел2!F10","v":0},{"$f":"Раздел2!D10","v":0}]
[null,"Автомодельный спорт","03",0,0,null,null,null,0,null,null,null,0,0,null,null,null,0,null,null,null,0,null,null,null,null,null,{"$f":"Раздел2!#REF!","v":{"$error":"#REF!"}},{"$f":"Раздел2!F12","v":0},{"$f":"Раздел2!D11","v":0}]
[null,"Айкидо","04",0,0,null,null,null,0,null,null,null,0,0,null,null,null,0,null,null,null,0,null,null,null,null,null,{"$f":"Раздел2!#REF!","v":{"$error":"#REF!"}},{"$f":"Раздел2!F14","v":0},{"$f":"Раздел2!D12","v":0}]
[null,"Айсшток","05",0,0,null,null,null,0,null,null,null,0,0,null,null,null,0,null,null,null,0,null,null,null,null,null,{"$f":"Раздел2!#REF!","v":{"$error":"#REF!"}},{"$f":"Раздел2!F15","v":0},{"$f":"Раздел2!D13","v":0}]
[null,"Акробатический рок-н-ролл","06",0,0,null,null,null,0,null,null,null,0,0,null,null,null,0,null,null,null,0,null,null,null,null,null,{"$f":"Раздел2!#REF!","v":{"$error":"#REF!"}},{"$f":"Раздел2!F16","v":0},{"$f":"Раздел2!D14","v":0}]
[null,"Альпинизм","07",0,0,null,null,null,0,null,null,null,0,0,null,null,null,0,null,null,null,0,null,null,null,null,null,{"$f":"Раздел2!#REF!","v":{"$error":"#REF!"}},{"$f":"Раздел2!F18","v":0},{"$f":"Раздел2!D15","v":0}]
[null,"Американский футбол","08",0,0,null,null,null,0,null,null,null,0,0,null,null,null,0,null,null,null,0,null,null,null,null,null,{"$f":"Раздел2!#REF!","v":{"$error":"#REF!"}},{"$f":"Раздел2!F19","v":0},{"$f":"Раздел2!D16","v":0}]
[null,"Армейский рукопашный бой","09",0,0,null,null,null,0,null,null,null,0,0,null,null,null,0,null,null,null,0,null,null,null,null,null,{"$f":"Раздел2!#REF!","v":{"$error":"#REF!"}},{"$f":"Раздел2!F20","v":248},{"$f":"Раздел2!D17","v":0}]
[null,"Армрестлинг","10",0,0,null,null,null,0,null,null,null,0,0,null,null,null,0,null,null,null,0,null,null,null,null,null,{"$f":"Раздел2!#REF!","v":{"$error":"#REF!"}},{"$f":"Раздел2!F21","v":162},{"$f":"Раздел2!D18","v":0}]
[null,"Бадминтон","11",0,0,null,null,null,0,null,null,null,0,0,null,null,null,0,null,null,null,0,null,null,null,null,null,{"$f":"Раздел2!#REF!","v":{"$error":"#REF!"}},{"$f":"Раздел2!F22","v":86},{"$f":"Раздел2!D19","v":0}]
[null,"Баскетбол - всего","12",72,{"$f":"SUM(E20:E21)","v":72},{"$f":"SUM(F20:F21)","v":0},7,65,0,0,0,0,71,71,0,2,69,0,0,0,0,0,0,0,0,null,null,{"$f":"Раздел2!#REF!","v":{"$error":"#REF!"}},{"$f":"Раздел2!F23","v":0},{"$f":"Раздел2!D20","v":1}]
[null,"в том числе:\nБаскетбол (муж.)","13",34,34,null,2,32,0,null,null,null,27,27,null,2,25,0,null,null,null,0,null,null,null,null,null,{"$f":"Раздел2!#REF!","v":{"$error":"#REF!"}},{"$f":"Раздел2!F24","v":0},{"$f":"Раздел2!D21","v":1}]
[null,"Баскетбол (жен.)","14",38,38,null,5,33,0,null,null,null,44,44,null,null,44,0,null,null,null,0,null,null,null,null,null,{"$f":"Раздел2!#REF!","v":{"$error":"#REF!"}},{"$f":"Раздел2!F25","v":0},{"$f":"Раздел2!D22","v":1}]
[null,"Бейсбол","15",0,0,null,null,null,0,null,null,null,0,0,null,null,null,0,null,null,null,0,null,null,null,null,null,{"$f":"Раздел2!#REF!","v":{"$error":"#REF!"}},{"$f":"Раздел2!F26","v":0},{"$f":"Раздел2!D23","v":0}]
[null,"Биатлон","16",0,0,null,null,null,0,null,null,null,0,0,null,null,null,0,null,null,null,0,null,null,null,null,null,{"$f":"Раздел2!#REF!","v":{"$error":"#REF!"}},{"$f":"Раздел2!F27","v":0},{"$f":"Раздел2!D24","v":0}]
[null,"Бильярдный спорт","17",0,0,null,null,null,0,null,null,null,0,0,null,null,null,0,null,null,null,0,null,null,null,null,null,{"$f":"Раздел2!#REF!","v":{"$error":"#REF!"}},{"$f":"Раздел2!F28","v":0},{"$f":"Раздел2!D25","v":0}]
[null,"Бобслей - всего","18",0,{"$f":"SUM(E26:E27)","v":0},{"$f":"SUM(F26:F27)","v":0},0,0,0,0,0,0,0,0,0,0,0,0,0,0,0,0,0,0,0,null,null,{"$f":"Раздел2!#REF!","v":{"$error":"#REF!"}},{"$f":"Раздел2!F29","v":0},{"$f":"Раздел2!D26","v":0}]
[null,"в том числе:\nБобслей","19",0,0,null,null,null,0,null,null,null,0,0,null,null,null,0,null,null,null,0,null,null,null,null,null,{"$f":"Раздел2!#REF!","v":{"$error":"#REF!"}},{"$f":"Раздел2!F30","v":0},{"$f":"Раздел2!D27","v":0}]
[null,"Скелетон","20",0,0,null,null,null,0,null,null,null,0,0,null,null,null,0,null,null,null,0,null,null,null,null,null,{"$f":"Раздел2!#REF!","v":{"$error":"#REF!"}},{"$f":"Раздел2!F31","v":0},{"$f":"Раздел2!D28","v":0}]
[null,"Бодибилдинг","21",0,0,null,null,null,0,null,null,null,0,0,null,null,null,0,null,null,null,0,null,null,null,null,null,{"$f":"Раздел2!#REF!","v":{"$error":"#REF!"}},{"$f":"Раздел2!F32","v":0},{"$f":"Раздел2!D29","v":0}]
[null,"Бокс","22",0,0,null,null,null,0,null,null,null,0,0,null,null,null,0,null,null,null,0,null,null,null,null,null,{"$f":"Раздел2!#REF!","v":{"$error":"#REF!"}},{"$f":"Раздел2!F33","v":0},{"$f":"Раздел2!D30","v":0}]
[null,"Борьба на поясах","23",0,0,null,null,null,0,null,null,null,0,0,null,null,null,0,null,null,null,0,null,null,null,null,null,{"$f":"Раздел2!#REF!","v":{"$error":"#REF!"}},{"$f":"Раздел2!F38","v":0},{"$f":"Раздел2!D31","v":0}]
[null,"Боулинг","24",0,0,null,null,null,0,null,null,null,0,0,null,null,null,0,null,null,null,0,null,null,null,null,null,{"$f":"Раздел2!#REF!","v":{"$error":"#REF!"}},{"$f":"Раздел2!F39","v":0},{"$f":"Раздел2!D32","v":0}]
[null,"Велосипедный спорт - всего","25",0,{"$f":"SUM(E33:E36)","v":0},{"$f":"SUM(F33:F36)","v":0},0,0,0,0,0,0,0,0,0,0,0,0,0,0,0,0,0,0,0,null,null,{"$f":"Раздел2!#REF!","v":{"$error":"#REF!"}},{"$f":"Раздел2!F40","v":0},{"$f":"Раздел2!D33","v":0}]
[null,"в том числе:\nBMX","26",0,0,null,null,null,0,null,null,null,0,0,null,null,null,0,null,null,null,0,null,null,null,null,null,null,null,{"$f":"Раздел2!D34","v":0}]
[null,"Маунтинбайк","27",0,0,null,null,null,0,null,null,null,0,0,null,null,null,0,null,null,null,0,null,null,null,null,null,null,null,{"$f":"Раздел2!D35","v":0}]
[null,"Трек","28",0,0,null,null,null,0,null,null,null,0,0,null,null,null,0,null,null,null,0,null,null,null,null,null,null,null,{"$f":"Раздел2!D36","v":0}]
[null,"Шоссе","29",0,0,null,null,null,0,null,null,null,0,0,null,null,null,0,null,null,null,0,null,null,null,null,null,null,null,{"$f":"Раздел2!D37","v":0}]
[null,"Вертолетный спорт","30",0,0,null,null,null,0,null,null,null,0,0,null,null,null,0,null,null,null,0,null,null,null,null,null,{"$f":"Раздел2!#REF!","v":{"$error":"#REF!"}},{"$f":"Раздел2!F44","v":0},{"$f":"Раздел2!D38","v":0}]
[null,"Водно-моторный спорт","31",0,0,null,null,null,0,null,null,null,0,0,null,null,null,0,null,null,null,0,null,null,null,null,null,{"$f":"Раздел2!#REF!","v":{"$error":"#REF!"}},{"$f":"Раздел2!F45","v":0},{"$f":"Раздел2!D39","v":0}]
[null,"Водно-спасательное многоборье","32",0,0,null,null,null,0,null,null,null,0,0,null,null,null,0,null,null,null,0,null,null,null,null,null,null,null,{"$f":"Раздел2!D40","v":0}]
[null,"Водное поло - всего ","33",0,{"$f":"SUM(E41:E42)","v":0},{"$f":"SUM(F41:F42)","v":0},0,0,0,0,0,0,0,0,0,0,0,0,0,0,0,0,0,0,0,null,null,{"$f":"Раздел2!#REF!","v":{"$error":"#REF!"}},{"$f":"Раздел2!F46","v":0},{"$f":"Раздел2!D41","v":0}]
[null,"в том числе:\nВодное поло (муж.)","34",0,0,null,null,null,0,null,null,null,0,0,null,null,null,0,null,null,null,0,null,null,null,null,null,{"$f":"Раздел2!#REF!","v":{"$error":"#REF!"}},{"$f":"Раздел2!F49","v":71},{"$f":"Раздел2!D42","v":0}]
[null,"Водное поло (жен.)","35",0,0,null,null,null,0,null,null,null,0,0,null,null,null,0,null,null,null,0,null,null,null,null,null,{"$f":"Раздел2!#REF!","v":{"$error":"#REF!"}},{"$f":"Раздел2!F50","v":112},{"$f":"Раздел2!D43","v":0}]
[null,"Воднолыжный спорт","36",0,0,null,null,null,0,null,null,null,0,0,null,null,null,0,null,null,null,0,null,null,null,null,null,{"$f":"Раздел2!#REF!","v":{"$error":"#REF!"}},{"$f":"Раздел2!F51","v":0},{"$f":"Раздел2!D44","v":0}]
[null,"Военно-прикладной спорт","37",0,0,null,null,null,0,null,null,null,0,0,null,null,null,0,null,null,null,0,null,null,null,null,null,{"$f":"Раздел2!#REF!","v":{"$error":"#REF!"}},{"$f":"Раздел2!F52","v":0},{"$f":"Раздел2!D45","v":0}]
[null,"Военно-спортивное многоборье","38",0,0,null,null,null,0,null,null,null,0,0,null,null,null,0,null,null,null,0,null,null,null,null,null,{"$f":"Раздел2!#REF!","v":{"$error":"#REF!"}},{"$f":"Раздел2!F53","v":0},{"$f":"Раздел2!D46","v":0}]
[null,"Воздухоплавательный спорт","39",0,0,null,null,null,0,null,null,null,0,0,null,null,null,0,null,null,null,0,null,null,null,null,null,{"$f":"Раздел2!#REF!","v":{"$error":"#REF!"}},{"$f":"Раздел2!F54","v":0},{"$f":"Раздел2!D47","v":0}]
[null,"Волейбол - всего","40",10,{"$f":"SUM(E48:E51)","v":10},{"$f":"SUM(F48:F51)","v":0},0,10,0,0,0,0,25,25,0,0,25,0,0,0,0,0,0,0,0,null,null,{"$f":"Раздел2!#REF!","v":{"$error":"#REF!"}},{"$f":"Раздел2!F55","v":0},{"$f":"Раздел2!D48","v":1}]
[null,"в том числе:\nВолейбол (муж.)","41",2,2,null,null,2,0,null,null,null,25,25,null,null,25,0,null,null,null,0,null,null,null,null,null,{"$f":"Раздел2!#REF!","v":{"$error":"#REF!"}},{"$f":"Раздел2!F56","v":0},{"$f":"Раздел2!D49","v":1}]
[null,"Волейбол (жен.)","42",8,8,null,null,8,0,null,null,null,0,0,null,null,null,0,null,null,null,0,null,null,null,null,null,{"$f":"Раздел2!#REF!","v":{"$error":"#REF!"}},{"$f":"Раздел2!F57","v":0},{"$f":"Раздел2!D50","v":1}]
[null,"Пляжный волейбол (муж.)","43",0,0,null,null,null,0,null,null,null,0,0,null,null,null,0,null,null,null,0,null,null,null,null,null,{"$f":"Раздел2!#REF!","v":{"$error":"#REF!"}},{"$f":"Раздел2!F58","v":0},{"$f":"Раздел2!D51","v":0}]
[null,"Пляжный волейбол (жен.)","44",0,0,null,null,null,0,null,null,null,0,0,null,null,null,0,null,null,null,0,null,null,null,null,null,{"$f":"Раздел2!#REF!","v":{"$error":"#REF!"}},{"$f":"Раздел2!F59","v":0},{"$f":"Раздел2!D52","v":0}]
[null,"Восточное боевое единоборство","45",0,0,null,null,null,0,null,null,null,0,0,null,null,null,0,null,null,null,0,null,null,null,null,null,{"$f":"Раздел2!#REF!","v":{"$error":"#REF!"}},{"$f":"Раздел2!F61","v":0},{"$f":"Раздел2!D53","v":0}]
[null,"Всестилевое каратэ","46",0,0,null,null,null,0,null,null,null,0,0,null,null,null,0,null,null,null,0,null,null,null,null,null,{"$f":"Раздел2!#REF!","v":{"$error":"#REF!"}},{"$f":"Раздел2!F62","v":0},{"$f":"Раздел2!D54","v":0}]
[null,"Гандбол - всего","47",0,{"$f":"SUM(E55:E57)","v":0},{"$f":"SUM(F55:F57)","v":0},0,0,0,0,0,0,0,0,0,0,0,0,0,0,0,0,0,0,0,null,null,{"$f":"Раздел2!#REF!","v":{"$error":"#REF!"}},{"$f":"Раздел2!F63","v":0},{"$f":"Раздел2!D55","v":0}]
[null,"в том числе:\nГандбол (муж.)","48",0,0,null,null,null,0,null,null,null,0,0,null,null,null,0,null,null,null,0,null,null,null,null,null,{"$f":"Раздел2!#REF!","v":{"$error":"#REF!"}},{"$f":"Раздел2!F64","v":0},{"$f":"Раздел2!D56","v":0}]
[null,"Гандбол (жен.)","49",0,0,null,null,null,0,null,null,null,0,0,null,null,null,0,null,null,null,0,null,null,null,null,null,{"$f":"Раздел2!#REF!","v":{"$error":"#REF!"}},{"$f":"Раздел2!F65","v":0},{"$f":"Раздел2!D57","v":0}]
[null,"Пляжный гандбол","50",0,0,null,null,null,0,null,null,null,0,0,null,null,null,0,null,null,null,0,null,null,null,null,null,{"$f":"Раздел2!#REF!","v":{"$error":"#REF!"}},{"$f":"Раздел2!F66","v":0},{"$f":"Раздел2!D58","v":0}]
[null,"Гиревой спорт","51",0,0,null,null,null,0,null,null,null,0,0,null,null,null,0,null,null,null,0,null,null,null,null,null,{"$f":"Раздел2!#REF!","v":{"$error":"#REF!"}},{"$f":"Раздел2!F68","v":0},{"$f":"Раздел2!D59","v":0}]
[null,"Го","52",0,0,null,null,null,0,null,null,null,0,0,null,null,null,0,null,null,null,0,null,null,null,null,null,{"$f":"Раздел2!#REF!","v":{"$error":"#REF!"}},{"$f":"Раздел2!F69","v":0},{"$f":"Раздел2!D60","v":0}]
[null,"Гольф","53",0,0,null,null,null,0,null,null,null,0,0,null,null,null,0,null,null,null,0,null,null,null,null,null,{"$f":"Раздел2!#REF!","v":{"$error":"#REF!"}},{"$f":"Раздел2!F70","v":0},{"$f":"Раздел2!D61","v":0}]
[null,"Гонки на охотничьих лыжах","54",0,0,null,null,null,0,null,null,null,0,0,null,null,null,0,null,null,null,0,null,null,null,null,null,null,null,{"$f":"Раздел2!D62","v":0}]
[null,"Горнолыжный спорт","55",0,0,null,null,null,0,null,null,null,0,0,null,null,null,0,null,null,null,0,null,null,null,null,null,{"$f":"Раздел2!#REF!","v":{"$error":"#REF!"}},{"$f":"Раздел2!F71","v":0},{"$f":"Раздел2!D63","v":0}]
[null,"Городошный спорт","56",0,0,null,null,null,0,null,null,null,0,0,null,null,null,0,null,null,null,0,null,null,null,null,null,{"$f":"Раздел2!#REF!","v":{"$error":"#REF!"}},{"$f":"Раздел2!F72","v":0},{"$f":"Раздел2!D64","v":0}]
[null,"Гребля на байдарках и каноэ","57",0,0,null,null,null,0,null,null,null,0,0,null,null,null,0,null,null,null,0,null,null,null,null,null,{"$f":"Раздел2!#REF!","v":{"$error":"#REF!"}},{"$f":"Раздел2!F73","v":0},{"$f":"Раздел2!D65","v":0}]
[null,"Гребля на шлюпках","58",0,0,null,null,null,0,null,null,null,0,0,null,null,null,0,null,null,null,0,null,null,null,null,null,{"$f":"Раздел2!#REF!","v":{"$error":"#REF!"}},{"$f":"Раздел2!F74","v":0},{"$f":"Раздел2!D66","v":0}]
[null,"Гребной слалом","59",0,0,null,null,null,0,null,null,null,0,0,null,null,null,0,null,null,null,0,null,null,null,null,null,{"$f":"Раздел2!#REF!","v":{"$error":"#REF!"}},{"$f":"Раздел2!F75","v":0},{"$f":"Раздел2!D67","v":0}]
[null,"Гребной спорт - всего","60",0,{"$f":"SUM(E68:E71)","v":0},{"$f":"SUM(F68:F71)","v":0},0,0,0,0,0,0,0,0,0,0,0,0,0,0,0,0,0,0,0,null,null,{"$f":"Раздел2!#REF!","v":{"$error":"#REF!"}},{"$f":"Раздел2!F76","v":0},{"$f":"Раздел2!D68","v":0}]
[null,"в том числе:\nАкадемическая гребля","61",0,0,null,null,null,0,null,null,null,0,0,null,null,null,0,null,null,null,0,null,null,null,null,null,{"$f":"Раздел2!#REF!","v":{"$error":"#REF!"}},{"$f":"Раздел2!F77","v":0},{"$f":"Раздел2!D69","v":0}]
[null,"Гребля-индор","62",0,0,null,null,null,0,null,null,null,0,0,null,null,null,0,null,null,null,0,null,null,null,null,null,{"$f":"Раздел2!#REF!","v":{"$error":"#REF!"}},{"$f":"Раздел2!F78","v":0},{"$f":"Раздел2!D70","v":0}]
[null,"Народная гребля","63",0,0,null,null,null,0,null,null,null,0,0,null,null,null,0,null,null,null,0,null,null,null,null,null,{"$f":"Раздел2!#REF!","v":{"$error":"#REF!"}},{"$f":"Раздел2!F79","v":0},{"$f":"Раздел2!D71","v":0}]
[null,"Прибрежная гребля","64",0,0,null,null,null,0,null,null,null,0,0,null,null,null,0,null,null,null,0,null,null,null,null,null,{"$f":"Раздел2!#REF!","v":{"$error":"#REF!"}},{"$f":"Раздел2!F80","v":0},{"$f":"Раздел2!D72","v":0}]
[null,"Гребно-парусное двоеборье","65",0,0,null,null,null,0,null,null,null,0,0,null,null,null,0,null,null,null,0,null,null,null,null,null,{"$f":"Раздел2!#REF!","v":{"$error":"#REF!"}},{"$f":"Раздел2!F81","v":0},{"$f":"Раздел2!D73","v":0}]
[null,"Дартс","66",{"$f":"E73+I73","v":0},{"$f":"SUM(F73:H73)","v":0},null,null,null,{"$f":"SUM(J73:L73)","v":0},null,null,null,{"$f":"N73+V73","v":0},{"$f":"SUM(O73:Q73)","v":0},null,null,null,{"$f":"SUM(S73:U73)","v":0},null,null,null,{"$f":"SUM(W73:Y73)","v":0},null,null,null,null,null,{"$f":"Раздел2!#REF!","v":{"$error":"#REF!"}},{"$f":"Раздел2!F82","v":0},{"$f":"Раздел2!D74","v":0}]
[null,"Джиу-джитсу","67",0,0,null,null,null,0,null,null,null,0,0,null,null,null,0,null,null,null,0,null,null,null,null,null,{"$f":"Раздел2!#REF!","v":{"$error":"#REF!"}},{"$f":"Раздел2!F83","v":0},{"$f":"Раздел2!D75","v":0}]
[null,"Дзюдо","68",0,0,null,null,null,0,null,null,null,0,0,null,null,null,0,null,null,null,0,null,null,null,null,null,{"$f":"Раздел2!#REF!","v":{"$error":"#REF!"}},{"$f":"Раздел2!F84","v":0},{"$f":"Раздел2!D76","v":0}]
[null,"Ездовой спорт","69",0,0,null,null,null,0,null,null,null,0,0,null,null,null,0,null,null,null,0,null,null,null,null,null,{"$f":"Раздел2!#REF!","v":{"$error":"#REF!"}},{"$f":"Раздел2!F85","v":0},{"$f":"Раздел2!D77","v":0}]
[null,"Капоэйра","70",0,0,null,null,null,0,null,null,null,0,0,null,null,null,0,null,null,null,0,null,null,null,null,null,{"$f":"Раздел2!#REF!","v":{"$error":"#REF!"}},{"$f":"Раздел2!F86","v":0},{"$f":"Раздел2!D78","v":0}]
[null,"Каратэ","71",0,0,null,null,null,0,null,null,null,0,0,null,null,null,0,null,null,null,0,null,null,null,null,null,{"$f":"Раздел2!#REF!","v":{"$error":"#REF!"}},{"$f":"Раздел2!F87","v":0},{"$f":"Раздел2!D79","v":0}]
[null,"Кендо","72",0,0,null,null,null,0,null,null,null,0,0,null,null,null,0,null,null,null,0,null,null,null,null,null,{"$f":"Раздел2!#REF!","v":{"$error":"#REF!"}},{"$f":"Раздел2!F88","v":0},{"$f":"Раздел2!D80","v":0}]
[null,"Керешу","73",0,0,null,null,null,0,null,null,null,0,0,null,null,null,0,null,null,null,0,null,null,null,null,null,{"$f":"Раздел2!#REF!","v":{"$error":"#REF!"}},{"$f":"Раздел2!F89","v":0},{"$f":"Раздел2!D81","v":0}]
[null,"Кёрлинг - всего","74",0,{"$f":"SUM(E82:E83)","v":0},{"$f":"SUM(F82:F83)","v":0},0,0,0,0,0,0,0,0,0,0,0,0,0,0,0,0,0,0,0,null,null,{"$f":"Раздел2!#REF!","v":{"$error":"#REF!"}},{"$f":"Раздел2!F90","v":0},{"$f":"Раздел2!D82","v":0}]
[null,"в том числе:\nКерлинг (муж.)","75",0,0,null,null,null,0,null,null,null,0,0,null,null,null,0,null,null,null,0,null,null,null,null,null,{"$f":"Раздел2!#REF!","v":{"$error":"#REF!"}},{"$f":"Раздел2!F91","v":0},{"$f":"Раздел2!D83","v":0}]
[null,"Керлинг (жен.)","76",0,0,null,null,null,0,null,null,null,0,0,null,null,null,0,null,null,null,0,null,null,null,null,null,{"$f":"Раздел2!#REF!","v":{"$error":"#REF!"}},{"$f":"Раздел2!F92","v":0},{"$f":"Раздел2!D84","v":0}]
[null,"Кикбоксинг","77",0,0,null,null,null,0,null,null,null,0,0,null,null,null,0,null,null,null,0,null,null,null,null,null,{"$f":"Раздел2!#REF!","v":{"$error":"#REF!"}},{"$f":"Раздел2!F93","v":0},{"$f":"Раздел2!D85","v":0}]
[null,"Кинологический спорт","78",0,0,null,null,null,0,null,null,null,0,0,null,null,null,0,null,null,null,0,null,null,null,null,null,{"$f":"Раздел2!#REF!","v":{"$error":"#REF!"}},{"$f":"Раздел2!F94","v":0},{"$f":"Раздел2!D86","v":0}]
[null,"Киокусинкай","79",0,0,null,null,null,0,null,null,null,0,0,null,null,null,0,null,null,null,0,null,null,null,null,null,{"$f":"Раздел2!#REF!","v":{"$error":"#REF!"}},{"$f":"Раздел2!F95","v":0},{"$f":"Раздел2!D87","v":0}]
[null,"Комплексное единоборство","80",0,0,null,null,null,0,null,null,null,0,0,null,null,null,0,null,null,null,0,null,null,null,null,null,{"$f":"Раздел2!#REF!","v":{"$error":"#REF!"}},{"$f":"Раздел2!F96","v":0},{"$f":"Раздел2!D88","v":0}]
[null,"Компьютерный спорт","81",0,0,null,null,null,0,null,null,null,0,0,null,null,null,0,null,null,null,0,null,null,null,null,null,{"$f":"Раздел2!#REF!","v":{"$error":"#REF!"}},{"$f":"Раздел2!F97","v":0},{"$f":"Раздел2!D89","v":0}]
[null,"Конный спорт","82",0,0,null,null,null,0,null,null,null,0,0,null,null,null,0,null,null,null,0,null,null,null,null,null,{"$f":"Раздел2!#REF!","v":{"$error":"#REF!"}},{"$f":"Раздел2!F98","v":577},{"$f":"Раздел2!D90","v":0}]
[null,"Конькобежный спорт - всего","83",0,{"$f":"SUM(E91:E92)","v":0},{"$f":"SUM(F91:F92)","v":0},0,0,0,0,0,0,0,0,0,0,0,0,0,0,0,0,0,0,0,null,null,{"$f":"Раздел2!#REF!","v":{"$error":"#REF!"}},{"$f":"Раздел2!F99","v":0},{"$f":"Раздел2!D91","v":0}]
[null,"в том числе:\nКонькобежный спорт","84",0,0,null,null,null,0,null,null,null,0,0,null,null,null,0,null,null,null,0,null,null,null,null,null,{"$f":"Раздел2!#REF!","v":{"$error":"#REF!"}},{"$f":"Раздел2!F100","v":0},{"$f":"Раздел2!D92","v":0}]
[null,"Шорт-трек","85",0,0,null,null,null,0,null,null,null,0,0,null,null,null,0,null,null,null,0,null,null,null,null,null,{"$f":"Раздел2!#REF!","v":{"$error":"#REF!"}},{"$f":"Раздел2!F101","v":0},{"$f":"Раздел2!D93","v":0}]
[null,"Корэш","86",0,0,null,null,null,0,null,null,null,0,0,null,null,null,0,null,null,null,0,null,null,null,null,null,{"$f":"Раздел2!#REF!","v":{"$error":"#REF!"}},{"$f":"Раздел2!F102","v":577},{"$f":"Раздел2!D94","v":0}]
[null,"Корфбол","87",0,0,null,null,null,0,null,null,null,0,0,null,null,null,0,null,null,null,0,null,null,null,null,null,{"$f":"Раздел2!#REF!","v":{"$error":"#REF!"}},{"$f":"Раздел2!F103","v":0},{"$f":"Раздел2!D95","v":0}]
[null,"Кудо","88",0,0,null,null,null,0,null,null,null,0,0,null,null,null,0,null,null,null,0,null,null,null,null,null,null,null,{"$f":"Раздел2!D96","v":0}]
[null,"Лапта","89",0,0,null,null,null,0,null,null,null,0,0,null,null,null,0,null,null,null,0,null,null,null,null,null,{"$f":"Раздел2!#REF!","v":{"$error":"#REF!"}},{"$f":"Раздел2!F104","v":0},{"$f":"Раздел2!D97","v":0}]
[null,"Легкая атлетика - всего","90",389,{"$f":"SUM(E98:E104)","v":386},{"$f":"SUM(F98:F104)","v":10},16,360,3,0,0,3,506,506,2,9,495,63,4,0,59,0,0,0,0,null,null,{"$f":"Раздел2!#REF!","v":{"$error":"#REF!"}},{"$f":"Раздел2!F105","v":0},{"$f":"Раздел2!D98","v":1}]
[null,"в том числе:\nСпринтерский и барьерный бег","91",0,0,null,null,null,0,null,null,null,0,0,null,null,null,0,null,null,null,0,null,null,null,null,null,{"$f":"Раздел2!#REF!","v":{"$error":"#REF!"}},{"$f":"Раздел2!F106","v":0},{"$f":"Раздел2!D99","v":0}]
[null,"Бег на средние дистанции и бег с препятствиями","92",0,0,null,null,null,0,null,null,null,0,0,null,null,null,0,null,null,null,0,null,null,null,null,null,{"$f":"Раздел2!#REF!","v":{"$error":"#REF!"}},{"$f":"Раздел2!F107","v":0},{"$f":"Раздел2!D100","v":0}]
[null,"Бег на длинные и сверхдлинные дистанции","93",0,0,null,null,null,0,null,null,null,0,0,null,null,null,0,null,null,null,0,null,null,null,null,null,{"$f":"Раздел2!#REF!","v":{"$error":"#REF!"}},{"$f":"Раздел2!F108","v":0},{"$f":"Раздел2!D101","v":0}]
[null,"Многоборья","94",389,386,10,16,360,3,null,null,3,506,506,2,9,495,63,4,null,59,0,null,null,null,null,null,{"$f":"Раздел2!#REF!","v":{"$error":"#REF!"}},{"$f":"Раздел2!F109","v":0},{"$f":"Раздел2!D102","v":1}]
[null,"Прыжки","95",0,0,null,null,null,0,null,null,null,0,0,null,null,null,0,null,null,null,0,null,null,null,null,null,{"$f":"Раздел2!#REF!","v":{"$error":"#REF!"}},{"$f":"Раздел2!F110","v":0},{"$f":"Раздел2!D103","v":0}]
[null,"Метания","96",0,0,null,null,null,0,null,null,null,0,0,null,null,null,0,null,null,null,0,null,null,null,null,null,{"$f":"Раздел2!#REF!","v":{"$error":"#REF!"}},{"$f":"Раздел2!F111","v":0},{"$f":"Раздел2!D104","v":0}]
[null,"Спортивная ходьба","97",0,0,null,null,null,0,null,null,null,0,0,null,null,null,0,null,null,null,0,null,null,null,null,null,{"$f":"Раздел2!#REF!","v":{"$error":"#REF!"}},{"$f":"Раздел2!F112","v":0},{"$f":"Раздел2!D105","v":0}]
[null,"Лыжное двоеборье","98",0,0,null,null,null,0,null,null,null,0,0,null,null,null,0,null,null,null,0,null,null,null,null,null,{"$f":"Раздел2!#REF!","v":{"$error":"#REF!"}},{"$f":"Раздел2!F113","v":0},{"$f":"Раздел2!D106","v":0}]
[null,"Лыжные гонки","99",0,0,null,null,null,0,null,null,null,0,0,null,null,null,0,null,null,null,0,null,null,null,null,null,{"$f":"Раздел2!#REF!","v":{"$error":"#REF!"}},{"$f":"Раздел2!F114","v":0},{"$f":"Раздел2!D107","v":0}]
[null,"Мас-рестлинг","100",0,0,null,null,null,0,null,null,null,0,0,null,null,null,0,null,null,null,0,null,null,null,null,null,{"$f":"Раздел2!#REF!","v":{"$error":"#REF!"}},{"$f":"Раздел2!F115","v":0},{"$f":"Раздел2!D108","v":0}]
[null,"Международное военно-спортивное многоборье","101",0,0,null,null,null,0,null,null,null,0,0,null,null,null,0,null,null,null,0,null,null,null,null,null,{"$f":"Раздел2!#REF!","v":{"$error":"#REF!"}},{"$f":"Раздел2!F116","v":0},{"$f":"Раздел2!D109","v":0}]
[null,"Многоборье кинологов","102",0,0,null,null,null,0,null,null,null,0,0,null,null,null,0,null,null,null,0,null,null,null,null,null,{"$f":"Раздел2!#REF!","v":{"$error":"#REF!"}},{"$f":"Раздел2!F117","v":0},{"$f":"Раздел2!D110","v":0}]
[null,"Многоборье спасателей МЧС России","103",0,0,null,null,null,0,null,null,null,0,0,null,null,null,0,null,null,null,0,null,null,null,null,null,{"$f":"Раздел2!#REF!","v":{"$error":"#REF!"}},{"$f":"Раздел2!F118","v":0},{"$f":"Раздел2!D111","v":0}]
[null,"Морское многоборье","104",0,0,null,null,null,0,null,null,null,0,0,null,null,null,0,null,null,null,0,null,null,null,null,null,{"$f":"Раздел2!#REF!","v":{"$error":"#REF!"}},{"$f":"Раздел2!F119","v":0},{"$f":"Раздел2!D112","v":0}]
[null,"Мотоциклетный спорт","105",0,0,null,null,null,0,null,null,null,0,0,null,null,null,0,null,null,null,0,null,null,null,null,null,{"$f":"Раздел2!#REF!","v":{"$error":"#REF!"}},{"$f":"Раздел2!F120","v":0},{"$f":"Раздел2!D113","v":0}]
[null,"Настольный теннис","106",0,0,null,null,null,0,null,null,null,0,0,null,null,null,0,null,null,null,0,null,null,null,null,null,{"$f":"Раздел2!#REF!","v":{"$error":"#REF!"}},{"$f":"Раздел2!F121","v":0},{"$f":"Раздел2!D114","v":0}]
[null,"Парашютный спорт","107",0,0,null,null,null,0,null,null,null,0,0,null,null,null,0,null,null,null,0,null,null,null,null,null,{"$f":"Раздел2!#REF!","v":{"$error":"#REF!"}},{"$f":"Раздел2!F122","v":0},{"$f":"Раздел2!D115","v":0}]
[null,"Парусный спорт","108",0,0,null,null,null,0,null,null,null,0,0,null,null,null,0,null,null,null,0,null,null,null,null,null,{"$f":"Раздел2!#REF!","v":{"$error":"#REF!"}},{"$f":"Раздел2!F123","v":0},{"$f":"Раздел2!D116","v":0}]
[null,"Пауэрлифтинг","109",0,0,null,null,null,0,null,null,null,0,0,null,null,null,0,null,null,null,0,null,null,null,null,null,{"$f":"Раздел2!#REF!","v":{"$error":"#REF!"}},{"$f":"Раздел2!F124","v":0},{"$f":"Раздел2!D117","v":0}]
[null,"Перетягивание каната","110",0,0,null,null,null,0,null,null,null,0,0,null,null,null,0,null,null,null,0,null,null,null,null,null,{"$f":"Раздел2!#REF!","v":{"$error":"#REF!"}},{"$f":"Раздел2!F125","v":102},{"$f":"Раздел2!D118","v":0}]
[null,"Петанк","111",0,0,null,null,null,0,null,null,null,0,0,null,null,null,0,null,null,null,0,null,null,null,null,null,{"$f":"Раздел2!#REF!","v":{"$error":"#REF!"}},{"$f":"Раздел2!F126","v":0},{"$f":"Раздел2!D119","v":0}]
[null,"Плавание - всего","112",0,{"$f":"SUM(E120:E121)","v":0},{"$f":"SUM(F120:F121)","v":0},0,0,0,0,0,0,0,0,0,0,0,0,0,0,0,0,0,0,0,null,null,{"$f":"Раздел2!#REF!","v":{"$error":"#REF!"}},{"$f":"Раздел2!F127","v":0},{"$f":"Раздел2!D120","v":0}]
[null,"в том числе:\nПлавание ","113",0,0,null,null,null,0,null,null,null,0,0,null,null,null,0,null,null,null,0,null,null,null,null,null,{"$f":"Раздел2!#REF!","v":{"$error":"#REF!"}},{"$f":"Раздел2!F128","v":0},{"$f":"Раздел2!D121","v":0}]
[null,"Открытая вода","114",0,0,null,null,null,0,null,null,null,0,0,null,null,null,0,null,null,null,0,null,null,null,null,null,{"$f":"Раздел2!#REF!","v":{"$error":"#REF!"}},{"$f":"Раздел2!F129","v":0},{"$f":"Раздел2!D122","v":0}]
[null,"Планерный спорт","115",0,0,null,null,null,0,null,null,null,0,0,null,null,null,0,null,null,null,0,null,null,null,null,null,{"$f":"Раздел2!#REF!","v":{"$error":"#REF!"}},{"$f":"Раздел2!F130","v":0},{"$f":"Раздел2!D123","v":0}]
[null,"Подводный спорт","116",0,0,null,null,null,0,null,null,null,0,0,null,null,null,0,null,null,null,0,null,null,null,null,null,{"$f":"Раздел2!#REF!","v":{"$error":"#REF!"}},{"$f":"Раздел2!F131","v":0},{"$f":"Раздел2!D124","v":0}]
[null,"Пожарно-спасательный спорт","117",16,16,null,null,16,0,null,null,null,30,30,null,null,30,2,null,null,2,0,null,null,null,null,null,null,{"$f":"Раздел2!F132","v":0},{"$f":"Раздел2!D125","v":1}]
[null,"Полиатлон","118",0,0,null,null,null,0,null,null,null,0,0,null,null,null,0,null,null,null,0,null,null,null,null,null,null,{"$f":"Раздел2!F133","v":0},{"$f":"Раздел2!D126","v":0}]
[null,"Практическая стрельба","119",0,0,null,null,null,0,null,null,null,0,0,null,null,null,0,null,null,null,0,null,null,null,null,null,null,{"$f":"Раздел2!F134","v":0},{"$f":"Раздел2!D127","v":0}]
[null,"Прыжки в воду - всего","120",0,{"$f":"SUM(E128:E129)","v":0},{"$f":"SUM(F128:F129)","v":0},0,0,0,0,0,0,0,0,0,0,0,0,0,0,0,0,0,0,0,null,null,null,{"$f":"Раздел2!F135","v":0},{"$f":"Раздел2!D128","v":0}]
[null,"в том числе:\nПрыжки в воду","121",0,0,null,null,null,0,null,null,null,0,0,null,null,null,0,null,null,null,0,null,null,null,null,null,null,{"$f":"Раздел2!F136","v":0},{"$f":"Раздел2!D129","v":0}]
[null,"Прыжки в открытый водоем","122",0,0,null,null,null,0,null,null,null,0,0,null,null,null,0,null,null,null,0,null,null,null,null,null,null,{"$f":"Раздел2!F137","v":0},{"$f":"Раздел2!D130","v":0}]
[null,"Прыжки на батуте - всего","123",0,{"$f":"SUM(E131:E134)","v":0},{"$f":"SUM(F131:F134)","v":0},0,0,0,0,0,0,0,0,0,0,0,0,0,0,0,0,0,0,0,null,null,null,{"$f":"Раздел2!F138","v":0},{"$f":"Раздел2!D131","v":0}]
[null,"в том числе:\nАкробатическая дорожка","124",0,0,null,null,null,0,null,null,null,0,0,null,null,null,0,null,null,null,0,null,null,null,null,null,null,{"$f":"Раздел2!F139","v":0},{"$f":"Раздел2!D132","v":0}]
[null,"Двойной минитрамп","125",0,0,null,null,null,0,null,null,null,0,0,null,null,null,0,null,null,null,0,null,null,null,null,null,null,{"$f":"Раздел2!F140","v":0},{"$f":"Раздел2!D133","v":0}]
[null,"Индивидуальные прыжки","126",0,0,null,null,null,0,null,null,null,0,0,null,null,null,0,null,null,null,0,null,null,null,null,null,null,{"$f":"Раздел2!F141","v":0},{"$f":"Раздел2!D134","v":0}]
[null,"Синхронные прыжки","127",0,0,null,null,null,0,null,null,null,0,0,null,null,null,0,null,null,null,0,null,null,null,null,null,null,{"$f":"Раздел2!F142","v":0},{"$f":"Раздел2!D135","v":0}]
[null,"Прыжки на лыжах с трамплина","128",0,0,null,null,null,0,null,null,null,0,0,null,null,null,0,null,null,null,0,null,null,null,null,null,null,{"$f":"Раздел2!F143","v":0},{"$f":"Раздел2!D136","v":0}]
[null,"Пулевая стрельба - всего","129",0,{"$f":"SUM(E137:E141)","v":0},{"$f":"SUM(F137:F141)","v":0},0,0,0,0,0,0,0,0,0,0,0,0,0,0,0,0,0,0,0,null,null,null,{"$f":"Раздел2!F144","v":0},{"$f":"Раздел2!D137","v":0}]
[null,"в том числе:\nПневматическая винтовка","130",{"$f":"E137+I137","v":0},{"$f":"SUM(F137:H137)","v":0},null,null,null,{"$f":"SUM(J137:L137)","v":0},null,null,null,{"$f":"N137+V137","v":0},{"$f":"SUM(O137:Q137)","v":0},null,null,null,{"$f":"SUM(S137:U137)","v":0},null,null,null,{"$f":"SUM(W137:Y137)","v":0},null,null,null,null,null,null,{"$f":"Раздел2!F145","v":0},{"$f":"Раздел2!D138","v":0}]
[null,"Пневматический пистолет","131",0,0,null,null,null,0,null,null,null,0,0,null,null,null,0,null,null,null,0,null,null,null,null,null,null,{"$f":"Раздел2!F146","v":0},{"$f":"Раздел2!D139","v":0}]
[null,"Малокалиберная винтовка","132",0,0,null,null,null,0,null,null,null,0,0,null,null,null,0,null,null,null,0,null,null,null,null,null,null,{"$f":"Раздел2!F147","v":0},{"$f":"Раздел2!D140","v":0}]
[null,"Малокалиберный пистолет","133",0,0,null,null,null,0,null,null,null,0,0,null,null,null,0,null,null,null,0,null,null,null,null,null,null,{"$f":"Раздел2!F148","v":0},{"$f":"Раздел2!D141","v":0}]
[null,"Движущаяся мишень","134",0,0,null,null,null,0,null,null,null,0,0,null,null,null,0,null,null,null,0,null,null,null,null,null,null,{"$f":"Раздел2!F149","v":0},{"$f":"Раздел2!D142","v":0}]
[null,"Пэйнтбол","135",0,0,null,null,null,0,null,null,null,0,0,null,null,null,0,null,null,null,0,null,null,null,null,null,null,{"$f":"Раздел2!F150","v":0},{"$f":"Раздел2!D143","v":0}]
[null,"Радиоспорт","136",0,0,null,null,null,0,null,null,null,0,0,null,null,null,0,null,null,null,0,null,null,null,null,null,null,{"$f":"Раздел2!F151","v":0},{"$f":"Раздел2!D144","v":0}]
[null,"Рафтинг","137",0,0,null,null,null,0,null,null,null,0,0,null,null,null,0,null,null,null,0,null,null,null,null,null,null,{"$f":"Раздел2!F152","v":0},{"$f":"Раздел2!D145","v":0}]
[null,"Регби - всего","138",0,{"$f":"SUM(E146:E149)","v":0},{"$f":"SUM(F146:F149)","v":0},0,0,0,0,0,0,0,0,0,0,0,0,0,0,0,0,0,0,0,null,null,null,{"$f":"Раздел2!F153","v":0},{"$f":"Раздел2!D146","v":0}]
[null,"в том числе:\nРегби","139",0,0,null,null,null,0,null,null,null,0,0,null,null,null,0,null,null,null,0,null,null,null,null,null,null,{"$f":"Раздел2!F154","v":0},{"$f":"Раздел2!D147","v":0}]
[null,"Регби 7 (муж.)","140",0,0,null,null,null,0,null,null,null,0,0,null,null,null,0,null,null,null,0,null,null,null,null,null,null,{"$f":"Раздел2!F155","v":0},{"$f":"Раздел2!D148","v":0}]
[null,"Регби 7 (жен.)","141",0,0,null,null,null,0,null,null,null,0,0,null,null,null,0,null,null,null,0,null,null,null,null,null,null,{"$f":"Раздел2!F156","v":0},{"$f":"Раздел2!D149","v":0}]
[null,"Регби - пляжное","142",0,0,null,null,null,0,null,null,null,0,0,null,null,null,0,null,null,null,0,null,null,null,null,null,null,{"$f":"Раздел2!F157","v":0},{"$f":"Раздел2!D150","v":0}]
[null,"Регбол","143",0,0,null,null,null,0,null,null,null,0,0,null,null,null,0,null,null,null,0,null,null,null,null,null,null,{"$f":"Раздел2!F158","v":0},{"$f":"Раздел2!D151","v":0}]
[null,"Роллер спорт","144",0,0,null,null,null,0,null,null,null,0,0,null,null,null,0,null,null,null,0,null,null,null,null,null,null,{"$f":"Раздел2!F159","v":0},{"$f":"Раздел2!D152","v":0}]
[null,"Рукопашный бой","145",0,0,null,null,null,0,null,null,null,0,0,null,null,null,0,null,null,null,0,null,null,null,null,null,null,{"$f":"Раздел2!F160","v":0},{"$f":"Раздел2!D153","v":0}]
[null,"Рыболовный спорт","146",0,0,null,null,null,0,null,null,null,0,0,null,null,null,0,null,null,null,0,null,null,null,null,null,null,{"$f":"Раздел2!F161","v":0},{"$f":"Раздел2!D154","v":0}]
[null,"Сават","147",0,0,null,null,null,0,null,null,null,0,0,null,null,null,0,null,null,null,0,null,null,null,null,null,null,{"$f":"Раздел2!F162","v":0},{"$f":"Раздел2!D155","v":0}]
[null,"Самбо","148",0,0,null,null,null,0,null,null,null,0,0,null,null,null,0,null,null,null,0,null,null,null,null,null,null,{"$f":"Раздел2!F163","v":0},{"$f":"Раздел2!D156","v":0}]
[null,"Самолетный спорт","149",0,0,null,null,null,0,null,null,null,0,0,null,null,null,0,null,null,null,0,null,null,null,null,null,null,{"$f":"Раздел2!F164","v":0},{"$f":"Раздел2!D157","v":0}]
[null,"Санный спорт","150",0,0,null,null,null,0,null,null,null,0,0,null,null,null,0,null,null,null,0,null,null,null,null,null,null,{"$f":"Раздел2!F165","v":0},{"$f":"Раздел2!D158","v":0}]
[null,"Северное многоборье","151",0,0,null,null,null,0,null,null,null,0,0,null,null,null,0,null,null,null,0,null,null,null,null,null,null,{"$f":"Раздел2!F166","v":0},{"$f":"Раздел2!D159","v":0}]
[null,"Серфинг","152",0,0,null,null,null,0,null,null,null,0,0,null,null,null,0,null,null,null,0,null,null,null,null,null,null,{"$f":"Раздел2!F167","v":0},{"$f":"Раздел2!D160","v":0}]
[null,"Синхронное плавание","153",0,0,null,null,null,0,null,null,null,0,0,null,null,null,0,null,null,null,0,null,null,null,null,null,null,{"$f":"Раздел2!F168","v":0},{"$f":"Раздел2!D161","v":0}]
[null,"Скалолазание","154",0,0,null,null,null,0,null,null,null,0,0,null,null,null,0,null,null,null,0,null,null,null,null,null,null,{"$f":"Раздел2!F169","v":0},{"$f":"Раздел2!D162","v":0}]
[null,"Сквош","155",0,0,null,null,null,0,null,null,null,0,0,null,null,null,0,null,null,null,0,null,null,null,null,null,null,{"$f":"Раздел2!F170","v":0},{"$f":"Раздел2!D163","v":0}]
[null,"Скейтбординг","156",0,0,null,null,null,0,null,null,null,0,0,null,null,null,0,null,null,null,0,null,null,null,null,null,null,{"$f":"Раздел2!F171","v":0},{"$f":"Раздел2!D164","v":0}]
[null,"Служебно-прикладной спорт","157",0,0,null,null,null,0,null,null,null,0,0,null,null,null,0,null,null,null,0,null,null,null,null,null,null,null,{"$f":"Раздел2!D165","v":0}]
[null,"Служебно-прикладной спорт ФСО России","158",0,0,null,null,null,0,null,null,null,0,0,null,null,null,0,null,null,null,0,null,null,null,null,null,null,{"$f":"Раздел2!F172","v":0},{"$f":"Раздел2!D166","v":0}]
[null,"Служебно-прикладной спорт ФТС России","159",0,0,null,null,null,0,null,null,null,0,0,null,null,null,0,null,null,null,0,null,null,null,null,null,null,{"$f":"Раздел2!F175","v":0},{"$f":"Раздел2!D167","v":0}]
[null,"Служебное двоеборье","160",0,0,null,null,null,0,null,null,null,0,0,null,null,null,0,null,null,null,0,null,null,null,null,null,null,{"$f":"Раздел2!F176","v":0},{"$f":"Раздел2!D168","v":0}]
[null,"Служебное единоборство","161",0,0,null,null,null,0,null,null,null,0,0,null,null,null,0,null,null,null,0,null,null,null,null,null,null,{"$f":"Раздел2!F177","v":0},{"$f":"Раздел2!D169","v":0}]
[null,"Служебное многоборье","162",0,0,null,null,null,0,null,null,null,0,0,null,null,null,0,null,null,null,0,null,null,null,null,null,null,{"$f":"Раздел2!F178","v":0},{"$f":"Раздел2!D170","v":0}]
[null,"Служебный биатлон","163",0,0,null,null,null,0,null,null,null,0,0,null,null,null,0,null,null,null,0,null,null,null,null,null,null,{"$f":"Раздел2!F180","v":128},{"$f":"Раздел2!D171","v":0}]
[null,"Спасательный спорт","164",0,0,null,null,null,0,null,null,null,0,0,null,null,null,0,null,null,null,0,null,null,null,null,null,null,{"$f":"Раздел2!F181","v":0},{"$f":"Раздел2!D172","v":0}]
[null,"Стрельба из боевого ручного стрелкового оружия","165",0,0,null,null,null,0,null,null,null,0,0,null,null,null,0,null,null,null,0,null,null,null,null,null,null,{"$f":"Раздел2!F182","v":0},{"$f":"Раздел2!D173","v":0}]
[null,"Стрельба из штатного или табельного оружия","166",0,0,null,null,null,0,null,null,null,0,0,null,null,null,0,null,null,null,0,null,null,null,null,null,null,{"$f":"Раздел2!F183","v":0},{"$f":"Раздел2!D174","v":0}]
[null,"Смешанное боевое единоборство (ММА)","167",0,0,null,null,null,0,null,null,null,0,0,null,null,null,0,null,null,null,0,null,null,null,null,null,null,{"$f":"Раздел2!F184","v":0},{"$f":"Раздел2!D175","v":0}]
[null,"Сноуборд","168",0,0,null,null,null,0,null,null,null,0,0,null,null,null,0,null,null,null,0,null,null,null,null,null,null,{"$f":"Раздел2!F185","v":0},{"$f":"Раздел2!D176","v":0}]
[null,"Современное пятиборье","169",0,0,null,null,null,0,null,null,null,0,0,null,null,null,0,null,null,null,0,null,null,null,null,null,null,{"$f":"Раздел2!F186","v":0},{"$f":"Раздел2!D177","v":0}]
[null,"Софтбол","170",0,0,null,null,null,0,null,null,null,0,0,null,null,null,0,null,null,null,0,null,null,null,null,null,null,{"$f":"Раздел2!F187","v":0},{"$f":"Раздел2!D178","v":0}]
[null,"Спорт сверхлегкой авиации","171",0,0,null,null,null,0,null,null,null,0,0,null,null,null,0,null,null,null,0,null,null,null,null,null,null,{"$f":"Раздел2!F188","v":201},{"$f":"Раздел2!D179","v":0}]
[null,"Спортивная акробатика","172",98,97,18,8,71,1,null,null,1,111,110,8,3,99,21,6,1,14,1,null,null,1,null,null,null,{"$f":"Раздел2!F189","v":0},{"$f":"Раздел2!D180","v":1}]
[null,"Спортивная аэробика","173",0,0,null,null,null,0,null,null,null,0,0,null,null,null,0,null,null,null,0,null,null,null,null,null,null,{"$f":"Раздел2!F190","v":0},{"$f":"Раздел2!D181","v":0}]
[null,"Спортивная борьба - всего","174",0,{"$f":"SUM(E182:E186)","v":0},{"$f":"SUM(F182:F186)","v":0},0,0,0,0,0,0,0,0,0,0,0,0,0,0,0,0,0,0,0,null,null,null,{"$f":"Раздел2!F191","v":0},{"$f":"Раздел2!D182","v":0}]
[null,"в том числе:\nВольная борьба","175",0,0,null,null,null,0,null,null,null,0,0,null,null,null,0,null,null,null,0,null,null,null,null,null,null,{"$f":"Раздел2!F192","v":0},{"$f":"Раздел2!D183","v":0}]
[null,"Греко-римская борьба","176",0,0,null,null,null,0,null,null,null,0,0,null,null,null,0,null,null,null,0,null,null,null,null,null,null,{"$f":"Раздел2!F193","v":0},{"$f":"Раздел2!D184","v":0}]
[null,"Грэпплинг","177",0,0,null,null,null,0,null,null,null,0,0,null,null,null,0,null,null,null,0,null,null,null,null,null,null,{"$f":"Раздел2!F194","v":0},{"$f":"Раздел2!D185","v":0}]
[null,"Грэпплинг-ги","178",0,0,null,null,null,0,null,null,null,0,0,null,null,null,0,null,null,null,0,null,null,null,null,null,null,{"$f":"Раздел2!F195","v":0},{"$f":"Раздел2!D186","v":0}]
[null,"Панкратион","179",0,0,null,null,null,0,null,null,null,0,0,null,null,null,0,null,null,null,0,null,null,null,null,null,null,{"$f":"Раздел2!F196","v":0},{"$f":"Раздел2!D187","v":0}]
[null,"Спортивная гимнастика","180",162,162,5,14,143,0,null,null,null,183,183,1,7,175,34,4,5,25,0,null,null,null,null,null,null,{"$f":"Раздел2!F197","v":0},{"$f":"Раздел2!D188","v":1}]
[null,"Спортивная йога","181",0,0,null,null,null,0,null,null,null,0,0,null,null,null,0,null,null,null,0,null,null,null,null,null,null,{"$f":"Раздел2!F198","v":0},{"$f":"Раздел2!D189","v":0}]
[null,"Спортивно-прикладное собаководство","182",0,0,null,null,null,0,null,null,null,0,0,null,null,null,0,null,null,null,0,null,null,null,null,null,null,null,{"$f":"Раздел2!D190","v":0}]
[null,"Спортивное ориентирование","183",0,0,null,null,null,0,null,null,null,0,0,null,null,null,0,null,null,null,0,null,null,null,null,null,null,{"$f":"Раздел2!F199","v":0},{"$f":"Раздел2!D191","v":0}]
[null,"Спортивный бридж","184",0,0,null,null,null,0,null,null,null,0,0,null,null,null,0,null,null,null,0,null,null,null,null,null,null,{"$f":"Раздел2!F200","v":0},{"$f":"Раздел2!D192","v":0}]
[null,"Спортивный туризм","185",0,0,null,null,null,0,null,null,null,0,0,null,null,null,0,null,null,null,0,null,null,null,null,null,null,{"$f":"Раздел2!F201","v":0},{"$f":"Раздел2!D193","v":0}]
[null,"Стендовая стрельба - всего","186",0,{"$f":"SUM(E194:E197)","v":0},{"$f":"SUM(F194:F197)","v":0},0,0,0,0,0,0,0,0,0,0,0,0,0,0,0,0,0,0,0,null,null,null,{"$f":"Раздел2!F202","v":0},{"$f":"Раздел2!D194","v":0}]
[null,"в том числе:\nТрап","187",0,0,null,null,null,0,null,null,null,0,0,null,null,null,0,null,null,null,0,null,null,null,null,null,null,{"$f":"Раздел2!F203","v":0},{"$f":"Раздел2!D195","v":0}]
[null,"Скит","188",0,0,null,null,null,0,null,null,null,0,0,null,null,null,0,null,null,null,0,null,null,null,null,null,null,{"$f":"Раздел2!F204","v":0},{"$f":"Раздел2!D196","v":0}]
[null,"Дубль-трап","189",0,0,null,null,null,0,null,null,null,0,0,null,null,null,0,null,null,null,0,null,null,null,null,null,null,{"$f":"Раздел2!F205","v":0},{"$f":"Раздел2!D197","v":0}]
[null,"Спортинг","190",0,0,null,null,null,0,null,null,null,0,0,null,null,null,0,null,null,null,0,null,null,null,null,null,null,{"$f":"Раздел2!F206","v":0},{"$f":"Раздел2!D198","v":0}]
[null,"Стрельба из арбалета","191",0,0,null,null,null,0,null,null,null,0,0,null,null,null,0,null,null,null,0,null,null,null,null,null,null,{"$f":"Раздел2!F207","v":0},{"$f":"Раздел2!D199","v":0}]
[null,"Стрельба из лука - всего","192",0,{"$f":"SUM(E200:E202)","v":0},{"$f":"SUM(F200:F202)","v":0},0,0,0,0,0,0,0,0,0,0,0,0,0,0,0,0,0,0,0,null,null,null,{"$f":"Раздел2!F208","v":0},{"$f":"Раздел2!D200","v":0}]
[null,"в том числе:\nКлассический лук","193",0,0,null,null,null,0,null,null,null,0,0,null,null,null,0,null,null,null,0,null,null,null,null,null,null,{"$f":"Раздел2!F209","v":0},{"$f":"Раздел2!D201","v":0}]
[null,"   Блочный лук","194",{"$f":"E201+I201","v":0},{"$f":"SUM(F201:H201)","v":0},null,null,null,{"$f":"SUM(J201:L201)","v":0},null,null,null,{"$f":"N201+V201","v":0},{"$f":"SUM(O201:Q201)","v":0},null,null,null,{"$f":"SUM(S201:U201)","v":0},null,null,null,{"$f":"SUM(W201:Y201)","v":0},null,null,null,null,null,null,{"$f":"Раздел2!F210","v":0},{"$f":"Раздел2!D202","v":0}]
[null,"   Ачери ","195",0,0,null,null,null,0,null,null,null,0,0,null,null,null,0,null,null,null,0,null,null,null,null,null,null,{"$f":"Раздел2!F211","v":0},{"$f":"Раздел2!D203","v":0}]
[null,"Судомодельный спорт","196",0,0,null,null,null,0,null,null,null,0,0,null,null,null,0,null,null,null,0,null,null,null,null,null,null,{"$f":"Раздел2!F212","v":0},{"$f":"Раздел2!D204","v":0}]
[null,"Сумо","197",0,0,null,null,null,0,null,null,null,0,0,null,null,null,0,null,null,null,0,null,null,null,null,null,null,{"$f":"Раздел2!F213","v":0},{"$f":"Раздел2!D205","v":0}]
[null,"Тайский бокс","198",0,0,null,null,null,0,null,null,null,0,0,null,null,null,0,null,null,null,0,null,null,null,null,null,null,{"$f":"Раздел2!F214","v":0},{"$f":"Раздел2!D206","v":0}]
[null,"Танцевальный спорт","199",0,0,null,null,null,0,null,null,null,0,0,null,null,null,0,null,null,null,0,null,null,null,null,null,null,{"$f":"Раздел2!F215","v":0},{"$f":"Раздел2!D207","v":0}]
[null,"Теннис","200",0,0,null,null,null,0,null,null,null,0,0,null,null,null,0,null,null,null,0,null,null,null,null,null,null,{"$f":"Раздел2!F216","v":0},{"$f":"Раздел2!D208","v":0}]
[null,"Триатлон","201",0,0,null,null,null,0,null,null,null,0,0,null,null,null,0,null,null,null,0,null,null,null,null,null,null,{"$f":"Раздел2!F217","v":0},{"$f":"Раздел2!D209","v":0}]
[null,"Тхэквондо - всего","202",0,{"$f":"SUM(E210:E211)","v":0},{"$f":"SUM(F210:F211)","v":0},0,0,0,0,0,0,0,0,0,0,0,0,0,0,0,0,0,0,0,null,null,null,{"$f":"Раздел2!F218","v":0},{"$f":"Раздел2!D210","v":0}]
[null,"в том числе:\nТхэквондо (ГТФ, ИТФ, МФТ)","203",0,0,null,null,null,0,null,null,null,0,0,null,null,null,0,null,null,null,0,null,null,null,null,null,null,{"$f":"Раздел2!F219","v":0},{"$f":"Раздел2!D211","v":0}]
[null,"Тхэквондо (ВТФ)","204",0,0,null,null,null,0,null,null,null,0,0,null,null,null,0,null,null,null,0,null,null,null,null,null,null,{"$f":"Раздел2!F220","v":0},{"$f":"Раздел2!D212","v":0}]
[null,"Тяжелая атлетика","205",0,0,null,null,null,0,null,null,null,0,0,null,null,null,0,null,null,null,0,null,null,null,null,null,null,{"$f":"Раздел2!F221","v":0},{"$f":"Раздел2!D213","v":0}]
[null,"Универсальный бой","206",0,0,null,null,null,0,null,null,null,0,0,null,null,null,0,null,null,null,0,null,null,null,null,null,null,{"$f":"Раздел2!F222","v":0},{"$f":"Раздел2!D214","v":0}]
[null,"Ушу","207",0,0,null,null,null,0,null,null,null,0,0,null,null,null,0,null,null,null,0,null,null,null,null,null,null,{"$f":"Раздел2!F223","v":0},{"$f":"Раздел2!D215","v":0}]
[null,"Фехтование - всего","208",0,{"$f":"SUM(E216:E219)","v":0},{"$f":"SUM(F216:F219)","v":0},0,0,0,0,0,0,0,0,0,0,0,0,0,0,0,0,0,0,0,null,null,null,{"$f":"Раздел2!F224","v":0},{"$f":"Раздел2!D216","v":0}]
[null,"в том числе:\nРапира","209",0,0,null,null,null,0,null,null,null,0,0,null,null,null,0,null,null,null,0,null,null,null,null,null,null,{"$f":"Раздел2!F225","v":0},{"$f":"Раздел2!D217","v":0}]
[null,"Сабля","210",0,0,null,null,null,0,null,null,null,0,0,null,null,null,0,null,null,null,0,null,null,null,null,null,null,{"$f":"Раздел2!F226","v":0},{"$f":"Раздел2!D218","v":0}]
[null,"Шпага","211",0,0,null,null,null,0,null,null,null,0,0,null,null,null,0,null,null,null,0,null,null,null,null,null,null,{"$f":"Раздел2!F227","v":0},{"$f":"Раздел2!D219","v":0}]
[null,"Арт-фехтование","212",0,0,null,null,null,0,null,null,null,0,0,null,null,null,0,null,null,null,0,null,null,null,null,null,null,{"$f":"Раздел2!F228","v":0},{"$f":"Раздел2!D220","v":0}]
[null,"Фигурное катание на коньках","213",0,0,null,null,null,0,null,null,null,0,0,null,null,null,0,null,null,null,0,null,null,null,null,null,null,{"$f":"Раздел2!F229","v":0},{"$f":"Раздел2!D221","v":0}]
[null,"Фитнес-аэробика","214",0,0,null,null,null,0,null,null,null,0,0,null,null,null,0,null,null,null,0,null,null,null,null,null,null,{"$f":"Раздел2!F230","v":0},{"$f":"Раздел2!D222","v":0}]
[null,"Флаинг диск","215",0,0,null,null,null,0,null,null,null,0,0,null,null,null,0,null,null,null,0,null,null,null,null,null,null,{"$f":"Раздел2!F231","v":0},{"$f":"Раздел2!D223","v":0}]
[null,"Флорбол","216",0,0,null,null,null,0,null,null,null,0,0,null,null,null,0,null,null,null,0,null,null,null,null,null,null,{"$f":"Раздел2!F232","v":0},{"$f":"Раздел2!D224","v":0}]
[null,"Фристайл - всего","217",0,{"$f":"SUM(E225:E229)","v":0},{"$f":"SUM(F225:F229)","v":0},0,0,0,0,0,0,0,0,0,0,0,0,0,0,0,0,0,0,0,null,null,null,{"$f":"Раздел2!F233","v":0},{"$f":"Раздел2!D225","v":0}]
[null,"в том числе:\nАкробатика","218",0,0,null,null,null,0,null,null,null,0,0,null,null,null,0,null,null,null,0,null,null,null,null,null,null,{"$f":"Раздел2!F234","v":0},{"$f":"Раздел2!D226","v":0}]
[null,"Могул","219",0,0,null,null,null,0,null,null,null,0,0,null,null,null,0,null,null,null,0,null,null,null,null,null,null,{"$f":"Раздел2!F235","v":0},{"$f":"Раздел2!D227","v":0}]
[null,"Ски-кросс","220",0,0,null,null,null,0,null,null,null,0,0,null,null,null,0,null,null,null,0,null,null,null,null,null,null,{"$f":"Раздел2!F236","v":0},{"$f":"Раздел2!D228","v":0}]
[null,"Хаф-пайп","221",0,0,null,null,null,0,null,null,null,0,0,null,null,null,0,null,null,null,0,null,null,null,null,null,null,{"$f":"Раздел2!F237","v":0},{"$f":"Раздел2!D229","v":0}]
[null,"Слоуп-стайл","222",0,0,null,null,null,0,null,null,null,0,0,null,null,null,0,null,null,null,0,null,null,null,null,null,null,{"$f":"Раздел2!F238","v":0},{"$f":"Раздел2!D230","v":0}]
[null,"Функциональное многоборье","223",0,0,null,null,null,0,null,null,null,0,0,null,null,null,0,null,null,null,0,null,null,null,null,null,null,null,{"$f":"Раздел2!D231","v":0}]
[null,"Футбол - всего","224",0,{"$f":"SUM(E232:E235)","v":0},{"$f":"SUM(F232:F235)","v":0},0,0,0,0,0,0,0,0,0,0,0,0,0,0,0,0,0,0,0,null,null,null,{"$f":"Раздел2!F239","v":0},{"$f":"Раздел2!D232","v":0}]
[null,"в том числе:\nФутбол (муж.)","225",0,0,null,null,null,0,null,null,null,0,0,null,null,null,0,null,null,null,0,null,null,null,null,null,null,{"$f":"Раздел2!F240","v":0},{"$f":"Раздел2!D233","v":0}]
[null,"Футбол (жен.)","226",0,0,null,null,null,0,null,null,null,0,0,null,null,null,0,null,null,null,0,null,null,null,null,null,null,null,{"$f":"Раздел2!D234","v":0}]
[null,"Мини-футбол (футзал)","227",0,0,null,null,null,0,null,null,null,0,0,null,null,null,0,null,null,null,0,null,null,null,null,null,null,null,{"$f":"Раздел2!D235","v":0}]
[null,"Пляжный футбол","228",0,0,null,null,null,0,null,null,null,0,0,null,null,null,0,null,null,null,0,null,null,null,null,null,null,null,{"$f":"Раздел2!D236","v":0}]
[null,"Хапсагай","229",0,0,null,null,null,0,null,null,null,0,0,null,null,null,0,null,null,null,0,null,null,null,null,null,null,null,{"$f":"Раздел2!D237","v":0}]
[null,"Хоккей - всего","230",0,{"$f":"SUM(E238:E239)","v":0},{"$f":"SUM(F238:F239)","v":0},0,0,0,0,0,0,0,0,0,0,0,0,0,0,0,0,0,0,0,null,null,null,null,{"$f":"Раздел2!D238","v":0}]
[null,"в том числе:\nХоккей (муж.)","231",0,0,null,null,null,0,null,null,null,0,0,null,null,null,0,null,null,null,0,null,null,null,null,null,null,null,{"$f":"Раздел2!D239","v":0}]
[null,"Хоккей (жен.)","232",0,0,null,null,null,0,null,null,null,0,0,null,null,null,0,null,null,null,0,null,null,null,null,null,null,null,{"$f":"Раздел2!D240","v":0}]
[null,"Хоккей на траве - всего","233",0,{"$f":"SUM(E241:E243)","v":0},{"$f":"SUM(F241:F243)","v":0},0,0,0,0,0,0,0,0,0,0,0,0,0,0,0,0,0,0,0,null,null,null,null,{"$f":"Раздел2!D241","v":0}]
[null,"в том числе:\nХоккей на траве (муж.)","234",0,0,null,null,null,0,null,null,null,0,0,null,null,null,0,null,null,null,0,null,null,null,null,null,null,null,{"$f":"Раздел2!D242","v":0}]
[null,"Хоккей на траве (жен.)","235",0,0,null,null,null,0,null,null,null,0,0,null,null,null,0,null,null,null,0,null,null,null,null,null,null,null,{"$f":"Раздел2!D243","v":0}]
[null,"Индорхоккей","236",0,0,null,null,null,0,null,null,null,0,0,null,null,null,0,null,null,null,0,null,null,null,null,null,null,null,{"$f":"Раздел2!D244","v":0}]
[null,"Хоккей с мячом","237",0,0,null,null,null,0,null,null,null,0,0,null,null,null,0,null,null,null,0,null,null,null,null,null,null,null,{"$f":"Раздел2!D245","v":0}]
[null,"Художественная гимнастика","238",0,0,null,null,null,0,null,null,null,0,0,null,null,null,0,null,null,null,0,null,null,null,null,null,null,null,{"$f":"Раздел2!D246","v":0}]
[null,"Хуреш","239",0,0,null,null,null,0,null,null,null,0,0,null,null,null,0,null,null,null,0,null,null,null,null,null,null,null,{"$f":"Раздел2!D247","v":0}]
[null,"Чир спорт","240",0,0,null,null,null,0,null,null,null,0,0,null,null,null,0,null,null,null,0,null,null,null,null,null,null,null,{"$f":"Раздел2!D248","v":0}]
[null,"Шахматы","241",0,0,null,null,null,0,null,null,null,0,0,null,null,null,0,null,null,null,0,null,null,null,null,null,null,null,{"$f":"Раздел2!D249","v":0}]
[null,"Шашки","242",0,0,null,null,null,0,null,null,null,0,0,null,null,null,0,null,null,null,0,null,null,null,null,null,null,null,{"$f":"Раздел2!D250","v":0}]
[null,"Шодсанлат","243",0,0,null,null,null,0,null,null,null,0,0,null,null,null,0,null,null,null,0,null,null,null,null,null,null,null,{"$f":"Раздел2!D251","v":0}]
[null,"Эстетическая гимнастика","244",0,0,null,null,null,0,null,null,null,0,0,null,null,null,0,null,null,null,0,null,null,null,null,null,null,null,{"$f":"Раздел2!D252","v":0}]
[null,"Якутские национальные прыжки","245",0,0,null,null,null,0,null,null,null,0,0,null,null,null,0,null,null,null,0,null,null,null,null,null,null,null,{"$f":"Раздел2!D253","v":0}]
[null,"ИТОГО","246",747,743,{"$f":"SUM(F8:F19,F22:F25,F28:F32,F37:F40,F43:F47,F52:F54,F58:F67,F72:F81,F84:F90,F93:F97,F105:F119,F122:F127,F130,F135:F136,F142:F145,F150:F181,F187:F193,F198:F199,F203:F209,F212:F215,F220:F224,F230:F231,F236:F237,F240,F244:F252)","v":33},{"$f":"SUM(G8:G19,G22:G25,G28:G32,G37:G40,G43:G47,G52:G54,G58:G67,G72:G81,G84:G90,G93:G97,G105:G119,G122:G127,G130,G135:G136,G142:G145,G150:G181,G187:G193,G198:G199,G203:G209,G212:G215,G220:G224,G230:G231,G236:G237,G240,G244:G252)","v":45},665,4,{"$f":"SUM(J8:J19,J22:J25,J28:J32,J37:J40,J43:J47,J52:J54,J58:J67,J72:J81,J84:J90,J93:J97,J105:J119,J122:J127,J130,J135:J136,J142:J145,J150:J181,J187:J193,J198:J199,J203:J209,J212:J215,J220:J224,J230:J231,J236:J237,J240,J244:J252)","v":0},{"$f":"SUM(K8:K19,K22:K25,K28:K32,K37:K40,K43:K47,K52:K54,K58:K67,K72:K81,K84:K90,K93:K97,K105:K119,K122:K127,K130,K135:K136,K142:K145,K150:K181,K187:K193,K198:K199,K203:K209,K212:K215,K220:K224,K230:K231,K236:K237,K240,K244:K252)","v":0},4,926,925,{"$f":"SUM(O8:O19,O22:O25,O28:O32,O37:O40,O43:O47,O52:O54,O58:O67,O72:O81,O84:O90,O93:O97,O105:O119,O122:O127,O130,O135:O136,O142:O145,O150:O181,O187:O193,O198:O199,O203:O209,O212:O215,O220:O224,O230:O231,O236:O237,O240,O244:O252)","v":11},{"$f":"SUM(P8:P19,P22:P25,P28:P32,P37:P40,P43:P47,P52:P54,P58:P67,P72:P81,P84:P90,P93:P97,P105:P119,P122:P127,P130,P135:P136,P142:P145,P150:P181,P187:P193,P198:P199,P203:P209,P212:P215,P220:P224,P230:P231,P236:P237,P240,P244:P252)","v":21},{"$f":"SUM(Q8:Q19,Q22:Q25,Q28:Q32,Q37:Q40,Q43:Q47,Q52:Q54,Q58:Q67,Q72:Q81,Q84:Q90,Q93:Q97,Q105:Q119,Q122:Q127,Q130,Q135:Q136,Q142:Q145,Q150:Q181,Q187:Q193,Q198:Q199,Q203:Q209,Q212:Q215,Q220:Q224,Q230:Q231,Q236:Q237,Q240,Q244:Q252)","v":893},120,{"$f":"SUM(S8:S19,S22:S25,S28:S32,S37:S40,S43:S47,S52:S54,S58:S67,S72:S81,S84:S90,S93:S97,S105:S119,S122:S127,S130,S135:S136,S142:S145,S150:S181,S187:S193,S198:S199,S203:S209,S212:S215,S220:S224,S230:S231,S236:S237,S240,S244:S252)","v":14},{"$f":"SUM(T8:T19,T22:T25,T28:T32,T37:T40,T43:T47,T52:T54,T58:T67,T72:T81,T84:T90,T93:T97,T105:T119,T122:T127,T130,T135:T136,T142:T145,T150:T181,T187:T193,T198:T199,T203:T209,T212:T215,T220:T224,T230:T231,T236:T237,T240,T244:T252)","v":6},100,1,{"$f":"SUM(W8:W19,W22:W25,W28:W32,W37:W40,W43:W47,W52:W54,W58:W67,W72:W81,W84:W90,W93:W97,W105:W119,W122:W127,W130,W135:W136,W142:W145,W150:W181,W187:W193,W198:W199,W203:W209,W212:W215,W220:W224,W230:W231,W236:W237,W240,W244:W252)","v":0},0,{"$f":"SUM(Y8:Y19,Y22:Y25,Y28:Y32,Y37:Y40,Y43:Y47,Y52:Y54,Y58:Y67,Y72:Y81,Y84:Y90,Y93:Y97,Y105:Y119,Y122:Y127,Y130,Y135:Y136,Y142:Y145,Y150:Y181,Y187:Y193,Y198:Y199,Y203:Y209,Y212:Y215,Y220:Y224,Y230:Y231,Y236:Y237,Y240,Y244:Y252)","v":1},null,null,null,null,{"$f":"Раздел2!D254","v":6}]

{"sheet":"Раздел6","index":6,"n_rows":252,"n_cols":17,"rows_kept":252,"cut":false,"hidden":false,"merged":[[0,0,121,0],[2,1,4,1],[2,2,4,2],[2,3,2,8],[0,1,0,14],[1,1,1,14],[3,3,3,4],[3,5,3,6],[3,9,3,10],[3,13,3,14],[3,11,3,12],[3,7,3,8],[2,9,2,14]]}
[null,"                                                                        Раздел VI. Занимающиеся – кандидаты в спортивные сборные команды России"]
[null,"Код по ОКЕИ: человек 792"]
[null,"Виды спорта","№ строки","Из числа занимающихся (гр. 5 раздела II) – кандидаты, состоящие в списках спортивных сборных команд",null,null,null,null,null,"Кандидаты, подготовленные в отчетном году"]
[null,null,null,"Юношеский состав",null,"Юниорский состав",null,"Основной состав",null,"Юношеский состав",null,"Юниорский состав",null,"Основной состав"]
[null,null,null,"основной","резерв","основной","резерв","основной","резерв","основной","резерв","основной","резерв","основной","резерв"]
[null,1,2,3,4,5,6,7,8,9,10,11,12,13,14]
[null,"Авиамодельный спорт","01",0,0,0,0,null,null,0,null,0,0,0,0,{"$f":"Раздел2!F9","v":0},{"$f":"Раздел2!D9","v":0}]
[null,"Автомобильный спорт","02",0,0,0,0,0,0,0,0,0,0,0,0,{"$f":"Раздел2!F10","v":0},{"$f":"Раздел2!D10","v":0}]
[null,"Автомодельный спорт","03",0,0,0,0,0,0,0,0,0,0,0,0,{"$f":"Раздел2!F11","v":0},{"$f":"Раздел2!D11","v":0}]
[null,"Айкидо","04",0,0,0,0,0,0,0,0,0,0,0,0,{"$f":"Раздел2!F12","v":0},{"$f":"Раздел2!D12","v":0}]
[null,"Айсшток","05",0,0,0,0,0,0,0,0,0,0,0,0,{"$f":"Раздел2!F13","v":0},{"$f":"Раздел2!D13","v":0}]
[null,"Акробатический рок-н-ролл","06",0,0,0,0,0,0,0,0,0,0,0,0,{"$f":"Раздел2!F14","v":0},{"$f":"Раздел2!D14","v":0}]
[null,"Альпинизм","07",0,0,0,0,0,0,0,0,0,0,0,0,{"$f":"Раздел2!F15","v":0},{"$f":"Раздел2!D15","v":0}]
[null,"Американский футбол","08",0,0,0,0,0,0,0,0,0,0,0,0,{"$f":"Раздел2!F16","v":0},{"$f":"Раздел2!D16","v":0}]
[null,"Армейский рукопашный бой","09",0,0,null,0,0,0,0,0,0,0,0,0,{"$f":"Раздел2!F17","v":0},{"$f":"Раздел2!D17","v":0}]
[null,"Армрестлинг","10",0,0,0,0,0,0,0,0,0,0,0,0,{"$f":"Раздел2!F18","v":0},{"$f":"Раздел2!D18","v":0}]
[null,"Бадминтон","11",0,0,0,0,0,0,0,0,0,0,0,0,{"$f":"Раздел2!F19","v":0},{"$f":"Раздел2!D19","v":0}]
[null,"Баскетбол - всего","12",{"$f":"SUM(D19:D20)","v":0},{"$f":"SUM(E19:E20)","v":0},0,0,0,0,0,0,0,0,{"$f":"SUM(N19:N20)","v":0},0,{"$f":"Раздел2!F20","v":248},{"$f":"Раздел2!D20","v":1}]
[null,"в том числе:\nБаскетбол (муж.)","13",0,0,0,0,0,0,0,0,0,0,0,0,{"$f":"Раздел2!F21","v":162},{"$f":"Раздел2!D21","v":1}]
[null,"Баскетбол (жен.)","14",0,0,0,0,0,0,0,0,0,0,0,0,{"$f":"Раздел2!F22","v":86},{"$f":"Раздел2!D22","v":1}]
[null,"Бейсбол","15",0,0,0,0,0,0,0,0,0,0,0,0,{"$f":"Раздел2!F23","v":0},{"$f":"Раздел2!D23","v":0}]
[null,"Биатлон","16",0,0,0,0,0,0,0,0,0,0,0,0,{"$f":"Раздел2!F24","v":0},{"$f":"Раздел2!D24","v":0}]
[null,"Бильярдный спорт","17",0,0,0,0,0,0,0,0,0,0,0,0,{"$f":"Раздел2!F25","v":0},{"$f":"Раздел2!D25","v":0}]
[null,"Бобслей - всего","18",{"$f":"SUM(D25:D26)","v":0},{"$f":"SUM(E25:E26)","v":0},0,0,0,0,0,0,0,0,0,0,{"$f":"Раздел2!F26","v":0},{"$f":"Раздел2!D26","v":0}]
[null,"в том числе:\nБобслей","19",0,0,0,0,0,0,0,0,0,0,0,0,{"$f":"Раздел2!F27","v":0},{"$f":"Раздел2!D27","v":0}]
[null,"Скелетон","20",0,0,0,0,0,0,0,0,0,0,0,0,{"$f":"Раздел2!F28","v":0},{"$f":"Раздел2!D28","v":0}]
[null,"Бодибилдинг","21",0,0,0,0,0,0,0,0,0,0,0,0,{"$f":"Раздел2!F29","v":0},{"$f":"Раздел2!D29","v":0}]
[null,"Бокс","22",0,0,0,0,0,0,0,0,0,0,0,0,{"$f":"Раздел2!F30","v":0},{"$f":"Раздел2!D30","v":0}]
[null,"Борьба на поясах","23",0,0,0,0,0,0,0,0,0,0,0,0,{"$f":"Раздел2!F31","v":0},{"$f":"Раздел2!D31","v":0}]
[null,"Боулинг","24",0,0,0,0,0,0,0,0,0,0,0,0,{"$f":"Раздел2!F32","v":0},{"$f":"Раздел2!D32","v":0}]
[null,"Велосипедный спорт - всего","25",{"$f":"SUM(D32:D35)","v":0},{"$f":"SUM(E32:E35)","v":0},0,0,0,0,0,0,0,0,0,0,{"$f":"Раздел2!F33","v":0},{"$f":"Раздел2!D33","v":0}]
[null,"в том числе:\nBMX","26",null,null,null,null,null,null,null,null,null,null,null,null,{"$f":"Раздел2!F34","v":0},{"$f":"Раздел2!D34","v":0}]
[null,"Маунтинбайк","27",null,null,null,null,null,null,null,null,null,null,null,null,{"$f":"Раздел2!F35","v":0},{"$f":"Раздел2!D35","v":0}]
[null,"Трек","28",null,null,null,null,null,null,null,null,null,null,null,null,{"$f":"Раздел2!F36","v":0},{"$f":"Раздел2!D36","v":0}]
[null,"Шоссе","29",null,null,null,null,null,null,null,null,null,null,null,null,{"$f":"Раздел2!F37","v":0},{"$f":"Раздел2!D37","v":0}]
[null,"Вертолетный спорт","30",0,0,0,0,0,0,0,0,0,0,0,0,{"$f":"Раздел2!F38","v":0},{"$f":"Раздел2!D38","v":0}]
[null,"Водно-моторный спорт","31",0,0,0,0,0,0,0,0,0,0,0,0,{"$f":"Раздел2!F39","v":0},{"$f":"Раздел2!D39","v":0}]
[null,"Водно-спасательное многоборье","32",0,0,0,0,0,0,0,0,0,0,0,0,{"$f":"Раздел2!F40","v":0},{"$f":"Раздел2!D40","v":0}]
[null,"Водное поло - всего ","33",{"$f":"SUM(D40:D41)","v":0},{"$f":"SUM(E40:E41)","v":0},0,0,0,0,0,0,0,0,0,0,{"$f":"Раздел2!F41","v":0},{"$f":"Раздел2!D41","v":0}]
[null,"в том числе:\nВодное поло (муж.)","34",0,0,0,0,0,0,0,0,0,0,0,0,{"$f":"Раздел2!F42","v":0},{"$f":"Раздел2!D42","v":0}]
[null,"Водное поло (жен.)","35",0,0,0,0,0,0,0,0,0,0,0,0,{"$f":"Раздел2!F43","v":0},{"$f":"Раздел2!D43","v":0}]
[null,"Воднолыжный спорт","36",0,0,0,0,0,0,0,0,0,0,0,0,{"$f":"Раздел2!F44","v":0},{"$f":"Раздел2!D44","v":0}]
[null,"Военно-прикладной спорт","37",0,0,0,0,0,0,0,0,0,0,0,0,{"$f":"Раздел2!F45","v":0},{"$f":"Раздел2!D45","v":0}]
[null,"Военно-спортивное многоборье","38",0,0,0,0,0,0,0,0,0,0,0,0,{"$f":"Раздел2!F46","v":0},{"$f":"Раздел2!D46","v":0}]
[null,"Воздухоплавательный спорт","39",0,0,0,0,0,0,0,0,0,0,0,0,{"$f":"Раздел2!F47","v":0},{"$f":"Раздел2!D47","v":0}]
[null,"Волейбол - всего","40",{"$f":"SUM(D47:D50)","v":0},{"$f":"SUM(E47:E50)","v":0},0,0,0,0,0,0,0,0,0,0,{"$f":"Раздел2!F48","v":183},{"$f":"Раздел2!D48","v":1}]
[null,"в том числе:\nВолейбол (муж.)","41",0,0,0,0,0,0,0,0,0,0,0,0,{"$f":"Раздел2!F49","v":71},{"$f":"Раздел2!D49","v":1}]
[null,"Волейбол (жен.)","42",0,0,0,0,0,0,0,0,0,0,0,0,{"$f":"Раздел2!F50","v":112},{"$f":"Раздел2!D50","v":1}]
[null,"Пляжный волейбол (муж.)","43",0,0,0,0,0,0,0,0,0,0,0,0,{"$f":"Раздел2!F51","v":0},{"$f":"Раздел2!D51","v":0}]
[null,"Пляжный волейбол (жен.)","44",0,0,0,0,0,0,0,0,0,0,0,0,{"$f":"Раздел2!F52","v":0},{"$f":"Раздел2!D52","v":0}]
[null,"Восточное боевое единоборство","45",0,0,0,0,0,0,0,0,0,0,0,0,{"$f":"Раздел2!F53","v":0},{"$f":"Раздел2!D53","v":0}]
[null,"Всестилевое каратэ","46",0,0,0,0,0,0,0,0,0,0,0,0,{"$f":"Раздел2!F54","v":0},{"$f":"Раздел2!D54","v":0}]
[null,"Гандбол - всего","47",{"$f":"SUM(D54:D56)","v":0},{"$f":"SUM(E54:E56)","v":0},0,0,0,0,0,0,0,0,0,0,{"$f":"Раздел2!F55","v":0},{"$f":"Раздел2!D55","v":0}]
[null,"в том числе:\nГандбол (муж.)","48",0,0,0,0,0,0,0,0,0,0,0,0,{"$f":"Раздел2!F56","v":0},{"$f":"Раздел2!D56","v":0}]
[null,"Гандбол (жен.)","49",0,0,0,0,0,0,0,0,0,0,0,0,{"$f":"Раздел2!F57","v":0},{"$f":"Раздел2!D57","v":0}]
[null,"Пляжный гандбол","50",0,0,0,0,0,0,0,0,0,0,0,0,{"$f":"Раздел2!F58","v":0},{"$f":"Раздел2!D58","v":0}]
[null,"Гиревой спорт","51",0,0,0,0,0,0,0,0,0,0,0,0,{"$f":"Раздел2!F59","v":0},{"$f":"Раздел2!D59","v":0}]
[null,"Го","52",0,0,0,0,0,0,0,0,0,0,0,0,{"$f":"Раздел2!F60","v":0},{"$f":"Раздел2!D60","v":0}]
[null,"Гольф","53",0,0,0,0,0,0,0,0,0,0,0,0,{"$f":"Раздел2!F61","v":0},{"$f":"Раздел2!D61","v":0}]
[null,"Гонки на охотничьих лыжах","54",0,0,0,0,0,0,0,0,0,0,0,0,{"$f":"Раздел2!F62","v":0},{"$f":"Раздел2!D62","v":0}]
[null,"Горнолыжный спорт","55",0,0,0,0,0,0,0,0,0,0,0,0,{"$f":"Раздел2!F63","v":0},{"$f":"Раздел2!D63","v":0}]
[null,"Городошный спорт","56",0,0,0,0,0,0,0,0,0,0,0,0,{"$f":"Раздел2!F64","v":0},{"$f":"Раздел2!D64","v":0}]
[null,"Гребля на байдарках и каноэ","57",0,0,0,0,0,0,0,0,0,0,0,0,{"$f":"Раздел2!F65","v":0},{"$f":"Раздел2!D65","v":0}]
[null,"Гребля на шлюпках","58",0,0,0,0,0,0,0,null,0,0,0,0,{"$f":"Раздел2!F66","v":0},{"$f":"Раздел2!D66","v":0}]
[null,"Гребной слалом","59",0,0,0,0,0,0,0,0,0,0,0,0,{"$f":"Раздел2!F67","v":0},{"$f":"Раздел2!D67","v":0}]
[null,"Гребной спорт - всего","60",{"$f":"SUM(D67:D70)","v":0},{"$f":"SUM(E67:E70)","v":0},0,0,0,0,0,0,0,0,0,0,{"$f":"Раздел2!F68","v":0},{"$f":"Раздел2!D68","v":0}]
[null,"в том числе:\nАкадемическая гребля","61",0,0,0,0,0,0,0,0,0,0,0,0,{"$f":"Раздел2!F69","v":0},{"$f":"Раздел2!D69","v":0}]
[null,"Гребля-индор","62",0,0,0,0,0,0,0,0,0,0,0,0,{"$f":"Раздел2!F70","v":0},{"$f":"Раздел2!D70","v":0}]
[null,"Народная гребля","63",0,0,0,0,0,0,0,0,0,0,0,0,{"$f":"Раздел2!F71","v":0},{"$f":"Раздел2!D71","v":0}]
[null,"Прибрежная гребля","64",0,0,0,0,0,0,0,0,0,0,0,0,{"$f":"Раздел2!F72","v":0},{"$f":"Раздел2!D72","v":0}]
[null,"Гребно-парусное двоеборье","65",0,0,0,0,0,0,0,0,0,0,0,0,{"$f":"Раздел2!F73","v":0},{"$f":"Раздел2!D73","v":0}]
[null,"Дартс","66",0,0,0,0,0,0,0,0,0,0,0,0,{"$f":"Раздел2!F74","v":0},{"$f":"Раздел2!D74","v":0}]
[null,"Джиу-джитсу","67",0,0,0,0,0,0,0,0,0,0,0,0,{"$f":"Раздел2!F75","v":0},{"$f":"Раздел2!D75","v":0}]
[null,"Дзюдо","68",0,0,0,0,0,0,0,0,0,0,0,0,{"$f":"Раздел2!F76","v":0},{"$f":"Раздел2!D76","v":0}]
[null,"Ездовой спорт","69",0,0,0,0,0,0,0,0,0,0,0,0,{"$f":"Раздел2!F77","v":0},{"$f":"Раздел2!D77","v":0}]
[null,"Капоэйра","70",0,0,0,0,0,0,0,0,0,0,0,0,{"$f":"Раздел2!F78","v":0},{"$f":"Раздел2!D78","v":0}]
[null,"Каратэ","71",0,0,0,0,0,0,0,0,0,0,0,0,{"$f":"Раздел2!F79","v":0},{"$f":"Раздел2!D79","v":0}]
[null,"Кендо","72",0,0,0,0,0,0,0,0,0,0,0,0,{"$f":"Раздел2!F80","v":0},{"$f":"Раздел2!D80","v":0}]
[null,"Керешу","73",0,0,0,0,0,0,0,0,0,0,0,0,{"$f":"Раздел2!F81","v":0},{"$f":"Раздел2!D81","v":0}]
[null,"Кёрлинг - всего","74",{"$f":"SUM(D81:D82)","v":0},{"$f":"SUM(E81:E82)","v":0},0,0,0,0,0,0,0,0,0,0,{"$f":"Раздел2!F82","v":0},{"$f":"Раздел2!D82","v":0}]
[null,"в том числе:\nКерлинг (муж.)","75",0,0,0,0,0,0,0,0,0,0,0,0,{"$f":"Раздел2!F83","v":0},{"$f":"Раздел2!D83","v":0}]
[null,"Керлинг (жен.)","76",0,0,0,0,0,0,0,0,0,0,0,0,{"$f":"Раздел2!F84","v":0},{"$f":"Раздел2!D84","v":0}]
[null,"Кикбоксинг","77",0,0,0,0,0,0,0,0,0,0,0,0,{"$f":"Раздел2!F85","v":0},{"$f":"Раздел2!D85","v":0}]
[null,"Кинологический спорт","78",0,0,0,0,0,0,0,0,0,0,0,0,{"$f":"Раздел2!F86","v":0},{"$f":"Раздел2!D86","v":0}]
[null,"Киокусинкай","79",0,0,0,0,0,0,0,0,0,0,0,0,{"$f":"Раздел2!F87","v":0},{"$f":"Раздел2!D87","v":0}]
[null,"Комплексное единоборство","80",0,0,0,0,0,0,0,0,0,0,0,0,{"$f":"Раздел2!F88","v":0},{"$f":"Раздел2!D88","v":0}]
[null,"Компьютерный спорт","81",0,0,0,0,0,0,0,0,0,0,0,0,{"$f":"Раздел2!F89","v":0},{"$f":"Раздел2!D89","v":0}]
[null,"Конный спорт","82",0,0,0,0,0,0,0,0,0,0,0,0,{"$f":"Раздел2!F90","v":0},{"$f":"Раздел2!D90","v":0}]
[null,"Конькобежный спорт - всего","83",{"$f":"SUM(D90:D91)","v":0},{"$f":"SUM(E90:E91)","v":0},0,0,0,0,0,0,0,0,0,0,{"$f":"Раздел2!F91","v":0},{"$f":"Раздел2!D91","v":0}]
[null,"в том числе:\nКонькобежный спорт","84",0,0,0,0,0,0,0,0,0,0,0,0,{"$f":"Раздел2!F92","v":0},{"$f":"Раздел2!D92","v":0}]
[null,"Шорт-трек","85",0,0,0,0,0,0,0,0,0,0,0,0,{"$f":"Раздел2!F93","v":0},{"$f":"Раздел2!D93","v":0}]
[null,"Корэш","86",0,0,0,0,0,0,0,0,0,0,0,0,{"$f":"Раздел2!F94","v":0},{"$f":"Раздел2!D94","v":0}]
[null,"Корфбол","87",0,0,0,0,0,0,0,0,0,0,0,0,{"$f":"Раздел2!F95","v":0},{"$f":"Раздел2!D95","v":0}]
[null,"Кудо","88",0,0,0,0,0,0,0,0,0,0,0,0,{"$f":"Раздел2!F96","v":0},{"$f":"Раздел2!D96","v":0}]
[null,"Лапта","89",0,0,0,0,0,0,0,0,0,0,0,0,{"$f":"Раздел2!F97","v":0},{"$f":"Раздел2!D97","v":0}]
[null,"Легкая атлетика - всего","90",{"$f":"SUM(D97:D103)","v":0},{"$f":"SUM(E97:E103)","v":0},2,0,2,0,0,0,0,0,0,0,{"$f":"Раздел2!F98","v":577},{"$f":"Раздел2!D98","v":1}]
[null,"в том числе:\nСпринтерский и барьерный бег","91",0,0,0,0,0,0,0,0,0,0,0,0,{"$f":"Раздел2!F99","v":0},{"$f":"Раздел2!D99","v":0}]
[null,"Бег на средние дистанции и бег с препятствиями","92",0,0,0,0,0,0,0,0,0,0,0,0,{"$f":"Раздел2!F100","v":0},{"$f":"Раздел2!D100","v":0}]
[null,"Бег на длинные и сверхдлинные дистанции","93",0,0,0,0,0,0,0,0,0,0,0,0,{"$f":"Раздел2!F101","v":0},{"$f":"Раздел2!D101","v":0}]
[null,"Многоборья","94",0,0,2,null,2,null,0,0,0,0,0,0,{"$f":"Раздел2!F102","v":577},{"$f":"Раздел2!D102","v":1}]
[null,"Прыжки","95",0,0,0,0,0,0,0,0,0,0,0,0,{"$f":"Раздел2!F103","v":0},{"$f":"Раздел2!D103","v":0}]
[null,"Метания","96",0,0,0,0,0,0,0,0,0,0,0,0,{"$f":"Раздел2!F104","v":0},{"$f":"Раздел2!D104","v":0}]
[null,"Спортивная ходьба","97",0,0,0,0,0,0,0,0,0,0,0,0,{"$f":"Раздел2!F105","v":0},{"$f":"Раздел2!D105","v":0}]
[null,"Лыжное двоеборье","98",0,0,0,0,0,0,0,0,0,0,0,0,{"$f":"Раздел2!F106","v":0},{"$f":"Раздел2!D106","v":0}]
[null,"Лыжные гонки","99",0,0,0,0,0,0,0,0,0,0,0,0,{"$f":"Раздел2!F107","v":0},{"$f":"Раздел2!D107","v":0}]
[null,"Мас-рестлинг","100",0,0,0,0,0,0,0,0,0,0,0,0,{"$f":"Раздел2!F108","v":0},{"$f":"Раздел2!D108","v":0}]
[null,"Международное военно-спортивное многоборье","101",0,0,0,0,0,0,0,0,0,0,0,0,{"$f":"Раздел2!F109","v":0},{"$f":"Раздел2!D109","v":0}]
[null,"Многоборье кинологов","102",0,0,0,0,0,0,0,0,0,0,0,0,{"$f":"Раздел2!F110","v":0},{"$f":"Раздел2!D110","v":0}]
[null,"Многоборье спасателей МЧС России","103",0,0,0,0,0,0,0,0,0,0,0,0,{"$f":"Раздел2!F111","v":0},{"$f":"Раздел2!D111","v":0}]
[null,"Морское многоборье","104",0,0,0,0,0,0,0,0,0,0,0,0,{"$f":"Раздел2!F112","v":0},{"$f":"Раздел2!D112","v":0}]
[null,"Мотоциклетный спорт","105",0,0,0,0,0,0,0,0,0,0,0,0,{"$f":"Раздел2!F113","v":0},{"$f":"Раздел2!D113","v":0}]
[null,"Настольный теннис","106",0,0,0,0,0,0,0,0,0,0,0,0,{"$f":"Раздел2!F114","v":0},{"$f":"Раздел2!D114","v":0}]
[null,"Парашютный спорт","107",0,0,0,0,0,0,0,0,0,0,0,0,{"$f":"Раздел2!F115","v":0},{"$f":"Раздел2!D115","v":0}]
[null,"Парусный спорт","108",0,0,0,0,0,0,0,0,0,0,0,0,{"$f":"Раздел2!F116","v":0},{"$f":"Раздел2!D116","v":0}]
[null,"Пауэрлифтинг","109",0,0,0,0,0,0,0,0,0,0,0,0,{"$f":"Раздел2!F117","v":0},{"$f":"Раздел2!D117","v":0}]
[null,"Перетягивание каната","110",0,0,0,0,0,0,0,0,0,0,0,0,{"$f":"Раздел2!F118","v":0},{"$f":"Раздел2!D118","v":0}]
[null,"Петанк","111",0,0,0,0,0,0,0,0,0,0,0,0,{"$f":"Раздел2!F119","v":0},{"$f":"Раздел2!D119","v":0}]
[null,"Плавание - всего","112",{"$f":"SUM(D119:D120)","v":0},{"$f":"SUM(E119:E120)","v":0},0,0,0,0,0,0,0,0,0,0,{"$f":"Раздел2!F120","v":0},{"$f":"Раздел2!D120","v":0}]
[null,"в том числе:\nПлавание ","113",0,0,0,0,0,0,0,0,0,0,0,0,{"$f":"Раздел2!F121","v":0},{"$f":"Раздел2!D121","v":0}]
[null,"Открытая вода","114",0,0,0,0,0,0,0,0,0,0,0,0,{"$f":"Раздел2!F122","v":0},{"$f":"Раздел2!D122","v":0}]
[null,"Планерный спорт","115",0,0,0,0,0,0,0,0,0,0,0,0,{"$f":"Раздел2!F123","v":0},{"$f":"Раздел2!D123","v":0}]
[null,"Подводный спорт","116",0,0,0,0,0,0,0,0,0,0,0,0,{"$f":"Раздел2!F124","v":0},{"$f":"Раздел2!D124","v":0}]
[null,"Пожарно-спасательный спорт","117",0,0,0,0,0,0,0,0,0,0,0,0,{"$f":"Раздел2!F125","v":102},{"$f":"Раздел2!D125","v":1}]
[null,"Полиатлон","118",0,0,0,0,0,0,0,0,0,0,0,0,{"$f":"Раздел2!F126","v":0},{"$f":"Раздел2!D126","v":0}]
[null,"Практическая стрельба","119",0,0,0,0,0,0,0,0,0,0,0,0,{"$f":"Раздел2!F127","v":0},{"$f":"Раздел2!D127","v":0}]
[null,"Прыжки в воду - всего","120",{"$f":"SUM(D127:D128)","v":0},{"$f":"SUM(E127:E128)","v":0},0,0,0,0,0,0,0,0,0,0,{"$f":"Раздел2!F128","v":0},{"$f":"Раздел2!D128","v":0}]
[null,"в том числе:\nПрыжки в воду","121",0,0,0,0,0,0,0,0,0,0,0,0,{"$f":"Раздел2!F129","v":0},{"$f":"Раздел2!D129","v":0}]
[null,"Прыжки в открытый водоем","122",0,0,0,0,0,0,0,0,0,0,0,0,{"$f":"Раздел2!F130","v":0},{"$f":"Раздел2!D130","v":0}]
[null,"Прыжки на батуте - всего","123",{"$f":"SUM(D130:D133)","v":0},{"$f":"SUM(E130:E133)","v":0},0,0,0,0,0,0,0,0,0,0,{"$f":"Раздел2!F131","v":0},{"$f":"Раздел2!D131","v":0}]
[null,"в том числе:\nАкробатическая дорожка","124",0,0,0,0,0,0,0,0,0,0,0,0,{"$f":"Раздел2!F132","v":0},{"$f":"Раздел2!D132","v":0}]
[null,"Двойной минитрамп","125",0,0,0,0,0,0,0,0,0,0,0,0,{"$f":"Раздел2!F133","v":0},{"$f":"Раздел2!D133","v":0}]
[null,"Индивидуальные прыжки","126",0,0,0,0,0,0,0,0,0,0,0,0,{"$f":"Раздел2!F134","v":0},{"$f":"Раздел2!D134","v":0}]
[null,"Синхронные прыжки","127",0,0,0,0,0,0,0,0,0,0,0,0,{"$f":"Раздел2!F135","v":0},{"$f":"Раздел2!D135","v":0}]
[null,"Прыжки на лыжах с трамплина","128",0,0,0,0,0,0,0,0,0,0,0,0,{"$f":"Раздел2!F136","v":0},{"$f":"Раздел2!D136","v":0}]
[null,"Пулевая стрельба - всего","129",{"$f":"SUM(D136:D140)","v":0},{"$f":"SUM(E136:E140)","v":0},0,0,0,0,0,0,0,0,0,0,{"$f":"Раздел2!F137","v":0},{"$f":"Раздел2!D137","v":0}]
[null,"в том числе:\nПневматическая винтовка","130",0,0,0,0,0,0,0,0,0,0,0,0,{"$f":"Раздел2!F138","v":0},{"$f":"Раздел2!D138","v":0}]
[null,"Пневматический пистолет","131",0,0,0,0,0,0,0,0,0,0,0,0,{"$f":"Раздел2!F139","v":0},{"$f":"Раздел2!D139","v":0}]
[null,"Малокалиберная винтовка","132",0,0,0,0,0,0,0,0,0,0,0,0,{"$f":"Раздел2!F140","v":0},{"$f":"Раздел2!D140","v":0}]
[null,"Малокалиберный пистолет","133",0,0,0,0,0,0,0,0,0,0,0,0,{"$f":"Раздел2!F141","v":0},{"$f":"Раздел2!D141","v":0}]
[null,"Движущаяся мишень","134",0,0,0,0,0,0,0,0,0,0,0,0,{"$f":"Раздел2!F142","v":0},{"$f":"Раздел2!D142","v":0}]
[null,"Пэйнтбол","135",0,0,0,0,0,0,0,0,0,0,0,0,{"$f":"Раздел2!F143","v":0},{"$f":"Раздел2!D143","v":0}]
[null,"Радиоспорт","136",0,0,0,0,0,0,0,0,0,0,0,0,{"$f":"Раздел2!F144","v":0},{"$f":"Раздел2!D144","v":0}]
[null,"Рафтинг","137",0,0,0,0,0,0,0,0,0,0,0,0,{"$f":"Раздел2!F145","v":0},{"$f":"Раздел2!D145","v":0}]
[null,"Регби - всего","138",{"$f":"SUM(D145:D148)","v":0},{"$f":"SUM(E145:E148)","v":0},0,{"$f":"SUM(G145:G148)","v":0},0,0,0,0,0,0,0,0,{"$f":"Раздел2!F146","v":0},{"$f":"Раздел2!D146","v":0}]
[null,"в том числе:\nРегби","139",0,0,0,0,0,0,0,0,0,0,0,0,{"$f":"Раздел2!F147","v":0},{"$f":"Раздел2!D147","v":0}]
[null,"Регби 7 (муж.)","140",0,0,0,0,0,0,0,0,0,0,0,0,{"$f":"Раздел2!F148","v":0},{"$f":"Раздел2!D148","v":0}]
[null,"Регби 7 (жен.)","141",0,0,0,0,0,0,0,0,0,0,0,0,{"$f":"Раздел2!F149","v":0},{"$f":"Раздел2!D149","v":0}]
[null,"Регби - пляжное","142",0,0,0,0,0,0,0,0,0,0,0,0,{"$f":"Раздел2!F150","v":0},{"$f":"Раздел2!D150","v":0}]
[null,"Регбол","143",0,0,0,0,0,0,0,0,0,0,0,0,{"$f":"Раздел2!F151","v":0},{"$f":"Раздел2!D151","v":0}]
[null,"Роллер спорт","144",0,0,0,0,0,0,0,0,0,0,0,0,{"$f":"Раздел2!F152","v":0},{"$f":"Раздел2!D152","v":0}]
[null,"Рукопашный бой","145",0,0,0,0,0,0,0,0,0,0,0,0,{"$f":"Раздел2!F153","v":0},{"$f":"Раздел2!D153","v":0}]
[null,"Рыболовный спорт","146",0,0,0,0,0,0,0,0,0,0,0,0,{"$f":"Раздел2!F154","v":0},{"$f":"Раздел2!D154","v":0}]
[null,"Сават","147",0,0,0,0,0,0,0,0,0,0,0,0,{"$f":"Раздел2!F155","v":0},{"$f":"Раздел2!D155","v":0}]
[null,"Самбо","148",0,0,0,0,0,0,0,0,0,0,0,0,{"$f":"Раздел2!F156","v":0},{"$f":"Раздел2!D156","v":0}]
[null,"Самолетный спорт","149",0,0,0,0,0,0,0,0,0,0,0,0,{"$f":"Раздел2!F157","v":0},{"$f":"Раздел2!D157","v":0}]
[null,"Санный спорт","150",0,0,0,0,0,0,0,0,0,0,0,0,{"$f":"Раздел2!F158","v":0},{"$f":"Раздел2!D158","v":0}]
[null,"Северное многоборье","151",0,0,0,0,0,0,0,0,0,0,0,0,{"$f":"Раздел2!F159","v":0},{"$f":"Раздел2!D159","v":0}]
[null,"Серфинг","152",0,0,0,0,0,0,0,0,0,0,0,0,{"$f":"Раздел2!F160","v":0},{"$f":"Раздел2!D160","v":0}]
[null,"Синхронное плавание","153",0,0,0,0,0,0,0,0,0,0,0,0,{"$f":"Раздел2!F161","v":0},{"$f":"Раздел2!D161","v":0}]
[null,"Скалолазание","154",0,0,0,0,0,0,0,0,0,0,0,0,{"$f":"Раздел2!F162","v":0},{"$f":"Раздел2!D162","v":0}]
[null,"Сквош","155",0,0,0,0,0,0,0,0,0,0,0,0,{"$f":"Раздел2!F163","v":0},{"$f":"Раздел2!D163","v":0}]
[null,"Скейтбординг","156",0,0,0,0,0,0,0,0,0,0,0,0,{"$f":"Раздел2!F164","v":0},{"$f":"Раздел2!D164","v":0}]
[null,"Служебно-прикладной спорт","157",0,0,0,0,0,0,0,0,0,0,0,0,{"$f":"Раздел2!F165","v":0},{"$f":"Раздел2!D165","v":0}]
[null,"Служебно-прикладной спорт ФСО России","158",0,0,0,0,0,0,0,0,0,0,0,0,{"$f":"Раздел2!F166","v":0},{"$f":"Раздел2!D166","v":0}]
[null,"Служебно-прикладной спорт ФТС России","159",0,0,0,0,0,0,0,0,0,0,0,0,{"$f":"Раздел2!F167","v":0},{"$f":"Раздел2!D167","v":0}]
[null,"Служебное двоеборье","160",0,0,0,0,0,0,0,0,0,0,0,0,{"$f":"Раздел2!F168","v":0},{"$f":"Раздел2!D168","v":0}]
[null,"Служебное единоборство","161",0,0,0,0,0,0,0,0,0,0,0,0,{"$f":"Раздел2!F169","v":0},{"$f":"Раздел2!D169","v":0}]
[null,"Служебное многоборье","162",0,0,0,0,0,0,0,0,0,0,0,0,{"$f":"Раздел2!F170","v":0},{"$f":"Раздел2!D170","v":0}]
[null,"Служебный биатлон","163",0,0,0,0,0,0,0,0,0,0,0,0,{"$f":"Раздел2!F171","v":0},{"$f":"Раздел2!D171","v":0}]
[null,"Спасательный спорт","164",0,0,0,0,0,0,0,0,0,0,0,0,{"$f":"Раздел2!F172","v":0},{"$f":"Раздел2!D172","v":0}]
[null,"Стрельба из боевого ручного стрелкового оружия","165",0,0,0,0,0,0,0,0,0,0,0,0,{"$f":"Раздел2!F173","v":0},{"$f":"Раздел2!D173","v":0}]
[null,"Стрельба из штатного или табельного оружия","166",0,0,0,0,0,0,0,0,0,0,0,0,{"$f":"Раздел2!F174","v":0},{"$f":"Раздел2!D174","v":0}]
[null,"Смешанное боевое единоборство (ММА)","167",0,0,0,0,0,0,0,0,0,0,0,0,{"$f":"Раздел2!F175","v":0},{"$f":"Раздел2!D175","v":0}]
[null,"Сноуборд","168",0,0,0,0,0,0,0,0,0,0,0,0,{"$f":"Раздел2!F176","v":0},{"$f":"Раздел2!D176","v":0}]
[null,"Современное пятиборье","169",0,0,0,0,0,0,0,0,0,0,0,0,{"$f":"Раздел2!F177","v":0},{"$f":"Раздел2!D177","v":0}]
[null,"Софтбол","170",0,0,0,0,0,0,0,0,0,0,0,0,{"$f":"Раздел2!F178","v":0},{"$f":"Раздел2!D178","v":0}]
[null,"Спорт сверхлегкой авиации","171",0,0,0,0,0,0,0,0,0,0,0,0,{"$f":"Раздел2!F179","v":0},{"$f":"Раздел2!D179","v":0}]
[null,"Спортивная акробатика","172",0,0,0,0,0,0,0,0,0,0,0,0,{"$f":"Раздел2!F180","v":128},{"$f":"Раздел2!D180","v":1}]
[null,"Спортивная аэробика","173",0,0,0,0,0,0,0,0,0,0,0,0,{"$f":"Раздел2!F181","v":0},{"$f":"Раздел2!D181","v":0}]
[null,"Спортивная борьба - всего","174",{"$f":"SUM(D181:D185)","v":0},{"$f":"SUM(E181:E185)","v":0},0,0,0,0,0,0,0,0,0,0,{"$f":"Раздел2!F182","v":0},{"$f":"Раздел2!D182","v":0}]
[null,"в том числе:\nВольная борьба","175",0,0,0,0,0,0,0,0,0,0,0,0,{"$f":"Раздел2!F183","v":0},{"$f":"Раздел2!D183","v":0}]
[null,"Греко-римская борьба","176",0,0,0,0,0,0,0,0,0,0,0,0,{"$f":"Раздел2!F184","v":0},{"$f":"Раздел2!D184","v":0}]
[null,"Грэпплинг","177",0,0,0,0,0,0,0,0,0,0,0,0,{"$f":"Раздел2!F185","v":0},{"$f":"Раздел2!D185","v":0}]
[null,"Грэпплинг-ги","178",0,0,0,0,0,0,0,0,0,0,0,0,{"$f":"Раздел2!F186","v":0},{"$f":"Раздел2!D186","v":0}]
[null,"Панкратион","179",0,0,0,0,0,0,0,0,0,0,0,0,{"$f":"Раздел2!F187","v":0},{"$f":"Раздел2!D187","v":0}]
[null,"Спортивная гимнастика","180",0,0,0,0,0,0,0,0,0,0,0,0,{"$f":"Раздел2!F188","v":201},{"$f":"Раздел2!D188","v":1}]
[null,"Спортивная йога","181",0,0,0,0,0,0,0,0,0,0,0,0,{"$f":"Раздел2!F189","v":0},{"$f":"Раздел2!D189","v":0}]
[null,"Спортивно-прикладное собаководство","182",0,0,0,0,0,0,0,0,0,0,0,0,{"$f":"Раздел2!F190","v":0},{"$f":"Раздел2!D190","v":0}]
[null,"Спортивное ориентирование","183",0,0,0,0,0,0,0,0,0,0,0,0,{"$f":"Раздел2!F191","v":0},{"$f":"Раздел2!D191","v":0}]
[null,"Спортивный бридж","184",0,0,0,0,0,0,0,0,0,0,0,0,{"$f":"Раздел2!F192","v":0},{"$f":"Раздел2!D192","v":0}]
[null,"Спортивный туризм","185",0,0,0,0,0,0,0,0,0,0,0,0,{"$f":"Раздел2!F193","v":0},{"$f":"Раздел2!D193","v":0}]
[null,"Стендовая стрельба - всего","186",{"$f":"SUM(D193:D196)","v":0},{"$f":"SUM(E193:E196)","v":0},0,0,0,0,0,0,0,0,0,0,{"$f":"Раздел2!F194","v":0},{"$f":"Раздел2!D194","v":0}]
[null,"в том числе:\nТрап","187",0,0,0,0,0,0,0,0,0,0,0,0,{"$f":"Раздел2!F195","v":0},{"$f":"Раздел2!D195","v":0}]
[null,"Скит","188",0,0,0,0,0,0,0,0,0,0,0,0,{"$f":"Раздел2!F196","v":0},{"$f":"Раздел2!D196","v":0}]
[null,"Дубль-трап","189",0,0,0,0,0,0,0,0,0,0,0,0,{"$f":"Раздел2!F197","v":0},{"$f":"Раздел2!D197","v":0}]
[null,"Спортинг","190",0,0,0,0,0,0,0,0,0,0,0,0,{"$f":"Раздел2!F198","v":0},{"$f":"Раздел2!D198","v":0}]
[null,"Стрельба из арбалета","191",0,0,0,0,0,0,0,0,0,0,0,0,{"$f":"Раздел2!F199","v":0},{"$f":"Раздел2!D199","v":0}]
[null,"Стрельба из лука - всего","192",{"$f":"SUM(D199:D201)","v":0},{"$f":"SUM(E199:E201)","v":0},0,0,0,0,0,0,0,0,0,0,{"$f":"Раздел2!F200","v":0},{"$f":"Раздел2!D200","v":0}]
[null,"в том числе:\nКлассический лук","193",0,0,0,0,0,0,0,0,0,0,0,0,{"$f":"Раздел2!F201","v":0},{"$f":"Раздел2!D201","v":0}]
[null,"   Блочный лук","194",0,0,0,0,0,0,0,0,0,0,0,0,{"$f":"Раздел2!F202","v":0},{"$f":"Раздел2!D202","v":0}]
[null,"   Ачери ","195",0,0,0,0,0,0,0,0,0,0,0,0,{"$f":"Раздел2!F203","v":0},{"$f":"Раздел2!D203","v":0}]
[null,"Судомодельный спорт","196",0,0,0,0,0,0,0,0,0,0,0,0,{"$f":"Раздел2!F204","v":0},{"$f":"Раздел2!D204","v":0}]
[null,"Сумо","197",0,0,0,0,0,0,0,0,0,0,0,0,{"$f":"Раздел2!F205","v":0},{"$f":"Раздел2!D205","v":0}]
[null,"Тайский бокс","198",0,0,0,0,0,0,0,0,0,0,0,0,{"$f":"Раздел2!F206","v":0},{"$f":"Раздел2!D206","v":0}]
[null,"Танцевальный спорт","199",0,0,0,0,0,0,0,0,0,0,0,0,{"$f":"Раздел2!F207","v":0},{"$f":"Раздел2!D207","v":0}]
[null,"Теннис","200",0,0,0,0,0,0,0,0,0,0,0,0,{"$f":"Раздел2!F208","v":0},{"$f":"Раздел2!D208","v":0}]
[null,"Триатлон","201",0,0,0,0,0,0,0,0,0,0,0,0,{"$f":"Раздел2!F209","v":0},{"$f":"Раздел2!D209","v":0}]
[null,"Тхэквондо - всего","202",{"$f":"SUM(D209:D210)","v":0},{"$f":"SUM(E209:E210)","v":0},0,0,0,0,0,0,0,0,0,0,{"$f":"Раздел2!F210","v":0},{"$f":"Раздел2!D210","v":0}]
[null,"в том числе:\nТхэквондо (ГТФ, ИТФ, МФТ)","203",0,0,0,0,0,0,0,0,0,0,0,0,{"$f":"Раздел2!F211","v":0},{"$f":"Раздел2!D211","v":0}]
[null,"Тхэквондо (ВТФ)","204",0,0,0,0,0,0,0,0,0,0,0,0,{"$f":"Раздел2!F212","v":0},{"$f":"Раздел2!D212","v":0}]
[null,"Тяжелая атлетика","205",0,0,0,0,0,0,0,0,0,0,0,0,{"$f":"Раздел2!F213","v":0},{"$f":"Раздел2!D213","v":0}]
[null,"Универсальный бой","206",0,0,0,0,0,0,0,0,0,0,0,0,{"$f":"Раздел2!F214","v":0},{"$f":"Раздел2!D214","v":0}]
[null,"Ушу","207",0,0,0,0,0,0,0,0,0,0,0,0,{"$f":"Раздел2!F215","v":0},{"$f":"Раздел2!D215","v":0}]
[null,"Фехтование - всего","208",{"$f":"SUM(D215:D218)","v":0},{"$f":"SUM(E215:E218)","v":0},0,0,0,0,0,0,0,0,0,0,{"$f":"Раздел2!F216","v":0},{"$f":"Раздел2!D216","v":0}]
[null,"в том числе:\nРапира","209",0,0,0,0,0,0,0,0,0,0,0,0,{"$f":"Раздел2!F217","v":0},{"$f":"Раздел2!D217","v":0}]
[null,"Сабля","210",0,0,0,0,0,0,0,0,0,0,0,0,{"$f":"Раздел2!F218","v":0},{"$f":"Раздел2!D218","v":0}]
[null,"Шпага","211",0,0,0,0,0,0,0,0,0,0,0,0,{"$f":"Раздел2!F219","v":0},{"$f":"Раздел2!D219","v":0}]
[null,"Арт-фехтование","212",0,0,0,0,0,0,0,0,0,0,0,0,{"$f":"Раздел2!F220","v":0},{"$f":"Раздел2!D220","v":0}]
[null,"Фигурное катание на коньках","213",0,0,0,0,0,0,0,0,0,0,0,0,{"$f":"Раздел2!F221","v":0},{"$f":"Раздел2!D221","v":0}]
[null,"Фитнес-аэробика","214",0,0,0,0,0,0,0,0,0,0,0,0,{"$f":"Раздел2!F222","v":0},{"$f":"Раздел2!D222","v":0}]
[null,"Флаинг диск","215",0,0,0,0,0,0,0,0,0,0,0,0,{"$f":"Раздел2!F223","v":0},{"$f":"Раздел2!D223","v":0}]
[null,"Флорбол","216",0,0,0,0,0,0,0,0,0,0,0,0,{"$f":"Раздел2!F224","v":0},{"$f":"Раздел2!D224","v":0}]
[null,"Фристайл - всего","217",{"$f":"SUM(D224:D228)","v":0},{"$f":"SUM(E224:E228)","v":0},0,0,0,0,0,0,0,0,0,0,{"$f":"Раздел2!F225","v":0},{"$f":"Раздел2!D225","v":0}]
[null,"в том числе:\nАкробатика","218",0,0,0,0,0,0,0,0,0,0,0,0,{"$f":"Раздел2!F226","v":0},{"$f":"Раздел2!D226","v":0}]
[null,"Могул","219",0,0,0,0,0,0,0,0,0,0,0,0,{"$f":"Раздел2!F227","v":0},{"$f":"Раздел2!D227","v":0}]
[null,"Ски-кросс","220",0,0,0,0,0,0,0,0,0,0,0,0,{"$f":"Раздел2!F228","v":0},{"$f":"Раздел2!D228","v":0}]
[null,"Хаф-пайп","221",0,0,0,0,0,0,0,0,0,0,0,0,{"$f":"Раздел2!F229","v":0},{"$f":"Раздел2!D229","v":0}]
[null,"Слоуп-стайл","222",0,0,0,0,0,0,0,0,0,0,0,0,{"$f":"Раздел2!F230","v":0},{"$f":"Раздел2!D230","v":0}]
[null,"Функциональное многоборье","223",0,0,0,0,0,0,0,0,0,0,0,0,{"$f":"Раздел2!F231","v":0},{"$f":"Раздел2!D231","v":0}]
[null,"Футбол - всего","224",{"$f":"SUM(D231:D234)","v":0},{"$f":"SUM(E231:E234)","v":0},0,0,0,0,0,0,0,0,0,0,{"$f":"Раздел2!F232","v":0},{"$f":"Раздел2!D232","v":0}]
[null,"в том числе:\nФутбол (муж.)","225",0,0,0,0,0,0,0,0,0,0,0,0,{"$f":"Раздел2!F233","v":0},{"$f":"Раздел2!D233","v":0}]
[null,"Футбол (жен.)","226",0,0,0,0,0,0,0,0,0,0,0,0,{"$f":"Раздел2!F234","v":0},{"$f":"Раздел2!D234","v":0}]
[null,"Мини-футбол (футзал)","227",0,0,0,0,0,0,0,0,0,0,0,0,{"$f":"Раздел2!F235","v":0},{"$f":"Раздел2!D235","v":0}]
[null,"Пляжный футбол","228",0,0,0,0,0,0,0,0,0,0,0,0,{"$f":"Раздел2!F236","v":0},{"$f":"Раздел2!D236","v":0}]
[null,"Хапсагай","229",0,0,0,0,0,0,0,0,0,0,0,0,{"$f":"Раздел2!F237","v":0},{"$f":"Раздел2!D237","v":0}]
[null,"Хоккей - всего","230",{"$f":"SUM(D237:D238)","v":0},{"$f":"SUM(E237:E238)","v":0},0,0,0,0,0,0,0,0,0,0,{"$f":"Раздел2!F238","v":0},{"$f":"Раздел2!D238","v":0}]
[null,"в том числе:\nХоккей (муж.)","231",0,0,0,0,0,0,0,0,0,0,0,0,{"$f":"Раздел2!F239","v":0},{"$f":"Раздел2!D239","v":0}]
[null,"Хоккей (жен.)","232",0,0,0,0,0,0,0,0,0,0,0,0,{"$f":"Раздел2!F240","v":0},{"$f":"Раздел2!D240","v":0}]
[null,"Хоккей на траве - всего","233",{"$f":"SUM(D240:D242)","v":0},{"$f":"SUM(E240:E242)","v":0},0,0,0,0,0,0,0,0,0,0,{"$f":"Раздел2!F241","v":0},{"$f":"Раздел2!D241","v":0}]
[null,"в том числе:\nХоккей на траве (муж.)","234",0,0,0,0,0,0,0,0,0,0,0,0,{"$f":"Раздел2!F242","v":0},{"$f":"Раздел2!D242","v":0}]
[null,"Хоккей на траве (жен.)","235",0,0,0,0,0,0,0,0,0,0,0,0,{"$f":"Раздел2!F243","v":0},{"$f":"Раздел2!D243","v":0}]
[null,"Индорхоккей","236",0,0,0,0,0,0,0,0,0,0,0,0,{"$f":"Раздел2!F244","v":0},{"$f":"Раздел2!D244","v":0}]
[null,"Хоккей с мячом","237",0,0,0,0,0,0,0,0,0,0,0,0,{"$f":"Раздел2!F245","v":0},{"$f":"Раздел2!D245","v":0}]
[null,"Художественная гимнастика","238",0,0,0,0,0,0,0,0,0,0,0,0,{"$f":"Раздел2!F246","v":0},{"$f":"Раздел2!D246","v":0}]
[null,"Хуреш","239",0,0,0,0,0,0,0,0,0,0,0,0,{"$f":"Раздел2!F247","v":0},{"$f":"Раздел2!D247","v":0}]
[null,"Чир спорт","240",0,0,0,0,0,0,0,0,0,0,0,0,{"$f":"Раздел2!F248","v":0},{"$f":"Раздел2!D248","v":0}]
[null,"Шахматы","241",0,0,0,0,0,0,0,0,0,0,0,0,{"$f":"Раздел2!F249","v":0},{"$f":"Раздел2!D249","v":0}]
[null,"Шашки","242",0,0,0,0,0,0,0,0,0,0,0,0,{"$f":"Раздел2!F250","v":0},{"$f":"Раздел2!D250","v":0}]
[null,"Шодсанлат","243",0,0,null,0,null,null,0,0,null,0,0,0,{"$f":"Раздел2!F251","v":0},{"$f":"Раздел2!D251","v":0}]
[null,"Эстетическая гимнастика","244",0,0,0,0,0,0,0,0,null,0,0,0,{"$f":"Раздел2!F252","v":0},{"$f":"Раздел2!D252","v":0}]
[null,"Якутские национальные прыжки","245",0,0,0,0,0,0,0,0,0,0,0,0,{"$f":"Раздел2!F253","v":0},{"$f":"Раздел2!D253","v":0}]
[null,"ИТОГО","246",{"$f":"SUM(D7:D18,D21:D24,D27:D31,D36:D39,D42:D46,D51:D53,D57:D66,D71:D80,D83:D89,D92:D96,D104:D118,D121:D126,D129,D134,D135,D141:D144,D149:D180,D186:D192,D197:D198,D202:D208,D211:D214,D219:D223,D229:D230,D235,D236,D239,D243:D251)","v":0},{"$f":"SUM(E7:E18,E21:E24,E27:E31,E36:E39,E42:E46,E51:E53,E57:E66,E71:E80,E83:E89,E92:E96,E104:E118,E121:E126,E129,E134,E135,E141:E144,E149:E180,E186:E192,E197:E198,E202:E208,E211:E214,E219:E223,E229:E230,E235,E236,E239,E243:E251)","v":0},2,0,2,0,0,0,0,0,0,{"$f":"SUM(O7:O18,O21:O24,O27:O31,O36:O39,O42:O46,O51:O53,O57:O66,O71:O80,O83:O89,O92:O96,O104:O118,O121:O126,O129,O134,O135,O141:O144,O149:O180,O186:O192,O197:O198,O202:O208,O211:O214,O219:O223,O229:O230,O235,O236,O239,O243:O251)","v":0},1439,6]

{"sheet":"Раздел7","index":7,"n_rows":253,"n_cols":37,"rows_kept":253,"cut":false,"hidden":false,"merged":[[0,0,122,0],[2,1,5,1],[2,2,5,2],[2,36,5,36],[1,28,1,33],[2,3,5,3],[2,4,2,33],[0,1,0,33],[0,34,122,34],[3,4,4,8],[3,9,4,13],[3,14,4,18],[3,19,4,23],[3,24,4,28],[3,29,4,33]]}
[null,"Раздел VII. Всероссийские спортивные соревнования"]
[null,null,null,null,null,null,null,null,null,null,null,null,null,null,null,null,null,null,null,null,null,null,null,null,null,null,null,null,"Коды по ОКЕИ: человек – 792, единица - 642"]
[null,"Виды спорта","№ строки","Всего зани-маю-щихся","Результаты выступлений на соревнованиях",null,null,null,null,null,null,null,null,null,null,null,null,null,null,null,null,null,null,null,null,null,null,null,null,null,null,null,null,null,null,null,"Раздел2 графа3\nЧисло отделений"]
[null,null,null,null,"Всего",null,null,null,null,"Чемпионат России",null,null,null,null,"Первенство России среди юниоров и юниорок",null,null,null,null,"Первенство России среди юношей и девушек",null,null,null,null,"Кубок России",null,null,null,null,"Прочие официальные всероссийские соревнования"]
[]
[null,null,null,null,1,2,3,"4-6","учас-тие",1,2,3,"4-6","учас-тие",1,2,3,"4-6","учас-тие",1,2,3,"4-6","учас-тие",1,2,3,"4-6","учас-тие",1,2,3,"4-6","учас-тие"]
[null,1,2,3,4,5,6,7,8,9,10,11,12,13,14,15,16,17,18,19,20,21,22,23,24,25,26,27,28,29,30,31,32,33]
[null,"Авиамодельный спорт","01",{"$f":"Раздел2!F9","v":0},{"$f":"J8+O8+T8+Y8+AD8","v":0},{"$f":"SUM(K8,P8,U8,Z8,AE8)","v":0},{"$f":"SUM(L8,Q8,V8,AA8,AF8)","v":0},{"$f":"SUM(M8,R8,W8,AB8,AG8)","v":0},{"$f":"SUM(N8,S8,X8,AC8,AH8)","v":0},null,null,null,null,null,null,null,null,null,null,null,null,null,null,null,null,null,null,null,null,null,null,null,null,null,null,null,{"$f":"Раздел2!D9","v":0}]
[null,"Автомобильный спорт","02",{"$f":"Раздел2!F10","v":0},{"$f":"J9+O9+T9+Y9+AD9","v":0},{"$f":"SUM(K9,P9,U9,Z9,AE9)","v":0},{"$f":"SUM(L9,Q9,V9,AA9,AF9)","v":0},{"$f":"SUM(M9,R9,W9,AB9,AG9)","v":0},{"$f":"SUM(N9,S9,X9,AC9,AH9)","v":0},null,null,null,null,null,null,null,null,null,null,null,null,null,null,null,null,null,null,null,null,null,null,null,null,null,null,null,{"$f":"Раздел2!D10","v":0}]
[null,"Автомодельный спорт","03",{"$f":"Раздел2!F11","v":0},0,0,0,0,0,null,null,null,null,null,null,null,null,null,null,null,null,null,null,null,null,null,null,null,null,null,null,null,null,null,null,null,{"$f":"Раздел2!D11","v":0}]
[null,"Айкидо","04",{"$f":"Раздел2!F12","v":0},0,0,0,0,0,null,null,null,null,null,null,null,null,null,null,null,null,null,null,null,null,null,null,null,null,null,null,null,null,null,null,null,{"$f":"Раздел2!D12","v":0}]
[null,"Айсшток","05",{"$f":"Раздел2!F13","v":0},0,0,0,0,0,null,null,null,null,null,null,null,null,null,null,null,null,null,null,null,null,null,null,null,null,null,null,null,null,null,null,null,{"$f":"Раздел2!D13","v":0}]
[null,"Акробатический рок-н-ролл","06",{"$f":"Раздел2!F14","v":0},0,0,0,0,0,null,null,null,null,null,null,null,null,null,null,null,null,null,null,null,null,null,null,null,null,null,null,null,null,null,null,null,{"$f":"Раздел2!D14","v":0}]
[null,"Альпинизм","07",{"$f":"Раздел2!F15","v":0},0,0,0,0,0,null,null,null,null,null,null,null,null,null,null,null,null,null,null,null,null,null,null,null,null,null,null,null,null,null,null,null,{"$f":"Раздел2!D15","v":0}]
[null,"Американский футбол","08",{"$f":"Раздел2!F16","v":0},0,0,0,0,0,null,null,null,null,null,null,null,null,null,null,null,null,null,null,null,null,null,null,null,null,null,null,null,null,null,null,null,{"$f":"Раздел2!D16","v":0}]
[null,"Армейский рукопашный бой","09",{"$f":"Раздел2!F17","v":0},0,0,0,0,0,null,null,null,null,null,null,null,null,null,null,null,null,null,null,null,null,null,null,null,null,null,null,null,null,null,null,null,{"$f":"Раздел2!D17","v":0}]
[null,"Армрестлинг","10",{"$f":"Раздел2!F18","v":0},0,0,0,0,0,null,null,null,null,null,null,null,null,null,null,null,null,null,null,null,null,null,null,null,null,null,null,null,null,null,null,null,{"$f":"Раздел2!D18","v":0}]
[null,"Бадминтон","11",{"$f":"Раздел2!F19","v":0},0,0,0,0,0,null,null,null,null,null,null,null,null,null,null,null,null,null,null,null,null,null,null,null,null,null,null,null,null,null,null,null,{"$f":"Раздел2!D19","v":0}]
[null,"Баскетбол - всего","12",{"$f":"Раздел2!F20","v":248},0,0,0,1,0,{"$f":"SUM(J20:J21)","v":0},{"$f":"SUM(K20:K21)","v":0},0,0,0,0,0,0,0,0,0,0,0,1,0,0,0,0,0,0,0,0,0,0,0,null,null,{"$f":"Раздел2!D20","v":1}]
[null,"в том числе:\nБаскетбол (муж.)","13",{"$f":"Раздел2!F21","v":162},0,0,0,1,0,null,null,null,null,null,null,null,null,null,null,null,null,null,1,null,null,null,null,null,null,null,null,null,null,null,null,null,{"$f":"Раздел2!D21","v":1}]
[null,"Баскетбол (жен.)","14",{"$f":"Раздел2!F22","v":86},0,0,0,0,0,null,null,null,null,null,null,null,null,null,null,null,null,null,null,null,null,null,null,null,null,null,null,null,null,null,null,null,{"$f":"Раздел2!D22","v":1}]
[null,"Бейсбол","15",{"$f":"Раздел2!F23","v":0},0,0,0,0,0,null,null,null,null,null,null,null,null,null,null,null,null,null,null,null,null,null,null,null,null,null,null,null,null,null,null,null,{"$f":"Раздел2!D23","v":0}]
[null,"Биатлон","16",{"$f":"Раздел2!F24","v":0},0,0,0,0,0,null,null,null,null,null,null,null,null,null,null,null,null,null,null,null,null,null,null,null,null,null,null,null,null,null,null,null,{"$f":"Раздел2!D24","v":0}]
[null,"Бильярдный спорт","17",{"$f":"Раздел2!F25","v":0},0,0,0,0,0,null,null,null,null,null,null,null,null,null,null,null,null,null,null,null,null,null,null,null,null,null,null,null,null,null,null,null,{"$f":"Раздел2!D25","v":0}]
[null,"Бобслей - всего","18",{"$f":"Раздел2!F26","v":0},0,0,0,0,0,{"$f":"SUM(J26:J27)","v":0},{"$f":"SUM(K26:K27)","v":0},0,0,0,0,0,0,0,0,0,0,0,0,0,0,0,0,0,0,0,0,0,0,0,null,null,{"$f":"Раздел2!D26","v":0}]
[null,"в том числе:\nБобслей","19",{"$f":"Раздел2!F27","v":0},0,0,0,0,0,null,null,null,null,null,null,null,null,null,null,null,null,null,null,null,null,null,null,null,null,null,null,null,null,null,null,null,{"$f":"Раздел2!D27","v":0}]
[null,"Скелетон","20",{"$f":"Раздел2!F28","v":0},0,0,0,0,0,null,null,null,null,null,null,null,null,null,null,null,null,null,null,null,null,null,null,null,null,null,null,null,null,null,null,null,{"$f":"Раздел2!D28","v":0}]
[null,"Бодибилдинг","21",{"$f":"Раздел2!F29","v":0},0,0,0,0,0,null,null,null,null,null,null,null,null,null,null,null,null,null,null,null,null,null,null,null,null,null,null,null,null,null,null,null,{"$f":"Раздел2!D29","v":0}]
[null,"Бокс","22",{"$f":"Раздел2!F30","v":0},0,0,0,0,0,null,null,null,null,null,null,null,null,null,null,null,null,null,null,null,null,null,null,null,null,null,null,null,null,null,null,null,{"$f":"Раздел2!D30","v":0}]
[null,"Борьба на поясах","23",{"$f":"Раздел2!F31","v":0},0,0,0,0,0,null,null,null,null,null,null,null,null,null,null,null,null,null,null,null,null,null,null,null,null,null,null,null,null,null,null,null,{"$f":"Раздел2!D31","v":0}]
[null,"Боулинг","24",{"$f":"Раздел2!F32","v":0},0,0,0,0,0,null,null,null,null,null,null,null,null,null,null,null,null,null,null,null,null,null,null,null,null,null,null,null,null,null,null,null,{"$f":"Раздел2!D32","v":0}]
[null,"Велосипедный спорт - всего","25",{"$f":"Раздел2!F33","v":0},0,0,0,0,0,{"$f":"SUM(J33:J36)","v":0},{"$f":"SUM(K33:K36)","v":0},0,0,0,0,0,0,0,0,0,0,0,0,0,0,0,0,0,0,0,0,0,0,0,null,null,{"$f":"Раздел2!D33","v":0}]
[null,"в том числе:\nBMX","26",{"$f":"Раздел2!F34","v":0},0,0,0,0,0,null,null,null,null,null,null,null,null,null,null,null,null,null,null,null,null,null,null,null,null,null,null,null,null,null,null,null,{"$f":"Раздел2!D34","v":0}]
[null,"Маунтинбайк","27",{"$f":"Раздел2!F35","v":0},0,0,0,0,0,null,null,null,null,null,null,null,null,null,null,null,null,null,null,null,null,null,null,null,null,null,null,null,null,null,null,null,{"$f":"Раздел2!D35","v":0}]
[null,"Трек","28",{"$f":"Раздел2!F36","v":0},0,0,0,0,0,null,null,null,null,null,null,null,null,null,null,null,null,null,null,null,null,null,null,null,null,null,null,null,null,null,null,null,{"$f":"Раздел2!D36","v":0}]
[null,"Шоссе","29",{"$f":"Раздел2!F37","v":0},0,0,0,0,0,null,null,null,null,null,null,null,null,null,null,null,null,null,null,null,null,null,null,null,null,null,null,null,null,null,null,null,{"$f":"Раздел2!D37","v":0}]
[null,"Вертолетный спорт","30",{"$f":"Раздел2!F38","v":0},0,0,0,0,0,null,null,null,null,null,null,null,null,null,null,null,null,null,null,null,null,null,null,null,null,null,null,null,null,null,null,null,{"$f":"Раздел2!D38","v":0}]
[null,"Водно-моторный спорт","31",{"$f":"Раздел2!F39","v":0},0,0,0,0,0,null,null,null,null,null,null,null,null,null,null,null,null,null,null,null,null,null,null,null,null,null,null,null,null,null,null,null,{"$f":"Раздел2!D39","v":0}]
[null,"Водно-спасательное многоборье","32",{"$f":"Раздел2!F40","v":0},0,0,0,0,0,null,null,null,null,null,null,null,null,null,null,null,null,null,null,null,null,null,null,null,null,null,null,null,null,null,null,null,{"$f":"Раздел2!D40","v":0}]
[null,"Водное поло - всего ","33",{"$f":"Раздел2!F41","v":0},0,0,0,0,0,{"$f":"SUM(J41:J42)","v":0},{"$f":"SUM(K41:K42)","v":0},0,0,0,0,0,0,0,0,0,0,0,0,0,0,0,0,0,0,0,0,0,0,0,null,null,{"$f":"Раздел2!D41","v":0}]
[null,"в том числе:\nВодное поло (муж.)","34",{"$f":"Раздел2!F42","v":0},0,0,0,0,0,null,null,null,null,null,null,null,null,null,null,null,null,null,null,null,null,null,null,null,null,null,null,null,null,null,null,null,{"$f":"Раздел2!D42","v":0}]
[null,"Водное поло (жен.)","35",{"$f":"Раздел2!F43","v":0},0,0,0,0,0,null,null,null,null,null,null,null,null,null,null,null,null,null,null,null,null,null,null,null,null,null,null,null,null,null,null,null,{"$f":"Раздел2!D43","v":0}]
[null,"Воднолыжный спорт","36",{"$f":"Раздел2!F44","v":0},0,0,0,0,0,null,null,null,null,null,null,null,null,null,null,null,null,null,null,null,null,null,null,null,null,null,null,null,null,null,null,null,{"$f":"Раздел2!D44","v":0}]
[null,"Военно-прикладной спорт","37",{"$f":"Раздел2!F45","v":0},0,0,0,0,0,null,null,null,null,null,null,null,null,null,null,null,null,null,null,null,null,null,null,null,null,null,null,null,null,null,null,null,{"$f":"Раздел2!D45","v":0}]
[null,"Военно-спортивное многоборье","38",{"$f":"Раздел2!F46","v":0},0,0,0,0,0,null,null,null,null,null,null,null,null,null,null,null,null,null,null,null,null,null,null,null,null,null,null,null,null,null,null,null,{"$f":"Раздел2!D46","v":0}]
[null,"Воздухоплавательный спорт","39",{"$f":"Раздел2!F47","v":0},0,0,0,0,0,null,null,null,null,null,null,null,null,null,null,null,null,null,null,null,null,null,null,null,null,null,null,null,null,null,null,null,{"$f":"Раздел2!D47","v":0}]
[null,"Волейбол - всего","40",{"$f":"Раздел2!F48","v":183},0,0,0,0,0,{"$f":"SUM(J48:J51)","v":0},{"$f":"SUM(K48:K51)","v":0},0,0,0,0,0,0,0,0,0,0,0,0,0,0,0,0,0,0,0,0,0,0,0,null,null,{"$f":"Раздел2!D48","v":1}]
[null,"в том числе:\nВолейбол (муж.)","41",{"$f":"Раздел2!F49","v":71},0,0,0,0,0,null,null,null,null,null,null,null,null,null,null,null,null,null,null,null,null,null,null,null,null,null,null,null,null,null,null,null,{"$f":"Раздел2!D49","v":1}]
[null,"Волейбол (жен.)","42",{"$f":"Раздел2!F50","v":112},0,0,0,0,0,null,null,null,null,null,null,null,null,null,null,null,null,null,null,null,null,null,null,null,null,null,null,null,null,null,null,null,{"$f":"Раздел2!D50","v":1}]
[null,"Пляжный волейбол (муж.)","43",{"$f":"Раздел2!F51","v":0},0,0,0,0,0,null,null,null,null,null,null,null,null,null,null,null,null,null,null,null,null,null,null,null,null,null,null,null,null,null,null,null,{"$f":"Раздел2!D51","v":0}]
[null,"Пляжный волейбол (жен.)","44",{"$f":"Раздел2!F52","v":0},0,0,0,0,0,null,null,null,null,null,null,null,null,null,null,null,null,null,null,null,null,null,null,null,null,null,null,null,null,null,null,null,{"$f":"Раздел2!D52","v":0}]
[null,"Восточное боевое единоборство","45",{"$f":"Раздел2!F53","v":0},0,0,0,0,0,null,null,null,null,null,null,null,null,null,null,null,null,null,null,null,null,null,null,null,null,null,null,null,null,null,null,null,{"$f":"Раздел2!D53","v":0}]
[null,"Всестилевое каратэ","46",{"$f":"Раздел2!F54","v":0},0,0,0,0,0,null,null,null,null,null,null,null,null,null,null,null,null,null,null,null,null,null,null,null,null,null,null,null,null,null,null,null,{"$f":"Раздел2!D54","v":0}]
[null,"Гандбол - всего","47",{"$f":"Раздел2!F55","v":0},0,0,0,0,0,{"$f":"SUM(J55:J57)","v":0},{"$f":"SUM(K55:K57)","v":0},0,0,0,0,0,0,0,0,0,0,0,0,0,0,0,0,0,0,0,0,0,0,0,null,null,{"$f":"Раздел2!D55","v":0}]
[null,"в том числе:\nГандбол (муж.)","48",{"$f":"Раздел2!F56","v":0},0,0,0,0,0,null,null,null,null,null,null,null,null,null,null,null,null,null,null,null,null,null,null,null,null,null,null,null,null,null,null,null,{"$f":"Раздел2!D56","v":0}]
[null,"Гандбол (жен.)","49",{"$f":"Раздел2!F57","v":0},0,0,0,0,0,null,null,null,null,null,null,null,null,null,null,null,null,null,null,null,null,null,null,null,null,null,null,null,null,null,null,null,{"$f":"Раздел2!D57","v":0}]
[null,"Пляжный гандбол","50",{"$f":"Раздел2!F58","v":0},0,0,0,0,0,null,null,null,null,null,null,null,null,null,null,null,null,null,null,null,null,null,null,null,null,null,null,null,null,null,null,null,{"$f":"Раздел2!D58","v":0}]
[null,"Гиревой спорт","51",{"$f":"Раздел2!F59","v":0},0,0,0,0,0,null,null,null,null,null,null,null,null,null,null,null,null,null,null,null,null,null,null,null,null,null,null,null,null,null,null,null,{"$f":"Раздел2!D59","v":0}]
[null,"Го","52",{"$f":"Раздел2!F60","v":0},0,0,0,0,0,null,null,null,null,null,null,null,null,null,null,null,null,null,null,null,null,null,null,null,null,null,null,null,null,null,null,null,{"$f":"Раздел2!D60","v":0}]
[null,"Гольф","53",{"$f":"Раздел2!F61","v":0},0,0,0,0,0,null,null,null,null,null,null,null,null,null,null,null,null,null,null,null,null,null,null,null,null,null,null,null,null,null,null,null,{"$f":"Раздел2!D61","v":0}]
[null,"Гонки на охотничьих лыжах","54",{"$f":"Раздел2!F62","v":0},0,0,0,0,0,null,null,null,null,null,null,null,null,null,null,null,null,null,null,null,null,null,null,null,null,null,null,null,null,null,null,null,{"$f":"Раздел2!D62","v":0}]
[null,"Горнолыжный спорт","55",{"$f":"Раздел2!F63","v":0},0,0,0,0,0,null,null,null,null,null,null,null,null,null,null,null,null,null,null,null,null,null,null,null,null,null,null,null,null,null,null,null,{"$f":"Раздел2!D63","v":0}]
[null,"Городошный спорт","56",{"$f":"Раздел2!F64","v":0},0,0,0,0,0,null,null,null,null,null,null,null,null,null,null,null,null,null,null,null,null,null,null,null,null,null,null,null,null,null,null,null,{"$f":"Раздел2!D64","v":0}]
[null,"Гребля на байдарках и каноэ","57",{"$f":"Раздел2!F65","v":0},0,0,0,0,0,null,null,null,null,null,null,null,null,null,null,null,null,null,null,null,null,null,null,null,null,null,null,null,null,null,null,null,{"$f":"Раздел2!D65","v":0}]
[null,"Гребля на шлюпках","58",{"$f":"Раздел2!F66","v":0},0,0,0,0,0,null,null,null,null,null,null,null,null,null,null,null,null,null,null,null,null,null,null,null,null,null,null,null,null,null,null,null,{"$f":"Раздел2!D66","v":0}]
[null,"Гребной слалом","59",{"$f":"Раздел2!F67","v":0},0,0,0,0,0,null,null,null,null,null,null,null,null,null,null,null,null,null,null,null,null,null,null,null,null,null,null,null,null,null,null,null,{"$f":"Раздел2!D67","v":0}]
[null,"Гребной спорт - всего","60",{"$f":"Раздел2!F68","v":0},0,0,0,0,0,{"$f":"SUM(J68:J71)","v":0},{"$f":"SUM(K68:K71)","v":0},0,0,0,0,0,0,0,0,0,0,0,0,0,0,0,0,0,0,0,0,0,0,0,null,null,{"$f":"Раздел2!D68","v":0}]
[null,"в том числе:\nАкадемическая гребля","61",{"$f":"Раздел2!F69","v":0},0,0,0,0,0,null,null,null,null,null,null,null,null,null,null,null,null,null,null,null,null,null,null,null,null,null,null,null,null,null,null,null,{"$f":"Раздел2!D69","v":0}]
[null,"Гребля-индор","62",{"$f":"Раздел2!F70","v":0},0,0,0,0,0,null,null,null,null,null,null,null,null,null,null,null,null,null,null,null,null,null,null,null,null,null,null,null,null,null,null,null,{"$f":"Раздел2!D70","v":0}]
[null,"Народная гребля","63",{"$f":"Раздел2!F71","v":0},0,0,0,0,0,null,null,null,null,null,null,null,null,null,null,null,null,null,null,null,null,null,null,null,null,null,null,null,null,null,null,null,{"$f":"Раздел2!D71","v":0}]
[null,"Прибрежная гребля","64",{"$f":"Раздел2!F72","v":0},0,0,0,0,0,null,null,null,null,null,null,null,null,null,null,null,null,null,null,null,null,null,null,null,null,null,null,null,null,null,null,null,{"$f":"Раздел2!D72","v":0}]
[null,"Гребно-парусное двоеборье","65",{"$f":"Раздел2!F73","v":0},0,0,0,0,0,null,null,null,null,null,null,null,null,null,null,null,null,null,null,null,null,null,null,null,null,null,null,null,null,null,null,null,{"$f":"Раздел2!D73","v":0}]
[null,"Дартс","66",{"$f":"Раздел2!F74","v":0},{"$f":"J73+O73+T73+Y73+AD73","v":0},{"$f":"SUM(K73,P73,U73,Z73,AE73)","v":0},{"$f":"SUM(L73,Q73,V73,AA73,AF73)","v":0},{"$f":"SUM(M73,R73,W73,AB73,AG73)","v":0},{"$f":"SUM(N73,S73,X73,AC73,AH73)","v":0},null,null,null,null,null,null,null,null,null,null,null,null,null,null,null,null,null,null,null,null,null,null,null,null,null,null,null,{"$f":"Раздел2!D74","v":0}]
[null,"Джиу-джитсу","67",{"$f":"Раздел2!F75","v":0},0,0,0,0,0,null,null,null,null,null,null,null,null,null,null,null,null,null,null,null,null,null,null,null,null,null,null,null,null,null,null,null,{"$f":"Раздел2!D75","v":0}]
[null,"Дзюдо","68",{"$f":"Раздел2!F76","v":0},0,0,0,0,0,null,null,null,null,null,null,null,null,null,null,null,null,null,null,null,null,null,null,null,null,null,null,null,null,null,null,null,{"$f":"Раздел2!D76","v":0}]
[null,"Ездовой спорт","69",{"$f":"Раздел2!F77","v":0},0,0,0,0,0,null,null,null,null,null,null,null,null,null,null,null,null,null,null,null,null,null,null,null,null,null,null,null,null,null,null,null,{"$f":"Раздел2!D77","v":0}]
[null,"Капоэйра","70",{"$f":"Раздел2!F78","v":0},0,0,0,0,0,null,null,null,null,null,null,null,null,null,null,null,null,null,null,null,null,null,null,null,null,null,null,null,null,null,null,null,{"$f":"Раздел2!D78","v":0}]
[null,"Каратэ","71",{"$f":"Раздел2!F79","v":0},0,0,0,0,0,null,null,null,null,null,null,null,null,null,null,null,null,null,null,null,null,null,null,null,null,null,null,null,null,null,null,null,{"$f":"Раздел2!D79","v":0}]
[null,"Кендо","72",{"$f":"Раздел2!F80","v":0},0,0,0,0,0,null,null,null,null,null,null,null,null,null,null,null,null,null,null,null,null,null,null,null,null,null,null,null,null,null,null,null,{"$f":"Раздел2!D80","v":0}]
[null,"Керешу","73",{"$f":"Раздел2!F81","v":0},0,0,0,0,0,null,null,null,null,null,null,null,null,null,null,null,null,null,null,null,null,null,null,null,null,null,null,null,null,null,null,null,{"$f":"Раздел2!D81","v":0}]
[null,"Кёрлинг - всего","74",{"$f":"Раздел2!F82","v":0},0,0,0,0,0,{"$f":"SUM(J82:J83)","v":0},{"$f":"SUM(K82:K83)","v":0},0,0,0,0,0,0,0,0,0,0,0,0,0,0,0,0,0,0,0,0,0,0,0,null,null,{"$f":"Раздел2!D82","v":0}]
[null,"в том числе:\nКерлинг (муж.)","75",{"$f":"Раздел2!F83","v":0},0,0,0,0,0,null,null,null,null,null,null,null,null,null,null,null,null,null,null,null,null,null,null,null,null,null,null,null,null,null,null,null,{"$f":"Раздел2!D83","v":0}]
[null,"Керлинг (жен.)","76",{"$f":"Раздел2!F84","v":0},0,0,0,0,0,null,null,null,null,null,null,null,null,null,null,null,null,null,null,null,null,null,null,null,null,null,null,null,null,null,null,null,{"$f":"Раздел2!D84","v":0}]
[null,"Кикбоксинг","77",{"$f":"Раздел2!F85","v":0},0,0,0,0,0,null,null,null,null,null,null,null,null,null,null,null,null,null,null,null,null,null,null,null,null,null,null,null,null,null,null,null,{"$f":"Раздел2!D85","v":0}]
[null,"Кинологический спорт","78",{"$f":"Раздел2!F86","v":0},0,0,0,0,0,null,null,null,null,null,null,null,null,null,null,null,null,null,null,null,null,null,null,null,null,null,null,null,null,null,null,null,{"$f":"Раздел2!D86","v":0}]
[null,"Киокусинкай","79",{"$f":"Раздел2!F87","v":0},0,0,0,0,0,null,null,null,null,null,null,null,null,null,null,null,null,null,null,null,null,null,null,null,null,null,null,null,null,null,null,null,{"$f":"Раздел2!D87","v":0}]
[null,"Комплексное единоборство","80",{"$f":"Раздел2!F88","v":0},0,0,0,0,0,null,null,null,null,null,null,null,null,null,null,null,null,null,null,null,null,null,null,null,null,null,null,null,null,null,null,null,{"$f":"Раздел2!D88","v":0}]
[null,"Компьютерный спорт","81",{"$f":"Раздел2!F89","v":0},0,0,0,0,0,null,null,null,null,null,null,null,null,null,null,null,null,null,null,null,null,null,null,null,null,null,null,null,null,null,null,null,{"$f":"Раздел2!D89","v":0}]
[null,"Конный спорт","82",{"$f":"Раздел2!F90","v":0},0,0,0,0,0,null,null,null,null,null,null,null,null,null,null,null,null,null,null,null,null,null,null,null,null,null,null,null,null,null,null,null,{"$f":"Раздел2!D90","v":0}]
[null,"Конькобежный спорт - всего","83",{"$f":"Раздел2!F91","v":0},0,0,0,0,0,{"$f":"SUM(J91:J92)","v":0},{"$f":"SUM(K91:K92)","v":0},0,0,0,0,0,0,0,0,0,0,0,0,0,0,0,0,0,0,0,0,0,0,0,null,null,{"$f":"Раздел2!D91","v":0}]
[null,"в том числе:\nКонькобежный спорт","84",{"$f":"Раздел2!F92","v":0},0,0,0,0,0,null,null,null,null,null,null,null,null,null,null,null,null,null,null,null,null,null,null,null,null,null,null,null,null,null,null,null,{"$f":"Раздел2!D92","v":0}]
[null,"Шорт-трек","85",{"$f":"Раздел2!F93","v":0},0,0,0,0,0,null,null,null,null,null,null,null,null,null,null,null,null,null,null,null,null,null,null,null,null,null,null,null,null,null,null,null,{"$f":"Раздел2!D93","v":0}]
[null,"Корэш","86",{"$f":"Раздел2!F94","v":0},0,0,0,0,0,null,null,null,null,null,null,null,null,null,null,null,null,null,null,null,null,null,null,null,null,null,null,null,null,null,null,null,{"$f":"Раздел2!D94","v":0}]
[null,"Корфбол","87",{"$f":"Раздел2!F95","v":0},0,0,0,0,0,null,null,null,null,null,null,null,null,null,null,null,null,null,null,null,null,null,null,null,null,null,null,null,null,null,null,null,{"$f":"Раздел2!D95","v":0}]
[null,"Кудо","88",{"$f":"Раздел2!F96","v":0},0,0,0,0,0,null,null,null,null,null,null,null,null,null,null,null,null,null,null,null,null,null,null,null,null,null,null,null,null,null,null,null,{"$f":"Раздел2!D96","v":0}]
[null,"Лапта","89",{"$f":"Раздел2!F97","v":0},0,0,0,0,0,null,null,null,null,null,null,null,null,null,null,null,null,null,null,null,null,null,null,null,null,null,null,null,null,null,null,null,{"$f":"Раздел2!D97","v":0}]
[null,"Легкая атлетика - всего","90",{"$f":"Раздел2!F98","v":577},0,2,0,2,16,{"$f":"SUM(J98:J104)","v":0},{"$f":"SUM(K98:K104)","v":0},0,0,4,0,1,0,0,3,0,0,0,0,8,0,1,0,1,1,0,0,0,1,0,null,null,{"$f":"Раздел2!D98","v":1}]
[null,"в том числе:\nСпринтерский и барьерный бег","91",{"$f":"Раздел2!F99","v":0},0,0,0,0,0,null,null,null,null,null,null,null,null,null,null,null,null,null,null,null,null,null,null,null,null,null,null,null,null,null,null,null,{"$f":"Раздел2!D99","v":0}]
[null,"Бег на средние дистанции и бег с препятствиями","92",{"$f":"Раздел2!F100","v":0},0,0,0,0,0,null,null,null,null,null,null,null,null,null,null,null,null,null,null,null,null,null,null,null,null,null,null,null,null,null,null,null,{"$f":"Раздел2!D100","v":0}]
[null,"Бег на длинные и сверхдлинные дистанции","93",{"$f":"Раздел2!F101","v":0},0,0,0,0,0,null,null,null,null,null,null,null,null,null,null,null,null,null,null,null,null,null,null,null,null,null,null,null,null,null,null,null,{"$f":"Раздел2!D101","v":0}]
[null,"Многоборья","94",{"$f":"Раздел2!F102","v":577},0,2,0,2,16,null,null,null,null,4,null,1,null,null,3,null,null,null,null,8,null,1,null,1,1,null,null,null,1,null,null,null,{"$f":"Раздел2!D102","v":1}]
[null,"Прыжки","95",{"$f":"Раздел2!F103","v":0},0,0,0,0,0,null,null,null,null,null,null,null,null,null,null,null,null,null,null,null,null,null,null,null,null,null,null,null,null,null,null,null,{"$f":"Раздел2!D103","v":0}]
[null,"Метания","96",{"$f":"Раздел2!F104","v":0},0,0,0,0,0,null,null,null,null,null,null,null,null,null,null,null,null,null,null,null,null,null,null,null,null,null,null,null,null,null,null,null,{"$f":"Раздел2!D104","v":0}]
[null,"Спортивная ходьба","97",{"$f":"Раздел2!F105","v":0},0,0,0,0,0,null,null,null,null,null,null,null,null,null,null,null,null,null,null,null,null,null,null,null,null,null,null,null,null,null,null,null,{"$f":"Раздел2!D105","v":0}]
[null,"Лыжное двоеборье","98",{"$f":"Раздел2!F106","v":0},0,0,0,0,0,null,null,null,null,null,null,null,null,null,null,null,null,null,null,null,null,null,null,null,null,null,null,null,null,null,null,null,{"$f":"Раздел2!D106","v":0}]
[null,"Лыжные гонки","99",{"$f":"Раздел2!F107","v":0},0,0,0,0,0,null,null,null,null,null,null,null,null,null,null,null,null,null,null,null,null,null,null,null,null,null,null,null,null,null,null,null,{"$f":"Раздел2!D107","v":0}]
[null,"Мас-рестлинг","100",{"$f":"Раздел2!F108","v":0},0,0,0,0,0,null,null,null,null,null,null,null,null,null,null,null,null,null,null,null,null,null,null,null,null,null,null,null,null,null,null,null,{"$f":"Раздел2!D108","v":0}]
[null,"Международное военно-спортивное многоборье","101",{"$f":"Раздел2!F109","v":0},0,0,0,0,0,null,null,null,null,null,null,null,null,null,null,null,null,null,null,null,null,null,null,null,null,null,null,null,null,null,null,null,{"$f":"Раздел2!D109","v":0}]
[null,"Многоборье кинологов","102",{"$f":"Раздел2!F110","v":0},0,0,0,0,0,null,null,null,null,null,null,null,null,null,null,null,null,null,null,null,null,null,null,null,null,null,null,null,null,null,null,null,{"$f":"Раздел2!D110","v":0}]
[null,"Многоборье спасателей МЧС России","103",{"$f":"Раздел2!F111","v":0},0,0,0,0,0,null,null,null,null,null,null,null,null,null,null,null,null,null,null,null,null,null,null,null,null,null,null,null,null,null,null,null,{"$f":"Раздел2!D111","v":0}]
[null,"Морское многоборье","104",{"$f":"Раздел2!F112","v":0},0,0,0,0,0,null,null,null,null,null,null,null,null,null,null,null,null,null,null,null,null,null,null,null,null,null,null,null,null,null,null,null,{"$f":"Раздел2!D112","v":0}]
[null,"Мотоциклетный спорт","105",{"$f":"Раздел2!F113","v":0},0,0,0,0,0,null,null,null,null,null,null,null,null,null,null,null,null,null,null,null,null,null,null,null,null,null,null,null,null,null,null,null,{"$f":"Раздел2!D113","v":0}]
[null,"Настольный теннис","106",{"$f":"Раздел2!F114","v":0},0,0,0,0,0,null,null,null,null,null,null,null,null,null,null,null,null,null,null,null,null,null,null,null,null,null,null,null,null,null,null,null,{"$f":"Раздел2!D114","v":0}]
[null,"Парашютный спорт","107",{"$f":"Раздел2!F115","v":0},0,0,0,0,0,null,null,null,null,null,null,null,null,null,null,null,null,null,null,null,null,null,null,null,null,null,null,null,null,null,null,null,{"$f":"Раздел2!D115","v":0}]
[null,"Парусный спорт","108",{"$f":"Раздел2!F116","v":0},0,0,0,0,0,null,null,null,null,null,null,null,null,null,null,null,null,null,null,null,null,null,null,null,null,null,null,null,null,null,null,null,{"$f":"Раздел2!D116","v":0}]
[null,"Пауэрлифтинг","109",{"$f":"Раздел2!F117","v":0},0,0,0,0,0,null,null,null,null,null,null,null,null,null,null,null,null,null,null,null,null,null,null,null,null,null,null,null,null,null,null,null,{"$f":"Раздел2!D117","v":0}]
[null,"Перетягивание каната","110",{"$f":"Раздел2!F118","v":0},0,0,0,0,0,null,null,null,null,null,null,null,null,null,null,null,null,null,null,null,null,null,null,null,null,null,null,null,null,null,null,null,{"$f":"Раздел2!D118","v":0}]
[null,"Петанк","111",{"$f":"Раздел2!F119","v":0},0,0,0,0,0,null,null,null,null,null,null,null,null,null,null,null,null,null,null,null,null,null,null,null,null,null,null,null,null,null,null,null,{"$f":"Раздел2!D119","v":0}]
[null,"Плавание - всего","112",{"$f":"Раздел2!F120","v":0},0,0,0,0,0,{"$f":"SUM(J120:J121)","v":0},{"$f":"SUM(K120:K121)","v":0},0,0,0,0,0,0,0,0,0,0,0,0,0,0,0,0,0,0,0,0,0,0,0,null,null,{"$f":"Раздел2!D120","v":0}]
[null,"в том числе:\nПлавание ","113",{"$f":"Раздел2!F121","v":0},0,0,0,0,0,null,null,null,null,null,null,null,null,null,null,null,null,null,null,null,null,null,null,null,null,null,null,null,null,null,null,null,{"$f":"Раздел2!D121","v":0}]
[null,"Открытая вода","114",{"$f":"Раздел2!F122","v":0},0,0,0,0,0,null,null,null,null,null,null,null,null,null,null,null,null,null,null,null,null,null,null,null,null,null,null,null,null,null,null,null,{"$f":"Раздел2!D122","v":0}]
[null,"Планерный спорт","115",{"$f":"Раздел2!F123","v":0},0,0,0,0,0,null,null,null,null,null,null,null,null,null,null,null,null,null,null,null,null,null,null,null,null,null,null,null,null,null,null,null,{"$f":"Раздел2!D123","v":0}]
[null,"Подводный спорт","116",{"$f":"Раздел2!F124","v":0},0,0,0,0,0,null,null,null,null,null,null,null,null,null,null,null,null,null,null,null,null,null,null,null,null,null,null,null,null,null,null,null,{"$f":"Раздел2!D124","v":0}]
[null,"Пожарно-спасательный спорт","117",{"$f":"Раздел2!F125","v":102},1,0,0,0,0,null,null,null,null,null,null,null,null,null,null,null,null,null,null,null,null,null,null,null,null,1,null,null,null,null,null,null,{"$f":"Раздел2!D125","v":1}]
[null,"Полиатлон","118",{"$f":"Раздел2!F126","v":0},0,0,0,0,0,null,null,null,null,null,null,null,null,null,null,null,null,null,null,null,null,null,null,null,null,null,null,null,null,null,null,null,{"$f":"Раздел2!D126","v":0}]
[null,"Практическая стрельба","119",{"$f":"Раздел2!F127","v":0},0,0,0,0,0,null,null,null,null,null,null,null,null,null,null,null,null,null,null,null,null,null,null,null,null,null,null,null,null,null,null,null,{"$f":"Раздел2!D127","v":0}]
[null,"Прыжки в воду - всего","120",{"$f":"Раздел2!F128","v":0},0,0,0,0,0,{"$f":"SUM(J128:J129)","v":0},{"$f":"SUM(K128:K129)","v":0},0,0,0,0,0,0,0,0,0,0,0,0,0,0,0,0,0,0,0,0,0,0,0,null,null,{"$f":"Раздел2!D128","v":0}]
[null,"в том числе:\nПрыжки в воду","121",{"$f":"Раздел2!F129","v":0},0,0,0,0,0,null,null,null,null,null,null,null,null,null,null,null,null,null,null,null,null,null,null,null,null,null,null,null,null,null,null,null,{"$f":"Раздел2!D129","v":0}]
[null,"Прыжки в открытый водоем","122",{"$f":"Раздел2!F130","v":0},0,0,0,0,0,null,null,null,null,null,null,null,null,null,null,null,null,null,null,null,null,null,null,null,null,null,null,null,null,null,null,null,{"$f":"Раздел2!D130","v":0}]
[null,"Прыжки на батуте - всего","123",{"$f":"Раздел2!F131","v":0},0,0,0,0,0,{"$f":"SUM(J131:J134)","v":0},{"$f":"SUM(K131:K134)","v":0},0,0,0,0,0,0,0,0,0,0,0,0,0,0,0,0,0,0,0,0,0,0,0,null,null,{"$f":"Раздел2!D131","v":0}]
[null,"в том числе:\nАкробатическая дорожка","124",{"$f":"Раздел2!F132","v":0},0,0,0,0,0,null,null,null,null,null,null,null,null,null,null,null,null,null,null,null,null,null,null,null,null,null,null,null,null,null,null,null,{"$f":"Раздел2!D132","v":0}]
[null,"Двойной минитрамп","125",{"$f":"Раздел2!F133","v":0},0,0,0,0,0,null,null,null,null,null,null,null,null,null,null,null,null,null,null,null,null,null,null,null,null,null,null,null,null,null,null,null,{"$f":"Раздел2!D133","v":0}]
[null,"Индивидуальные прыжки","126",{"$f":"Раздел2!F134","v":0},0,0,0,0,0,null,null,null,null,null,null,null,null,null,null,null,null,null,null,null,null,null,null,null,null,null,null,null,null,null,null,null,{"$f":"Раздел2!D134","v":0}]
[null,"Синхронные прыжки","127",{"$f":"Раздел2!F135","v":0},0,0,0,0,0,null,null,null,null,null,null,null,null,null,null,null,null,null,null,null,null,null,null,null,null,null,null,null,null,null,null,null,{"$f":"Раздел2!D135","v":0}]
[null,"Прыжки на лыжах с трамплина","128",{"$f":"Раздел2!F136","v":0},0,0,0,0,0,null,null,null,null,null,null,null,null,null,null,null,null,null,null,null,null,null,null,null,null,null,null,null,null,null,null,null,{"$f":"Раздел2!D136","v":0}]
[null,"Пулевая стрельба - всего","129",{"$f":"Раздел2!F137","v":0},0,0,0,0,0,{"$f":"SUM(J137:J141)","v":0},{"$f":"SUM(K137:K141)","v":0},0,0,0,0,0,0,0,0,0,0,0,0,0,0,0,0,0,0,0,0,0,0,0,null,null,{"$f":"Раздел2!D137","v":0}]
[null,"в том числе:\nПневматическая винтовка","130",{"$f":"Раздел2!F138","v":0},{"$f":"J137+O137+T137+Y137+AD137","v":0},{"$f":"SUM(K137,P137,U137,Z137,AE137)","v":0},{"$f":"SUM(L137,Q137,V137,AA137,AF137)","v":0},{"$f":"SUM(M137,R137,W137,AB137,AG137)","v":0},{"$f":"SUM(N137,S137,X137,AC137,AH137)","v":0},null,null,null,null,null,null,null,null,null,null,null,null,null,null,null,null,null,null,null,null,null,null,null,null,null,null,null,{"$f":"Раздел2!D138","v":0}]
[null,"Пневматический пистолет","131",{"$f":"Раздел2!F139","v":0},0,0,0,0,0,null,null,null,null,null,null,null,null,null,null,null,null,null,null,null,null,null,null,null,null,null,null,null,null,null,null,null,{"$f":"Раздел2!D139","v":0}]
[null,"Малокалиберная винтовка","132",{"$f":"Раздел2!F140","v":0},0,0,0,0,0,null,null,null,null,null,null,null,null,null,null,null,null,null,null,null,null,null,null,null,null,null,null,null,null,null,null,null,{"$f":"Раздел2!D140","v":0}]
[null,"Малокалиберный пистолет","133",{"$f":"Раздел2!F141","v":0},0,0,0,0,0,null,null,null,null,null,null,null,null,null,null,null,null,null,null,null,null,null,null,null,null,null,null,null,null,null,null,null,{"$f":"Раздел2!D141","v":0}]
[null,"Движущаяся мишень","134",{"$f":"Раздел2!F142","v":0},0,0,0,0,0,null,null,null,null,null,null,null,null,null,null,null,null,null,null,null,null,null,null,null,null,null,null,null,null,null,null,null,{"$f":"Раздел2!D142","v":0}]
[null,"Пэйнтбол","135",{"$f":"Раздел2!F143","v":0},0,0,0,0,0,null,null,null,null,null,null,null,null,null,null,null,null,null,null,null,null,null,null,null,null,null,null,null,null,null,null,null,{"$f":"Раздел2!D143","v":0}]
[null,"Радиоспорт","136",{"$f":"Раздел2!F144","v":0},0,0,0,0,0,null,null,null,null,null,null,null,null,null,null,null,null,null,null,null,null,null,null,null,null,null,null,null,null,null,null,null,{"$f":"Раздел2!D144","v":0}]
[null,"Рафтинг","137",{"$f":"Раздел2!F145","v":0},0,0,0,0,0,null,null,null,null,null,null,null,null,null,null,null,null,null,null,null,null,null,null,null,null,null,null,null,null,null,null,null,{"$f":"Раздел2!D145","v":0}]
[null,"Регби - всего","138",{"$f":"Раздел2!F146","v":0},0,0,0,0,0,{"$f":"SUM(J146:J149)","v":0},{"$f":"SUM(K146:K149)","v":0},0,0,0,0,0,0,0,0,0,0,0,0,0,0,0,0,0,0,0,0,0,0,0,null,null,{"$f":"Раздел2!D146","v":0}]
[null,"в том числе:\nРегби","139",{"$f":"Раздел2!F147","v":0},0,0,0,0,0,null,null,null,null,null,null,null,null,null,null,null,null,null,null,null,null,null,null,null,null,null,null,null,null,null,null,null,{"$f":"Раздел2!D147","v":0}]
[null,"Регби 7 (муж.)","140",{"$f":"Раздел2!F148","v":0},0,0,0,0,0,null,null,null,null,null,null,null,null,null,null,null,null,null,null,null,null,null,null,null,null,null,null,null,null,null,null,null,{"$f":"Раздел2!D148","v":0}]
[null,"Регби 7 (жен.)","141",{"$f":"Раздел2!F149","v":0},0,0,0,0,0,null,null,null,null,null,null,null,null,null,null,null,null,null,null,null,null,null,null,null,null,null,null,null,null,null,null,null,{"$f":"Раздел2!D149","v":0}]
[null,"Регби - пляжное","142",{"$f":"Раздел2!F150","v":0},0,0,0,0,0,null,null,null,null,null,null,null,null,null,null,null,null,null,null,null,null,null,null,null,null,null,null,null,null,null,null,null,{"$f":"Раздел2!D150","v":0}]
[null,"Регбол","143",{"$f":"Раздел2!F151","v":0},0,0,0,0,0,null,null,null,null,null,null,null,null,null,null,null,null,null,null,null,null,null,null,null,null,null,null,null,null,null,null,null,{"$f":"Раздел2!D151","v":0}]
[null,"Роллер спорт","144",{"$f":"Раздел2!F152","v":0},0,0,0,0,0,null,null,null,null,null,null,null,null,null,null,null,null,null,null,null,null,null,null,null,null,null,null,null,null,null,null,null,{"$f":"Раздел2!D152","v":0}]
[null,"Рукопашный бой","145",{"$f":"Раздел2!F153","v":0},0,0,0,0,0,null,null,null,null,null,null,null,null,null,null,null,null,null,null,null,null,null,null,null,null,null,null,null,null,null,null,null,{"$f":"Раздел2!D153","v":0}]
[null,"Рыболовный спорт","146",{"$f":"Раздел2!F154","v":0},0,0,0,0,0,null,null,null,null,null,null,null,null,null,null,null,null,null,null,null,null,null,null,null,null,null,null,null,null,null,null,null,{"$f":"Раздел2!D154","v":0}]
[null,"Сават","147",{"$f":"Раздел2!F155","v":0},0,0,0,0,0,null,null,null,null,null,null,null,null,null,null,null,null,null,null,null,null,null,null,null,null,null,null,null,null,null,null,null,{"$f":"Раздел2!D155","v":0}]
[null,"Самбо","148",{"$f":"Раздел2!F156","v":0},0,0,0,0,0,null,null,null,null,null,null,null,null,null,null,null,null,null,null,null,null,null,null,null,null,null,null,null,null,null,null,null,{"$f":"Раздел2!D156","v":0}]
[null,"Самолетный спорт","149",{"$f":"Раздел2!F157","v":0},0,0,0,0,0,null,null,null,null,null,null,null,null,null,null,null,null,null,null,null,null,null,null,null,null,null,null,null,null,null,null,null,{"$f":"Раздел2!D157","v":0}]
[null,"Санный спорт","150",{"$f":"Раздел2!F158","v":0},0,0,0,0,0,null,null,null,null,null,null,null,null,null,null,null,null,null,null,null,null,null,null,null,null,null,null,null,null,null,null,null,{"$f":"Раздел2!D158","v":0}]
[null,"Северное многоборье","151",{"$f":"Раздел2!F159","v":0},0,0,0,0,0,null,null,null,null,null,null,null,null,null,null,null,null,null,null,null,null,null,null,null,null,null,null,null,null,null,null,null,{"$f":"Раздел2!D159","v":0}]
[null,"Серфинг","152",{"$f":"Раздел2!F160","v":0},0,0,0,0,0,null,null,null,null,null,null,null,null,null,null,null,null,null,null,null,null,null,null,null,null,null,null,null,null,null,null,null,{"$f":"Раздел2!D160","v":0}]
[null,"Синхронное плавание","153",{"$f":"Раздел2!F161","v":0},0,0,0,0,0,null,null,null,null,null,null,null,null,null,null,null,null,null,null,null,null,null,null,null,null,null,null,null,null,null,null,null,{"$f":"Раздел2!D161","v":0}]
[null,"Скалолазание","154",{"$f":"Раздел2!F162","v":0},0,0,0,0,0,null,null,null,null,null,null,null,null,null,null,null,null,null,null,null,null,null,null,null,null,null,null,null,null,null,null,null,{"$f":"Раздел2!D162","v":0}]
[null,"Сквош","155",{"$f":"Раздел2!F163","v":0},0,0,0,0,0,null,null,null,null,null,null,null,null,null,null,null,null,null,null,null,null,null,null,null,null,null,null,null,null,null,null,null,{"$f":"Раздел2!D163","v":0}]
[null,"Скейтбординг","156",{"$f":"Раздел2!F164","v":0},0,0,0,0,0,null,null,null,null,null,null,null,null,null,null,null,null,null,null,null,null,null,null,null,null,null,null,null,null,null,null,null,{"$f":"Раздел2!D164","v":0}]
[null,"Служебно-прикладной спорт","157",{"$f":"Раздел2!F165","v":0},0,0,0,0,0,null,null,null,null,null,null,null,null,null,null,null,null,null,null,null,null,null,null,null,null,null,null,null,null,null,null,null,{"$f":"Раздел2!D165","v":0}]
[null,"Служебно-прикладной спорт ФСО России","158",{"$f":"Раздел2!F166","v":0},0,0,0,0,0,null,null,null,null,null,null,null,null,null,null,null,null,null,null,null,null,null,null,null,null,null,null,null,null,null,null,null,{"$f":"Раздел2!D166","v":0}]
[null,"Служебно-прикладной спорт ФТС России","159",{"$f":"Раздел2!F167","v":0},0,0,0,0,0,null,null,null,null,null,null,null,null,null,null,null,null,null,null,null,null,null,null,null,null,null,null,null,null,null,null,null,{"$f":"Раздел2!D167","v":0}]
[null,"Служебное двоеборье","160",{"$f":"Раздел2!F168","v":0},0,0,0,0,0,null,null,null,null,null,null,null,null,null,null,null,null,null,null,null,null,null,null,null,null,null,null,null,null,null,null,null,{"$f":"Раздел2!D168","v":0}]
[null,"Служебное единоборство","161",{"$f":"Раздел2!F169","v":0},0,0,0,0,0,null,null,null,null,null,null,null,null,null,null,null,null,null,null,null,null,null,null,null,null,null,null,null,null,null,null,null,{"$f":"Раздел2!D169","v":0}]
[null,"Служебное многоборье","162",{"$f":"Раздел2!F170","v":0},0,0,0,0,0,null,null,null,null,null,null,null,null,null,null,null,null,null,null,null,null,null,null,null,null,null,null,null,null,null,null,null,{"$f":"Раздел2!D170","v":0}]
[null,"Служебный биатлон","163",{"$f":"Раздел2!F171","v":0},0,0,0,0,0,null,null,null,null,null,null,null,null,null,null,null,null,null,null,null,null,null,null,null,null,null,null,null,null,null,null,null,{"$f":"Раздел2!D171","v":0}]
[null,"Спасательный спорт","164",{"$f":"Раздел2!F172","v":0},0,0,0,0,0,null,null,null,null,null,null,null,null,null,null,null,null,null,null,null,null,null,null,null,null,null,null,null,null,null,null,null,{"$f":"Раздел2!D172","v":0}]
[null,"Стрельба из боевого ручного стрелкового оружия","165",{"$f":"Раздел2!F173","v":0},0,0,0,0,0,null,null,null,null,null,null,null,null,null,null,null,null,null,null,null,null,null,null,null,null,null,null,null,null,null,null,null,{"$f":"Раздел2!D173","v":0}]
[null,"Стрельба из штатного или табельного оружия","166",{"$f":"Раздел2!F174","v":0},0,0,0,0,0,null,null,null,null,null,null,null,null,null,null,null,null,null,null,null,null,null,null,null,null,null,null,null,null,null,null,null,{"$f":"Раздел2!D174","v":0}]
[null,"Смешанное боевое единоборство (ММА)","167",{"$f":"Раздел2!F175","v":0},0,0,0,0,0,null,null,null,null,null,null,null,null,null,null,null,null,null,null,null,null,null,null,null,null,null,null,null,null,null,null,null,{"$f":"Раздел2!D175","v":0}]
[null,"Сноуборд","168",{"$f":"Раздел2!F176","v":0},0,0,0,0,0,null,null,null,null,null,null,null,null,null,null,null,null,null,null,null,null,null,null,null,null,null,null,null,null,null,null,null,{"$f":"Раздел2!D176","v":0}]
[null,"Современное пятиборье","169",{"$f":"Раздел2!F177","v":0},0,0,0,0,0,null,null,null,null,null,null,null,null,null,null,null,null,null,null,null,null,null,null,null,null,null,null,null,null,null,null,null,{"$f":"Раздел2!D177","v":0}]
[null,"Софтбол","170",{"$f":"Раздел2!F178","v":0},0,0,0,0,0,null,null,null,null,null,null,null,null,null,null,null,null,null,null,null,null,null,null,null,null,null,null,null,null,null,null,null,{"$f":"Раздел2!D178","v":0}]
[null,"Спорт сверхлегкой авиации","171",{"$f":"Раздел2!F179","v":0},0,0,0,0,0,null,null,null,null,null,null,null,null,null,null,null,null,null,null,null,null,null,null,null,null,null,null,null,null,null,null,null,{"$f":"Раздел2!D179","v":0}]
[null,"Спортивная акробатика","172",{"$f":"Раздел2!F180","v":128},5,4,12,4,19,null,null,null,null,2,null,null,null,null,6,null,null,null,null,4,null,null,null,2,null,5,4,12,2,7,null,null,{"$f":"Раздел2!D180","v":1}]
[null,"Спортивная аэробика","173",{"$f":"Раздел2!F181","v":0},0,0,0,0,0,null,null,null,null,null,null,null,null,null,null,null,null,null,null,null,null,null,null,null,null,null,null,null,null,null,null,null,{"$f":"Раздел2!D181","v":0}]
[null,"Спортивная борьба - всего","174",{"$f":"Раздел2!F182","v":0},0,0,0,0,0,{"$f":"SUM(J182:J186)","v":0},{"$f":"SUM(K182:K186)","v":0},0,0,0,0,0,0,0,0,0,0,0,0,0,0,0,0,0,0,0,0,0,0,0,null,null,{"$f":"Раздел2!D182","v":0}]
[null,"в том числе:\nВольная борьба","175",{"$f":"Раздел2!F183","v":0},0,0,0,0,0,null,null,null,null,null,null,null,null,null,null,null,null,null,null,null,null,null,null,null,null,null,null,null,null,null,null,null,{"$f":"Раздел2!D183","v":0}]
[null,"Греко-римская борьба","176",{"$f":"Раздел2!F184","v":0},0,0,0,0,0,null,null,null,null,null,null,null,null,null,null,null,null,null,null,null,null,null,null,null,null,null,null,null,null,null,null,null,{"$f":"Раздел2!D184","v":0}]
[null,"Грэпплинг","177",{"$f":"Раздел2!F185","v":0},0,0,0,0,0,null,null,null,null,null,null,null,null,null,null,null,null,null,null,null,null,null,null,null,null,null,null,null,null,null,null,null,{"$f":"Раздел2!D185","v":0}]
[null,"Грэпплинг-ги","178",{"$f":"Раздел2!F186","v":0},0,0,0,0,0,null,null,null,null,null,null,null,null,null,null,null,null,null,null,null,null,null,null,null,null,null,null,null,null,null,null,null,{"$f":"Раздел2!D186","v":0}]
[null,"Панкратион","179",{"$f":"Раздел2!F187","v":0},0,0,0,0,0,null,null,null,null,null,null,null,null,null,null,null,null,null,null,null,null,null,null,null,null,null,null,null,null,null,null,null,{"$f":"Раздел2!D187","v":0}]
[null,"Спортивная гимнастика","180",{"$f":"Раздел2!F188","v":201},0,0,0,0,0,null,null,null,null,null,null,null,null,null,null,null,null,null,null,null,null,null,null,null,null,null,null,null,null,null,null,null,{"$f":"Раздел2!D188","v":1}]
[null,"Спортивная йога","181",{"$f":"Раздел2!F189","v":0},0,0,0,0,0,null,null,null,null,null,null,null,null,null,null,null,null,null,null,null,null,null,null,null,null,null,null,null,null,null,null,null,{"$f":"Раздел2!D189","v":0}]
[null,"Спортивно-прикладное собаководство","182",{"$f":"Раздел2!F190","v":0},0,0,0,0,0,null,null,null,null,null,null,null,null,null,null,null,null,null,null,null,null,null,null,null,null,null,null,null,null,null,null,null,{"$f":"Раздел2!D190","v":0}]
[null,"Спортивное ориентирование","183",{"$f":"Раздел2!F191","v":0},0,0,0,0,0,null,null,null,null,null,null,null,null,null,null,null,null,null,null,null,null,null,null,null,null,null,null,null,null,null,null,null,{"$f":"Раздел2!D191","v":0}]
[null,"Спортивный бридж","184",{"$f":"Раздел2!F192","v":0},0,0,0,0,0,null,null,null,null,null,null,null,null,null,null,null,null,null,null,null,null,null,null,null,null,null,null,null,null,null,null,null,{"$f":"Раздел2!D192","v":0}]
[null,"Спортивный туризм","185",{"$f":"Раздел2!F193","v":0},0,0,0,0,0,null,null,null,null,null,null,null,null,null,null,null,null,null,null,null,null,null,null,null,null,null,null,null,null,null,null,null,{"$f":"Раздел2!D193","v":0}]
[null,"Стендовая стрельба - всего","186",{"$f":"Раздел2!F194","v":0},0,0,0,0,0,{"$f":"SUM(J194:J197)","v":0},{"$f":"SUM(K194:K197)","v":0},0,0,0,0,0,0,0,0,0,0,0,0,0,0,0,0,0,0,0,0,0,0,0,null,null,{"$f":"Раздел2!D194","v":0}]
[null,"в том числе:\nТрап","187",{"$f":"Раздел2!F195","v":0},0,0,0,0,0,null,null,null,null,null,null,null,null,null,null,null,null,null,null,null,null,null,null,null,null,null,null,null,null,null,null,null,{"$f":"Раздел2!D195","v":0}]
[null,"Скит","188",{"$f":"Раздел2!F196","v":0},0,0,0,0,0,null,null,null,null,null,null,null,null,null,null,null,null,null,null,null,null,null,null,null,null,null,null,null,null,null,null,null,{"$f":"Раздел2!D196","v":0}]
[null,"Дубль-трап","189",{"$f":"Раздел2!F197","v":0},0,0,0,0,0,null,null,null,null,null,null,null,null,null,null,null,null,null,null,null,null,null,null,null,null,null,null,null,null,null,null,null,{"$f":"Раздел2!D197","v":0}]
[null,"Спортинг","190",{"$f":"Раздел2!F198","v":0},0,0,0,0,0,null,null,null,null,null,null,null,null,null,null,null,null,null,null,null,null,null,null,null,null,null,null,null,null,null,null,null,{"$f":"Раздел2!D198","v":0}]
[null,"Стрельба из арбалета","191",{"$f":"Раздел2!F199","v":0},0,0,0,0,0,null,null,null,null,null,null,null,null,null,null,null,null,null,null,null,null,null,null,null,null,null,null,null,null,null,null,null,{"$f":"Раздел2!D199","v":0}]
[null,"Стрельба из лука - всего","192",{"$f":"Раздел2!F200","v":0},0,0,0,0,0,{"$f":"SUM(J200:J202)","v":0},{"$f":"SUM(K200:K202)","v":0},0,0,0,0,0,0,0,0,0,0,0,0,0,0,0,0,0,0,0,0,0,0,0,null,null,{"$f":"Раздел2!D200","v":0}]
[null,"в том числе:\nКлассический лук","193",{"$f":"Раздел2!F201","v":0},0,0,0,0,0,null,null,null,null,null,null,null,null,null,null,null,null,null,null,null,null,null,null,null,null,null,null,null,null,null,null,null,{"$f":"Раздел2!D201","v":0}]
[null,"   Блочный лук","194",{"$f":"Раздел2!F202","v":0},{"$f":"J201+O201+T201+Y201+AD201","v":0},{"$f":"SUM(K201,P201,U201,Z201,AE201)","v":0},{"$f":"SUM(L201,Q201,V201,AA201,AF201)","v":0},{"$f":"SUM(M201,R201,W201,AB201,AG201)","v":0},{"$f":"SUM(N201,S201,X201,AC201,AH201)","v":0},null,null,null,null,null,null,null,null,null,null,null,null,null,null,null,null,null,null,null,null,null,null,null,null,null,null,null,{"$f":"Раздел2!D202","v":0}]
[null,"   Ачери ","195",{"$f":"Раздел2!F203","v":0},0,0,0,0,0,null,null,null,null,null,null,null,null,null,null,null,null,null,null,null,null,null,null,null,null,null,null,null,null,null,null,null,{"$f":"Раздел2!D203","v":0}]
[null,"Судомодельный спорт","196",{"$f":"Раздел2!F204","v":0},0,0,0,0,0,null,null,null,null,null,null,null,null,null,null,null,null,null,null,null,null,null,null,null,null,null,null,null,null,null,null,null,{"$f":"Раздел2!D204","v":0}]
[null,"Сумо","197",{"$f":"Раздел2!F205","v":0},0,0,0,0,0,null,null,null,null,null,null,null,null,null,null,null,null,null,null,null,null,null,null,null,null,null,null,null,null,null,null,null,{"$f":"Раздел2!D205","v":0}]
[null,"Тайский бокс","198",{"$f":"Раздел2!F206","v":0},0,0,0,0,0,null,null,null,null,null,null,null,null,null,null,null,null,null,null,null,null,null,null,null,null,null,null,null,null,null,null,null,{"$f":"Раздел2!D206","v":0}]
[null,"Танцевальный спорт","199",{"$f":"Раздел2!F207","v":0},0,0,0,0,0,null,null,null,null,null,null,null,null,null,null,null,null,null,null,null,null,null,null,null,null,null,null,null,null,null,null,null,{"$f":"Раздел2!D207","v":0}]
[null,"Теннис","200",{"$f":"Раздел2!F208","v":0},0,0,0,0,0,null,null,null,null,null,null,null,null,null,null,null,null,null,null,null,null,null,null,null,null,null,null,null,null,null,null,null,{"$f":"Раздел2!D208","v":0}]
[null,"Триатлон","201",{"$f":"Раздел2!F209","v":0},0,0,0,0,0,null,null,null,null,null,null,null,null,null,null,null,null,null,null,null,null,null,null,null,null,null,null,null,null,null,null,null,{"$f":"Раздел2!D209","v":0}]
[null,"Тхэквондо - всего","202",{"$f":"Раздел2!F210","v":0},0,0,0,0,0,{"$f":"SUM(J210:J211)","v":0},{"$f":"SUM(K210:K211)","v":0},0,0,0,0,0,0,0,0,0,0,0,0,0,0,0,0,0,0,0,0,0,0,0,null,null,{"$f":"Раздел2!D210","v":0}]
[null,"в том числе:\nТхэквондо (ГТФ, ИТФ, МФТ)","203",{"$f":"Раздел2!F211","v":0},0,0,0,0,0,null,null,null,null,null,null,null,null,null,null,null,null,null,null,null,null,null,null,null,null,null,null,null,null,null,null,null,{"$f":"Раздел2!D211","v":0}]
[null,"Тхэквондо (ВТФ)","204",{"$f":"Раздел2!F212","v":0},0,0,0,0,0,null,null,null,null,null,null,null,null,null,null,null,null,null,null,null,null,null,null,null,null,null,null,null,null,null,null,null,{"$f":"Раздел2!D212","v":0}]
[null,"Тяжелая атлетика","205",{"$f":"Раздел2!F213","v":0},0,0,0,0,0,null,null,null,null,null,null,null,null,null,null,null,null,null,null,null,null,null,null,null,null,null,null,null,null,null,null,null,{"$f":"Раздел2!D213","v":0}]
[null,"Универсальный бой","206",{"$f":"Раздел2!F214","v":0},0,0,0,0,0,null,null,null,null,null,null,null,null,null,null,null,null,null,null,null,null,null,null,null,null,null,null,null,null,null,null,null,{"$f":"Раздел2!D214","v":0}]
[null,"Ушу","207",{"$f":"Раздел2!F215","v":0},0,0,0,0,0,null,null,null,null,null,null,null,null,null,null,null,null,null,null,null,null,null,null,null,null,null,null,null,null,null,null,null,{"$f":"Раздел2!D215","v":0}]
[null,"Фехтование - всего","208",{"$f":"Раздел2!F216","v":0},0,0,0,0,0,{"$f":"SUM(J216:J219)","v":0},{"$f":"SUM(K216:K219)","v":0},0,0,0,0,0,0,0,0,0,0,0,0,0,0,0,0,0,0,0,0,0,0,0,null,null,{"$f":"Раздел2!D216","v":0}]
[null,"в том числе:\nРапира","209",{"$f":"Раздел2!F217","v":0},0,0,0,0,0,null,null,null,null,null,null,null,null,null,null,null,null,null,null,null,null,null,null,null,null,null,null,null,null,null,null,null,{"$f":"Раздел2!D217","v":0}]
[null,"Сабля","210",{"$f":"Раздел2!F218","v":0},0,0,0,0,0,null,null,null,null,null,null,null,null,null,null,null,null,null,null,null,null,null,null,null,null,null,null,null,null,null,null,null,{"$f":"Раздел2!D218","v":0}]
[null,"Шпага","211",{"$f":"Раздел2!F219","v":0},0,0,0,0,0,null,null,null,null,null,null,null,null,null,null,null,null,null,null,null,null,null,null,null,null,null,null,null,null,null,null,null,{"$f":"Раздел2!D219","v":0}]
[null,"Арт-фехтование","212",{"$f":"Раздел2!F220","v":0},0,0,0,0,0,null,null,null,null,null,null,null,null,null,null,null,null,null,null,null,null,null,null,null,null,null,null,null,null,null,null,null,{"$f":"Раздел2!D220","v":0}]
[null,"Фигурное катание на коньках","213",{"$f":"Раздел2!F221","v":0},0,0,0,0,0,null,null,null,null,null,null,null,null,null,null,null,null,null,null,null,null,null,null,null,null,null,null,null,null,null,null,null,{"$f":"Раздел2!D221","v":0}]
[null,"Фитнес-аэробика","214",{"$f":"Раздел2!F222","v":0},0,0,0,0,0,null,null,null,null,null,null,null,null,null,null,null,null,null,null,null,null,null,null,null,null,null,null,null,null,null,null,null,{"$f":"Раздел2!D222","v":0}]
[null,"Флаинг диск","215",{"$f":"Раздел2!F223","v":0},0,0,0,0,0,null,null,null,null,null,null,null,null,null,null,null,null,null,null,null,null,null,null,null,null,null,null,null,null,null,null,null,{"$f":"Раздел2!D223","v":0}]
[null,"Флорбол","216",{"$f":"Раздел2!F224","v":0},0,0,0,0,0,null,null,null,null,null,null,null,null,null,null,null,null,null,null,null,null,null,null,null,null,null,null,null,null,null,null,null,{"$f":"Раздел2!D224","v":0}]
[null,"Фристайл - всего","217",{"$f":"Раздел2!F225","v":0},0,0,0,0,0,{"$f":"SUM(J225:J229)","v":0},{"$f":"SUM(K225:K229)","v":0},0,0,0,0,0,0,0,0,0,0,0,0,0,0,0,0,0,0,0,0,0,0,0,null,null,{"$f":"Раздел2!D225","v":0}]
[null,"в том числе:\nАкробатика","218",{"$f":"Раздел2!F226","v":0},0,0,0,0,0,null,null,null,null,null,null,null,null,null,null,null,null,null,null,null,null,null,null,null,null,null,null,null,null,null,null,null,{"$f":"Раздел2!D226","v":0}]
[null,"Могул","219",{"$f":"Раздел2!F227","v":0},0,0,0,0,0,null,null,null,null,null,null,null,null,null,null,null,null,null,null,null,null,null,null,null,null,null,null,null,null,null,null,null,{"$f":"Раздел2!D227","v":0}]
[null,"Ски-кросс","220",{"$f":"Раздел2!F228","v":0},0,0,0,0,0,null,null,null,null,null,null,null,null,null,null,null,null,null,null,null,null,null,null,null,null,null,null,null,null,null,null,null,{"$f":"Раздел2!D228","v":0}]
[null,"Хаф-пайп","221",{"$f":"Раздел2!F229","v":0},0,0,0,0,0,null,null,null,null,null,null,null,null,null,null,null,null,null,null,null,null,null,null,null,null,null,null,null,null,null,null,null,{"$f":"Раздел2!D229","v":0}]
[null,"Слоуп-стайл","222",{"$f":"Раздел2!F230","v":0},0,0,0,0,0,null,null,null,null,null,null,null,null,null,null,null,null,null,null,null,null,null,null,null,null,null,null,null,null,null,null,null,{"$f":"Раздел2!D230","v":0}]
[null,"Функциональное многоборье","223",{"$f":"Раздел2!F231","v":0},0,0,0,0,0,null,null,null,null,null,null,null,null,null,null,null,null,null,null,null,null,null,null,null,null,null,null,null,null,null,null,null,{"$f":"Раздел2!D231","v":0}]
[null,"Футбол - всего","224",{"$f":"Раздел2!F232","v":0},0,0,0,0,0,{"$f":"SUM(J232:J235)","v":0},{"$f":"SUM(K232:K235)","v":0},0,{"$f":"SUM(M232:M235)","v":0},0,0,0,0,0,0,0,0,0,0,0,0,0,0,0,0,0,0,0,0,0,null,null,{"$f":"Раздел2!D232","v":0}]
[null,"в том числе:\nФутбол (муж.)","225",{"$f":"Раздел2!F233","v":0},0,0,0,0,0,null,null,null,null,null,null,null,null,null,null,null,null,null,null,null,null,null,null,null,null,null,null,null,null,null,null,null,{"$f":"Раздел2!D233","v":0}]
[null,"Футбол (жен.)","226",{"$f":"Раздел2!F234","v":0},0,0,0,0,0,null,null,null,null,null,null,null,null,null,null,null,null,null,null,null,null,null,null,null,null,null,null,null,null,null,null,null,{"$f":"Раздел2!D234","v":0}]
[null,"Мини-футбол (футзал)","227",{"$f":"Раздел2!F235","v":0},0,0,0,0,0,null,null,null,null,null,null,null,null,null,null,null,null,null,null,null,null,null,null,null,null,null,null,null,null,null,null,null,{"$f":"Раздел2!D235","v":0}]
[null,"Пляжный футбол","228",{"$f":"Раздел2!F236","v":0},0,0,0,0,0,null,null,null,null,null,null,null,null,null,null,null,null,null,null,null,null,null,null,null,null,null,null,null,null,null,null,null,{"$f":"Раздел2!D236","v":0}]
[null,"Хапсагай","229",{"$f":"Раздел2!F237","v":0},0,0,0,0,0,null,null,null,null,null,null,null,null,null,null,null,null,null,null,null,null,null,null,null,null,null,null,null,null,null,null,null,{"$f":"Раздел2!D237","v":0}]
[null,"Хоккей - всего","230",{"$f":"Раздел2!F238","v":0},0,0,0,0,0,{"$f":"SUM(J238:J239)","v":0},{"$f":"SUM(K238:K239)","v":0},0,0,0,0,0,0,0,0,0,0,0,0,0,0,0,0,0,0,0,0,0,0,0,null,null,{"$f":"Раздел2!D238","v":0}]
[null,"в том числе:\nХоккей (муж.)","231",{"$f":"Раздел2!F239","v":0},0,0,0,0,0,null,null,null,null,null,null,null,null,null,null,null,null,null,null,null,null,null,null,null,null,null,null,null,null,null,null,null,{"$f":"Раздел2!D239","v":0}]
[null,"Хоккей (жен.)","232",{"$f":"Раздел2!F240","v":0},0,0,0,0,0,null,null,null,null,null,null,null,null,null,null,null,null,null,null,null,null,null,null,null,null,null,null,null,null,null,null,null,{"$f":"Раздел2!D240","v":0}]
[null,"Хоккей на траве - всего","233",{"$f":"Раздел2!F241","v":0},0,0,0,0,0,{"$f":"SUM(J241:J243)","v":0},{"$f":"SUM(K241:K243)","v":0},0,0,0,0,0,0,0,0,0,0,0,0,0,0,0,0,0,0,0,0,0,0,0,null,null,{"$f":"Раздел2!D241","v":0}]
[null,"в том числе:\nХоккей на траве (муж.)","234",{"$f":"Раздел2!F242","v":0},0,0,0,0,0,null,null,null,null,null,null,null,null,null,null,null,null,null,null,null,null,null,null,null,null,null,null,null,null,null,null,null,{"$f":"Раздел2!D242","v":0}]
[null,"Хоккей на траве (жен.)","235",{"$f":"Раздел2!F243","v":0},0,0,0,0,0,null,null,null,null,null,null,null,null,null,null,null,null,null,null,null,null,null,null,null,null,null,null,null,null,null,null,null,{"$f":"Раздел2!D243","v":0}]
[null,"Индорхоккей","236",{"$f":"Раздел2!F244","v":0},0,0,0,0,0,null,null,null,null,null,null,null,null,null,null,null,null,null,null,null,null,null,null,null,null,null,null,null,null,null,null,null,{"$f":"Раздел2!D244","v":0}]
[null,"Хоккей с мячом","237",{"$f":"Раздел2!F245","v":0},0,0,0,0,0,null,null,null,null,null,null,null,null,null,null,null,null,null,null,null,null,null,null,null,null,null,null,null,null,null,null,null,{"$f":"Раздел2!D245","v":0}]
[null,"Художественная гимнастика","238",{"$f":"Раздел2!F246","v":0},0,0,0,0,0,null,null,null,null,null,null,null,null,null,null,null,null,null,null,null,null,null,null,null,null,null,null,null,null,null,null,null,{"$f":"Раздел2!D246","v":0}]
[null,"Хуреш","239",{"$f":"Раздел2!F247","v":0},0,0,0,0,0,null,null,null,null,null,null,null,null,null,null,null,null,null,null,null,null,null,null,null,null,null,null,null,null,null,null,null,{"$f":"Раздел2!D247","v":0}]
[null,"Чир спорт","240",{"$f":"Раздел2!F248","v":0},0,0,0,0,0,null,null,null,null,null,null,null,null,null,null,null,null,null,null,null,null,null,null,null,null,null,null,null,null,null,null,null,{"$f":"Раздел2!D248","v":0}]
[null,"Шахматы","241",{"$f":"Раздел2!F249","v":0},0,0,0,0,0,null,null,null,null,null,null,null,null,null,null,null,null,null,null,null,null,null,null,null,null,null,null,null,null,null,null,null,{"$f":"Раздел2!D249","v":0}]
[null,"Шашки","242",{"$f":"Раздел2!F250","v":0},0,0,0,0,0,null,null,null,null,null,null,null,null,null,null,null,null,null,null,null,null,null,null,null,null,null,null,null,null,null,null,null,{"$f":"Раздел2!D250","v":0}]
[null,"Шодсанлат","243",{"$f":"Раздел2!F251","v":0},0,0,0,0,{"$f":"SUM(N250,S250,X250,AC250,AH250)","v":0},null,null,null,null,null,null,null,null,null,null,null,null,null,null,null,null,null,null,null,null,null,null,null,null,null,null,null,{"$f":"Раздел2!D251","v":0}]
[null,"Эстетическая гимнастика","244",{"$f":"Раздел2!F252","v":0},0,0,0,0,0,null,null,null,null,null,null,null,null,null,null,null,null,null,null,null,null,null,null,null,null,null,null,null,null,null,null,null,{"$f":"Раздел2!D252","v":0}]
[null,"Якутские национальные прыжки","245",{"$f":"Раздел2!F253","v":0},{"$f":"J252+O252+T252+Y252+AD252","v":0},{"$f":"SUM(K252,P252,U252,Z252,AE252)","v":0},{"$f":"SUM(L252,Q252,V252,AA252,AF252)","v":0},{"$f":"SUM(M252,R252,W252,AB252,AG252)","v":0},{"$f":"SUM(N252,S252,X252,AC252,AH252)","v":0},null,null,null,null,null,null,null,null,null,null,null,null,null,null,null,null,null,null,null,null,null,null,null,null,null,null,null,{"$f":"Раздел2!D253","v":0}]
[null,"ИТОГО","246",{"$f":"Раздел2!F254","v":1439},6,6,12,7,35,{"$f":"SUM(J8:J19,J22:J25,J28:J32,J37:J40,J43:J47,J52:J54,J58:J67,J72:J81,J84:J90,J93:J97,J105:J119,J122:J127,J130,J135:J136,J142:J145,J150:J181,J187:J193,J198:J199,J203:J209,J212:J215,J220:J224,J230:J231,J236:J237,J240,J244:J252)","v":0},{"$f":"SUM(K8:K19,K22:K25,K28:K32,K37:K40,K43:K47,K52:K54,K58:K67,K72:K81,K84:K90,K93:K97,K105:K119,K122:K127,K130,K135:K136,K142:K145,K150:K181,K187:K193,K198:K199,K203:K209,K212:K215,K220:K224,K230:K231,K236:K237,K240,K244:K252)","v":0},0,0,6,0,1,0,0,9,0,0,0,1,12,0,1,0,{"$f":"SUM(AB8:AB19,AB22:AB25,AB28:AB32,AB37:AB40,AB43:AB47,AB52:AB54,AB58:AB67,AB72:AB81,AB84:AB90,AB93:AB97,AB105:AB119,AB122:AB127,AB130,AB135:AB136,AB142:AB145,AB150:AB181,AB187:AB193,AB198:AB199,AB203:AB209,AB212:AB215,AB220:AB224,AB230:AB231,AB236:AB237,AB240,AB244:AB252)","v":3},1,6,4,12,3,7,null,null,{"$f":"Раздел2!D254","v":6}]

{"sheet":"Раздел8","index":8,"n_rows":253,"n_cols":62,"rows_kept":253,"cut":false,"hidden":false,"merged":[[0,0,122,0],[2,1,5,1],[2,2,5,2],[0,1,0,33],[2,3,5,3],[2,4,2,33],[1,24,1,33],[3,14,4,18],[0,59,122,59],[2,61,5,61],[3,4,4,8],[3,9,4,13],[3,19,4,23],[3,24,4,28],[3,29,4,33],[3,34,4,38],[3,39,4,43],[3,44,4,48],[3,49,4,53],[3,54,4,58],[1,51,1,58],[2,34,2,58]]}
[null,"Раздел VIII. Международные спортивные соревнования"]
[null,null,null,null,null,null,null,null,null,null,null,null,null,null,null,null,null,null,null,null,null,null,null,null,null,null,null,null,null,null,null,null,null,null,null,null,null,null,null,null,null,null,null,null,null,null,null,null,null,null,null,"Коды по ОКЕИ: человек - 792, единица - 642"]
[null,"Виды спорта","№ строки","Всего зани-маю-щихся","Результаты выступлений на соревнованиях",null,null,null,null,null,null,null,null,null,null,null,null,null,null,null,null,null,null,null,null,null,null,null,null,null,null,null,null,null,"Результаты выступлений на соревнованиях",null,null,null,null,null,null,null,null,null,null,null,null,null,null,null,null,null,null,null,null,null,null,null,null,null,null,"Раздел2 графа3\nЧисло отделений"]
[null,null,null,null,"Всего",null,null,null,null,"Олимпийские игры",null,null,null,null,"Чемпионат мира",null,null,null,null,"Юношеские Олимпийские игры",null,null,null,null,"Первенство мира",null,null,null,null,"Кубок мира",null,null,null,null,"Этапы Кубка мира",null,null,null,null,"Чемпионат Европы",null,null,null,null,"Первенство Европы",null,null,null,null,"Кубок Европы",null,null,null,null,"Прочие официальные между-народные соревнования"]
[]
[null,null,null,null,1,2,3,"4-6","учас-тие",1,2,3,"4-6","учас-тие",1,2,3,"4-6","учас-тие",1,2,3,"4-6","учас-тие",1,2,3,"4-6","учас-тие",1,2,3,"4-6","учас-тие",1,2,3,"4-6","учас-тие",1,2,3,"4-6","учас-тие",1,2,3,"4-6","учас-тие",1,2,3,"4-6","учас-тие",1,2,3,"4-6","учас-тие"]
[null,1,2,3,4,5,6,7,8,9,10,11,12,13,14,15,16,17,18,19,20,21,22,23,24,25,26,27,28,29,30,31,32,33,34,35,36,37,38,39,40,41,42,43,44,45,46,47,48,49,50,51,52,53,54,55,56,57,58]
[null,"Авиамодельный спорт","01",{"$f":"Раздел2!F9","v":0},{"$f":"J8+O8+T8+Y8+AD8+AI8+AN8+AS8+AX8+BC8","v":0},{"$f":"SUM(K8,P8,U8,Z8,AE8,AJ8,AO8,AT8,AY8,BD8)","v":0},{"$f":"L8+Q8+V8+AA8+AF8+AK8+AP8+AU8+AZ8+BE8","v":0},{"$f":"M8+R8+W8+AB8+AG8+AL8+AQ8+AV8+BA8+BF8","v":0},{"$f":"N8+S8+X8+AC8+AH8+AM8+AR8+AW8+BB8+BG8","v":0},null,null,null,null,null,null,null,null,null,null,null,null,null,null,null,null,null,null,null,null,null,null,null,null,null,null,null,null,null,null,null,null,null,null,null,null,null,null,null,null,null,null,null,null,null,null,null,null,null,null,null,null,{"$f":"Раздел2!D9","v":0}]
[null,"Автомобильный спорт","02",{"$f":"Раздел2!F10","v":0},{"$f":"J9+O9+T9+Y9+AD9+AI9+AN9+AS9+AX9+BC9","v":0},{"$f":"SUM(K9,P9,U9,Z9,AE9,AJ9,AO9,AT9,AY9,BD9)","v":0},{"$f":"L9+Q9+V9+AA9+AF9+AK9+AP9+AU9+AZ9+BE9","v":0},{"$f":"M9+R9+W9+AB9+AG9+AL9+AQ9+AV9+BA9+BF9","v":0},{"$f":"N9+S9+X9+AC9+AH9+AM9+AR9+AW9+BB9+BG9","v":0},null,null,null,null,null,null,null,null,null,null,null,null,null,null,null,null,null,null,null,null,null,null,null,null,null,null,null,null,null,null,null,null,null,null,null,null,null,null,null,null,null,null,null,null,null,null,null,null,null,null,null,null,{"$f":"Раздел2!D10","v":0}]
[null,"Автомодельный спорт","03",{"$f":"Раздел2!F11","v":0},0,0,0,0,0,null,null,null,null,null,null,null,null,null,null,null,null,null,null,null,null,null,null,null,null,null,null,null,null,null,null,null,null,null,null,null,null,null,null,null,null,null,null,null,null,null,null,null,null,null,null,null,null,null,null,null,null,{"$f":"Раздел2!D11","v":0}]
[null,"Айкидо","04",{"$f":"Раздел2!F12","v":0},0,0,0,0,0,null,null,null,null,null,null,null,null,null,null,null,null,null,null,null,null,null,null,null,null,null,null,null,null,null,null,null,null,null,null,null,null,null,null,null,null,null,null,null,null,null,null,null,null,null,null,null,null,null,null,null,null,{"$f":"Раздел2!D12","v":0}]
[null,"Айсшток","05",{"$f":"Раздел2!F13","v":0},0,0,0,0,0,null,null,null,null,null,null,null,null,null,null,null,null,null,null,null,null,null,null,null,null,null,null,null,null,null,null,null,null,null,null,null,null,null,null,null,null,null,null,null,null,null,null,null,null,null,null,null,null,null,null,null,null,{"$f":"Раздел2!D13","v":0}]
[null,"Акробатический рок-н-ролл","06",{"$f":"Раздел2!F14","v":0},0,0,0,0,0,null,null,null,null,null,null,null,null,null,null,null,null,null,null,null,null,null,null,null,null,null,null,null,null,null,null,null,null,null,null,null,null,null,null,null,null,null,null,null,null,null,null,null,null,null,null,null,null,null,null,null,null,{"$f":"Раздел2!D14","v":0}]
[null,"Альпинизм","07",{"$f":"Раздел2!F15","v":0},0,0,0,0,0,null,null,null,null,null,null,null,null,null,null,null,null,null,null,null,null,null,null,null,null,null,null,null,null,null,null,null,null,null,null,null,null,null,null,null,null,null,null,null,null,null,null,null,null,null,null,null,null,null,null,null,null,{"$f":"Раздел2!D15","v":0}]
[null,"Американский футбол","08",{"$f":"Раздел2!F16","v":0},0,0,0,0,0,null,null,null,null,null,null,null,null,null,null,null,null,null,null,null,null,null,null,null,null,null,null,null,null,null,null,null,null,null,null,null,null,null,null,null,null,null,null,null,null,null,null,null,null,null,null,null,null,null,null,null,null,{"$f":"Раздел2!D16","v":0}]
[null,"Армейский рукопашный бой","09",{"$f":"Раздел2!F17","v":0},0,0,0,0,0,null,null,null,null,null,null,null,null,null,null,null,null,null,null,null,null,null,null,null,null,null,null,null,null,null,null,null,null,null,null,null,null,null,null,null,null,null,null,null,null,null,null,null,null,null,null,null,null,null,null,null,null,{"$f":"Раздел2!D17","v":0}]
[null,"Армрестлинг","10",{"$f":"Раздел2!F18","v":0},0,0,0,0,0,null,null,null,null,null,null,null,null,null,null,null,null,null,null,null,null,null,null,null,null,null,null,null,null,null,null,null,null,null,null,null,null,null,null,null,null,null,null,null,null,null,null,null,null,null,null,null,null,null,null,null,null,{"$f":"Раздел2!D18","v":0}]
[null,"Бадминтон","11",{"$f":"Раздел2!F19","v":0},0,0,0,0,0,null,null,null,null,null,null,null,null,null,null,null,null,null,null,null,null,null,null,null,null,null,null,null,null,null,null,null,null,null,null,null,null,null,null,null,null,null,null,null,null,null,null,null,null,null,null,null,null,null,null,null,null,{"$f":"Раздел2!D19","v":0}]
[null,"Баскетбол - всего","12",{"$f":"Раздел2!F20","v":248},0,0,0,0,0,{"$f":"SUM(J20:J21)","v":0},{"$f":"SUM(K20:K21)","v":0},0,0,0,0,0,0,0,0,0,0,0,0,0,0,0,0,0,0,0,0,0,0,0,0,0,0,0,0,0,0,0,0,0,0,0,0,0,0,0,0,0,0,0,0,0,0,0,0,null,null,{"$f":"Раздел2!D20","v":1}]
[null,"в том числе:\nБаскетбол (муж.)","13",{"$f":"Раздел2!F21","v":162},0,0,0,0,0,null,null,null,null,null,null,null,null,null,null,null,null,null,null,null,null,null,null,null,null,null,null,null,null,null,null,null,null,null,null,null,null,null,null,null,null,null,null,null,null,null,null,null,null,null,null,null,null,null,null,null,null,{"$f":"Раздел2!D21","v":1}]
[null,"Баскетбол (жен.)","14",{"$f":"Раздел2!F22","v":86},0,0,0,0,0,null,null,null,null,null,null,null,null,null,null,null,null,null,null,null,null,null,null,null,null,null,null,null,null,null,null,null,null,null,null,null,null,null,null,null,null,null,null,null,null,null,null,null,null,null,null,null,null,null,null,null,null,{"$f":"Раздел2!D22","v":1}]
[null,"Бейсбол","15",{"$f":"Раздел2!F23","v":0},0,0,0,0,0,null,null,null,null,null,null,null,null,null,null,null,null,null,null,null,null,null,null,null,null,null,null,null,null,null,null,null,null,null,null,null,null,null,null,null,null,null,null,null,null,null,null,null,null,null,null,null,null,null,null,null,null,{"$f":"Раздел2!D23","v":0}]
[null,"Биатлон","16",{"$f":"Раздел2!F24","v":0},0,0,0,0,0,null,null,null,null,null,null,null,null,null,null,null,null,null,null,null,null,null,null,null,null,null,null,null,null,null,null,null,null,null,null,null,null,null,null,null,null,null,null,null,null,null,null,null,null,null,null,null,null,null,null,null,null,{"$f":"Раздел2!D24","v":0}]
[null,"Бильярдный спорт","17",{"$f":"Раздел2!F25","v":0},0,0,0,0,0,null,null,null,null,null,null,null,null,null,null,null,null,null,null,null,null,null,null,null,null,null,null,null,null,null,null,null,null,null,null,null,null,null,null,null,null,null,null,null,null,null,null,null,null,null,null,null,null,null,null,null,null,{"$f":"Раздел2!D25","v":0}]
[null,"Бобслей - всего","18",{"$f":"Раздел2!F26","v":0},0,0,0,0,0,{"$f":"SUM(J26:J27)","v":0},{"$f":"SUM(K26:K27)","v":0},0,0,0,0,0,0,0,0,0,0,0,0,0,0,0,0,0,0,0,0,0,0,0,0,0,0,0,0,0,0,0,0,0,0,0,0,0,0,0,0,0,0,0,0,0,0,0,0,null,null,{"$f":"Раздел2!D26","v":0}]
[null,"в том числе:\nБобслей","19",{"$f":"Раздел2!F27","v":0},0,0,0,0,0,null,null,null,null,null,null,null,null,null,null,null,null,null,null,null,null,null,null,null,null,null,null,null,null,null,null,null,null,null,null,null,null,null,null,null,null,null,null,null,null,null,null,null,null,null,null,null,null,null,null,null,null,{"$f":"Раздел2!D27","v":0}]
[null,"Скелетон","20",{"$f":"Раздел2!F28","v":0},0,0,0,0,0,null,null,null,null,null,null,null,null,null,null,null,null,null,null,null,null,null,null,null,null,null,null,null,null,null,null,null,null,null,null,null,null,null,null,null,null,null,null,null,null,null,null,null,null,null,null,null,null,null,null,null,null,{"$f":"Раздел2!D28","v":0}]
[null,"Бодибилдинг","21",{"$f":"Раздел2!F29","v":0},0,0,0,0,0,null,null,null,null,null,null,null,null,null,null,null,null,null,null,null,null,null,null,null,null,null,null,null,null,null,null,null,null,null,null,null,null,null,null,null,null,null,null,null,null,null,null,null,null,null,null,null,null,null,null,null,null,{"$f":"Раздел2!D29","v":0}]
[null,"Бокс","22",{"$f":"Раздел2!F30","v":0},0,0,0,0,0,null,null,null,null,null,null,null,null,null,null,null,null,null,null,null,null,null,null,null,null,null,null,null,null,null,null,null,null,null,null,null,null,null,null,null,null,null,null,null,null,null,null,null,null,null,null,null,null,null,null,null,null,{"$f":"Раздел2!D30","v":0}]
[null,"Борьба на поясах","23",{"$f":"Раздел2!F31","v":0},0,0,0,0,0,null,null,null,null,null,null,null,null,null,null,null,null,null,null,null,null,null,null,null,null,null,null,null,null,null,null,null,null,null,null,null,null,null,null,null,null,null,null,null,null,null,null,null,null,null,null,null,null,null,null,null,null,{"$f":"Раздел2!D31","v":0}]
[null,"Боулинг","24",{"$f":"Раздел2!F32","v":0},0,0,0,0,0,null,null,null,null,null,null,null,null,null,null,null,null,null,null,null,null,null,null,null,null,null,null,null,null,null,null,null,null,null,null,null,null,null,null,null,null,null,null,null,null,null,null,null,null,null,null,null,null,null,null,null,null,{"$f":"Раздел2!D32","v":0}]
[null,"Велосипедный спорт - всего","25",{"$f":"Раздел2!F33","v":0},0,0,0,0,0,{"$f":"SUM(J33:J36)","v":0},{"$f":"SUM(K33:K36)","v":0},0,0,0,0,0,0,0,0,0,0,0,0,0,0,0,0,0,0,0,0,0,0,0,0,0,0,0,0,0,0,0,0,0,0,0,0,0,0,0,0,0,0,0,0,0,0,0,0,null,null,{"$f":"Раздел2!D33","v":0}]
[null,"в том числе:\nBMX","26",{"$f":"Раздел2!F34","v":0},0,0,0,0,0,null,null,null,null,null,null,null,null,null,null,null,null,null,null,null,null,null,null,null,null,null,null,null,null,null,null,null,null,null,null,null,null,null,null,null,null,null,null,null,null,null,null,null,null,null,null,null,null,null,null,null,null,{"$f":"Раздел2!D34","v":0}]
[null,"Маунтинбайк","27",{"$f":"Раздел2!F35","v":0},0,0,0,0,0,null,null,null,null,null,null,null,null,null,null,null,null,null,null,null,null,null,null,null,null,null,null,null,null,null,null,null,null,null,null,null,null,null,null,null,null,null,null,null,null,null,null,null,null,null,null,null,null,null,null,null,null,{"$f":"Раздел2!D35","v":0}]
[null,"Трек","28",{"$f":"Раздел2!F36","v":0},0,0,0,0,0,null,null,null,null,null,null,null,null,null,null,null,null,null,null,null,null,null,null,null,null,null,null,null,null,null,null,null,null,null,null,null,null,null,null,null,null,null,null,null,null,null,null,null,null,null,null,null,null,null,null,null,null,{"$f":"Раздел2!D36","v":0}]
[null,"Шоссе","29",{"$f":"Раздел2!F37","v":0},0,0,0,0,0,null,null,null,null,null,null,null,null,null,null,null,null,null,null,null,null,null,null,null,null,null,null,null,null,null,null,null,null,null,null,null,null,null,null,null,null,null,null,null,null,null,null,null,null,null,null,null,null,null,null,null,null,{"$f":"Раздел2!D37","v":0}]
[null,"Вертолетный спорт","30",{"$f":"Раздел2!F38","v":0},0,0,0,0,0,null,null,null,null,null,null,null,null,null,null,null,null,null,null,null,null,null,null,null,null,null,null,null,null,null,null,null,null,null,null,null,null,null,null,null,null,null,null,null,null,null,null,null,null,null,null,null,null,null,null,null,null,{"$f":"Раздел2!D38","v":0}]
[null,"Водно-моторный спорт","31",{"$f":"Раздел2!F39","v":0},0,0,0,0,0,null,null,null,null,null,null,null,null,null,null,null,null,null,null,null,null,null,null,null,null,null,null,null,null,null,null,null,null,null,null,null,null,null,null,null,null,null,null,null,null,null,null,null,null,null,null,null,null,null,null,null,null,{"$f":"Раздел2!D39","v":0}]
[null,"Водно-спасательное многоборье","32",{"$f":"Раздел2!F40","v":0},0,0,0,0,0,null,null,null,null,null,null,null,null,null,null,null,null,null,null,null,null,null,null,null,null,null,null,null,null,null,null,null,null,null,null,null,null,null,null,null,null,null,null,null,null,null,null,null,null,null,null,null,null,null,null,null,null,{"$f":"Раздел2!D40","v":0}]
[null,"Водное поло - всего ","33",{"$f":"Раздел2!F41","v":0},0,0,0,0,0,{"$f":"SUM(J41:J42)","v":0},{"$f":"SUM(K41:K42)","v":0},0,0,0,0,0,0,0,0,0,0,0,0,0,0,0,0,0,0,0,0,0,0,0,0,0,0,0,0,0,0,0,0,0,0,0,0,0,0,0,0,0,0,0,0,0,0,0,0,null,null,{"$f":"Раздел2!D41","v":0}]
[null,"в том числе:\nВодное поло (муж.)","34",{"$f":"Раздел2!F42","v":0},0,0,0,0,0,null,null,null,null,null,null,null,null,null,null,null,null,null,null,null,null,null,null,null,null,null,null,null,null,null,null,null,null,null,null,null,null,null,null,null,null,null,null,null,null,null,null,null,null,null,null,null,null,null,null,null,null,{"$f":"Раздел2!D42","v":0}]
[null,"Водное поло (жен.)","35",{"$f":"Раздел2!F43","v":0},0,0,0,0,0,null,null,null,null,null,null,null,null,null,null,null,null,null,null,null,null,null,null,null,null,null,null,null,null,null,null,null,null,null,null,null,null,null,null,null,null,null,null,null,null,null,null,null,null,null,null,null,null,null,null,null,null,{"$f":"Раздел2!D43","v":0}]
[null,"Воднолыжный спорт","36",{"$f":"Раздел2!F44","v":0},0,0,0,0,0,null,null,null,null,null,null,null,null,null,null,null,null,null,null,null,null,null,null,null,null,null,null,null,null,null,null,null,null,null,null,null,null,null,null,null,null,null,null,null,null,null,null,null,null,null,null,null,null,null,null,null,null,{"$f":"Раздел2!D44","v":0}]
[null,"Военно-прикладной спорт","37",{"$f":"Раздел2!F45","v":0},0,0,0,0,0,null,null,null,null,null,null,null,null,null,null,null,null,null,null,null,null,null,null,null,null,null,null,null,null,null,null,null,null,null,null,null,null,null,null,null,null,null,null,null,null,null,null,null,null,null,null,null,null,null,null,null,null,{"$f":"Раздел2!D45","v":0}]
[null,"Военно-спортивное многоборье","38",{"$f":"Раздел2!F46","v":0},0,0,0,0,0,null,null,null,null,null,null,null,null,null,null,null,null,null,null,null,null,null,null,null,null,null,null,null,null,null,null,null,null,null,null,null,null,null,null,null,null,null,null,null,null,null,null,null,null,null,null,null,null,null,null,null,null,{"$f":"Раздел2!D46","v":0}]
[null,"Воздухоплавательный спорт","39",{"$f":"Раздел2!F47","v":0},0,0,0,0,0,null,null,null,null,null,null,null,null,null,null,null,null,null,null,null,null,null,null,null,null,null,null,null,null,null,null,null,null,null,null,null,null,null,null,null,null,null,null,null,null,null,null,null,null,null,null,null,null,null,null,null,null,{"$f":"Раздел2!D47","v":0}]
[null,"Волейбол - всего","40",{"$f":"Раздел2!F48","v":183},0,0,0,0,0,{"$f":"SUM(J48:J51)","v":0},{"$f":"SUM(K48:K51)","v":0},0,0,0,0,0,0,0,0,0,0,0,0,0,0,0,0,0,0,0,0,0,0,0,0,0,0,0,0,0,0,0,0,0,0,0,0,0,0,0,0,0,0,0,0,0,0,0,0,null,null,{"$f":"Раздел2!D48","v":1}]
[null,"в том числе:\nВолейбол (муж.)","41",{"$f":"Раздел2!F49","v":71},0,0,0,0,0,null,null,null,null,null,null,null,null,null,null,null,null,null,null,null,null,null,null,null,null,null,null,null,null,null,null,null,null,null,null,null,null,null,null,null,null,null,null,null,null,null,null,null,null,null,null,null,null,null,null,null,null,{"$f":"Раздел2!D49","v":1}]
[null,"Волейбол (жен.)","42",{"$f":"Раздел2!F50","v":112},0,0,0,0,0,null,null,null,null,null,null,null,null,null,null,null,null,null,null,null,null,null,null,null,null,null,null,null,null,null,null,null,null,null,null,null,null,null,null,null,null,null,null,null,null,null,null,null,null,null,null,null,null,null,null,null,null,{"$f":"Раздел2!D50","v":1}]
[null,"Пляжный волейбол (муж.)","43",{"$f":"Раздел2!F51","v":0},0,0,0,0,0,null,null,null,null,null,null,null,null,null,null,null,null,null,null,null,null,null,null,null,null,null,null,null,null,null,null,null,null,null,null,null,null,null,null,null,null,null,null,null,null,null,null,null,null,null,null,null,null,null,null,null,null,{"$f":"Раздел2!D51","v":0}]
[null,"Пляжный волейбол (жен.)","44",{"$f":"Раздел2!F52","v":0},0,0,0,0,0,null,null,null,null,null,null,null,null,null,null,null,null,null,null,null,null,null,null,null,null,null,null,null,null,null,null,null,null,null,null,null,null,null,null,null,null,null,null,null,null,null,null,null,null,null,null,null,null,null,null,null,null,{"$f":"Раздел2!D52","v":0}]
[null,"Восточное боевое единоборство","45",{"$f":"Раздел2!F53","v":0},0,0,0,0,0,null,null,null,null,null,null,null,null,null,null,null,null,null,null,null,null,null,null,null,null,null,null,null,null,null,null,null,null,null,null,null,null,null,null,null,null,null,null,null,null,null,null,null,null,null,null,null,null,null,null,null,null,{"$f":"Раздел2!D53","v":0}]
[null,"Всестилевое каратэ","46",{"$f":"Раздел2!F54","v":0},0,0,0,0,0,null,null,null,null,null,null,null,null,null,null,null,null,null,null,null,null,null,null,null,null,null,null,null,null,null,null,null,null,null,null,null,null,null,null,null,null,null,null,null,null,null,null,null,null,null,null,null,null,null,null,null,null,{"$f":"Раздел2!D54","v":0}]
[null,"Гандбол - всего","47",{"$f":"Раздел2!F55","v":0},0,0,0,0,0,{"$f":"SUM(J55:J57)","v":0},{"$f":"SUM(K55:K57)","v":0},0,0,0,0,0,0,0,0,0,0,0,0,0,0,0,0,0,0,0,0,0,0,0,0,0,0,0,0,0,0,0,0,0,0,0,0,0,0,0,0,0,0,0,0,0,0,0,0,null,null,{"$f":"Раздел2!D55","v":0}]
[null,"в том числе:\nГандбол (муж.)","48",{"$f":"Раздел2!F56","v":0},0,0,0,0,0,null,null,null,null,null,null,null,null,null,null,null,null,null,null,null,null,null,null,null,null,null,null,null,null,null,null,null,null,null,null,null,null,null,null,null,null,null,null,null,null,null,null,null,null,null,null,null,null,null,null,null,null,{"$f":"Раздел2!D56","v":0}]
[null,"Гандбол (жен.)","49",{"$f":"Раздел2!F57","v":0},0,0,0,0,0,null,null,null,null,null,null,null,null,null,null,null,null,null,null,null,null,null,null,null,null,null,null,null,null,null,null,null,null,null,null,null,null,null,null,null,null,null,null,null,null,null,null,null,null,null,null,null,null,null,null,null,null,{"$f":"Раздел2!D57","v":0}]
[null,"Пляжный гандбол","50",{"$f":"Раздел2!F58","v":0},0,0,0,0,0,null,null,null,null,null,null,null,null,null,null,null,null,null,null,null,null,null,null,null,null,null,null,null,null,null,null,null,null,null,null,null,null,null,null,null,null,null,null,null,null,null,null,null,null,null,null,null,null,null,null,null,null,{"$f":"Раздел2!D58","v":0}]
[null,"Гиревой спорт","51",{"$f":"Раздел2!F59","v":0},0,0,0,0,0,null,null,null,null,null,null,null,null,null,null,null,null,null,null,null,null,null,null,null,null,null,null,null,null,null,null,null,null,null,null,null,null,null,null,null,null,null,null,null,null,null,null,null,null,null,null,null,null,null,null,null,null,{"$f":"Раздел2!D59","v":0}]
[null,"Го","52",{"$f":"Раздел2!F60","v":0},0,0,0,0,0,null,null,null,null,null,null,null,null,null,null,null,null,null,null,null,null,null,null,null,null,null,null,null,null,null,null,null,null,null,null,null,null,null,null,null,null,null,null,null,null,null,null,null,null,null,null,null,null,null,null,null,null,{"$f":"Раздел2!D60","v":0}]
[null,"Гольф","53",{"$f":"Раздел2!F61","v":0},0,0,0,0,0,null,null,null,null,null,null,null,null,null,null,null,null,null,null,null,null,null,null,null,null,null,null,null,null,null,null,null,null,null,null,null,null,null,null,null,null,null,null,null,null,null,null,null,null,null,null,null,null,null,null,null,null,{"$f":"Раздел2!D61","v":0}]
[null,"Гонки на охотничьих лыжах","54",{"$f":"Раздел2!F62","v":0},0,0,0,0,0,null,null,null,null,null,null,null,null,null,null,null,null,null,null,null,null,null,null,null,null,null,null,null,null,null,null,null,null,null,null,null,null,null,null,null,null,null,null,null,null,null,null,null,null,null,null,null,null,null,null,null,null,{"$f":"Раздел2!D62","v":0}]
[null,"Горнолыжный спорт","55",{"$f":"Раздел2!F63","v":0},0,0,0,0,0,null,null,null,null,null,null,null,null,null,null,null,null,null,null,null,null,null,null,null,null,null,null,null,null,null,null,null,null,null,null,null,null,null,null,null,null,null,null,null,null,null,null,null,null,null,null,null,null,null,null,null,null,{"$f":"Раздел2!D63","v":0}]
[null,"Городошный спорт","56",{"$f":"Раздел2!F64","v":0},0,0,0,0,0,null,null,null,null,null,null,null,null,null,null,null,null,null,null,null,null,null,null,null,null,null,null,null,null,null,null,null,null,null,null,null,null,null,null,null,null,null,null,null,null,null,null,null,null,null,null,null,null,null,null,null,null,{"$f":"Раздел2!D64","v":0}]
[null,"Гребля на байдарках и каноэ","57",{"$f":"Раздел2!F65","v":0},0,0,0,0,0,null,null,null,null,null,null,null,null,null,null,null,null,null,null,null,null,null,null,null,null,null,null,null,null,null,null,null,null,null,null,null,null,null,null,null,null,null,null,null,null,null,null,null,null,null,null,null,null,null,null,null,null,{"$f":"Раздел2!D65","v":0}]
[null,"Гребля на шлюпках","58",{"$f":"Раздел2!F66","v":0},0,0,0,0,0,null,null,null,null,null,null,null,null,null,null,null,null,null,null,null,null,null,null,null,null,null,null,null,null,null,null,null,null,null,null,null,null,null,null,null,null,null,null,null,null,null,null,null,null,null,null,null,null,null,null,null,null,{"$f":"Раздел2!D66","v":0}]
[null,"Гребной слалом","59",{"$f":"Раздел2!F67","v":0},0,0,0,0,0,null,null,null,null,null,null,null,null,null,null,null,null,null,null,null,null,null,null,null,null,null,null,null,null,null,null,null,null,null,null,null,null,null,null,null,null,null,null,null,null,null,null,null,null,null,null,null,null,null,null,null,null,{"$f":"Раздел2!D67","v":0}]
[null,"Гребной спорт - всего","60",{"$f":"Раздел2!F68","v":0},0,0,0,0,0,{"$f":"SUM(J68:J71)","v":0},{"$f":"SUM(K68:K71)","v":0},0,0,0,0,0,0,0,0,0,0,0,0,0,0,0,0,0,0,0,0,0,0,0,0,0,0,0,0,0,0,0,0,0,0,0,0,0,0,0,0,0,0,0,0,0,0,0,0,null,null,{"$f":"Раздел2!D68","v":0}]
[null,"в том числе:\nАкадемическая гребля","61",{"$f":"Раздел2!F69","v":0},0,0,0,0,0,null,null,null,null,null,null,null,null,null,null,null,null,null,null,null,null,null,null,null,null,null,null,null,null,null,null,null,null,null,null,null,null,null,null,null,null,null,null,null,null,null,null,null,null,null,null,null,null,null,null,null,null,{"$f":"Раздел2!D69","v":0}]
[null,"Гребля-индор","62",{"$f":"Раздел2!F70","v":0},0,0,0,0,0,null,null,null,null,null,null,null,null,null,null,null,null,null,null,null,null,null,null,null,null,null,null,null,null,null,null,null,null,null,null,null,null,null,null,null,null,null,null,null,null,null,null,null,null,null,null,null,null,null,null,null,null,{"$f":"Раздел2!D70","v":0}]
[null,"Народная гребля","63",{"$f":"Раздел2!F71","v":0},0,0,0,0,0,null,null,null,null,null,null,null,null,null,null,null,null,null,null,null,null,null,null,null,null,null,null,null,null,null,null,null,null,null,null,null,null,null,null,null,null,null,null,null,null,null,null,null,null,null,null,null,null,null,null,null,null,{"$f":"Раздел2!D71","v":0}]
[null,"Прибрежная гребля","64",{"$f":"Раздел2!F72","v":0},0,0,0,0,0,null,null,null,null,null,null,null,null,null,null,null,null,null,null,null,null,null,null,null,null,null,null,null,null,null,null,null,null,null,null,null,null,null,null,null,null,null,null,null,null,null,null,null,null,null,null,null,null,null,null,null,null,{"$f":"Раздел2!D72","v":0}]
[null,"Гребно-парусное двоеборье","65",{"$f":"Раздел2!F73","v":0},0,0,0,0,0,null,null,null,null,null,null,null,null,null,null,null,null,null,null,null,null,null,null,null,null,null,null,null,null,null,null,null,null,null,null,null,null,null,null,null,null,null,null,null,null,null,null,null,null,null,null,null,null,null,null,null,null,{"$f":"Раздел2!D73","v":0}]
[null,"Дартс","66",{"$f":"Раздел2!F74","v":0},{"$f":"J73+O73+T73+Y73+AD73+AI73+AN73+AS73+AX73+BC73","v":0},{"$f":"SUM(K73,P73,U73,Z73,AE73,AJ73,AO73,AT73,AY73,BD73)","v":0},{"$f":"L73+Q73+V73+AA73+AF73+AK73+AP73+AU73+AZ73+BE73","v":0},{"$f":"M73+R73+W73+AB73+AG73+AL73+AQ73+AV73+BA73+BF73","v":0},{"$f":"N73+S73+X73+AC73+AH73+AM73+AR73+AW73+BB73+BG73","v":0},null,null,null,null,null,null,null,null,null,null,null,null,null,null,null,null,null,null,null,null,null,null,null,null,null,null,null,null,null,null,null,null,null,null,null,null,null,null,null,null,null,null,null,null,null,null,null,null,null,null,null,null,{"$f":"Раздел2!D74","v":0}]
[null,"Джиу-джитсу","67",{"$f":"Раздел2!F75","v":0},0,0,0,0,0,null,null,null,null,null,null,null,null,null,null,null,null,null,null,null,null,null,null,null,null,null,null,null,null,null,null,null,null,null,null,null,null,null,null,null,null,null,null,null,null,null,null,null,null,null,null,null,null,null,null,null,null,{"$f":"Раздел2!D75","v":0}]
[null,"Дзюдо","68",{"$f":"Раздел2!F76","v":0},0,0,0,0,0,null,null,null,null,null,null,null,null,null,null,null,null,null,null,null,null,null,null,null,null,null,null,null,null,null,null,null,null,null,null,null,null,null,null,null,null,null,null,null,null,null,null,null,null,null,null,null,null,null,null,null,null,{"$f":"Раздел2!D76","v":0}]
[null,"Ездовой спорт","69",{"$f":"Раздел2!F77","v":0},0,0,0,0,0,null,null,null,null,null,null,null,null,null,null,null,null,null,null,null,null,null,null,null,null,null,null,null,null,null,null,null,null,null,null,null,null,null,null,null,null,null,null,null,null,null,null,null,null,null,null,null,null,null,null,null,null,{"$f":"Раздел2!D77","v":0}]
[null,"Капоэйра","70",{"$f":"Раздел2!F78","v":0},0,0,0,0,0,null,null,null,null,null,null,null,null,null,null,null,null,null,null,null,null,null,null,null,null,null,null,null,null,null,null,null,null,null,null,null,null,null,null,null,null,null,null,null,null,null,null,null,null,null,null,null,null,null,null,null,null,{"$f":"Раздел2!D78","v":0}]
[null,"Каратэ","71",{"$f":"Раздел2!F79","v":0},0,0,0,0,0,null,null,null,null,null,null,null,null,null,null,null,null,null,null,null,null,null,null,null,null,null,null,null,null,null,null,null,null,null,null,null,null,null,null,null,null,null,null,null,null,null,null,null,null,null,null,null,null,null,null,null,null,{"$f":"Раздел2!D79","v":0}]
[null,"Кендо","72",{"$f":"Раздел2!F80","v":0},0,0,0,0,0,null,null,null,null,null,null,null,null,null,null,null,null,null,null,null,null,null,null,null,null,null,null,null,null,null,null,null,null,null,null,null,null,null,null,null,null,null,null,null,null,null,null,null,null,null,null,null,null,null,null,null,null,{"$f":"Раздел2!D80","v":0}]
[null,"Керешу","73",{"$f":"Раздел2!F81","v":0},0,0,0,0,0,null,null,null,null,null,null,null,null,null,null,null,null,null,null,null,null,null,null,null,null,null,null,null,null,null,null,null,null,null,null,null,null,null,null,null,null,null,null,null,null,null,null,null,null,null,null,null,null,null,null,null,null,{"$f":"Раздел2!D81","v":0}]
[null,"Кёрлинг - всего","74",{"$f":"Раздел2!F82","v":0},0,0,0,0,0,{"$f":"SUM(J82:J83)","v":0},{"$f":"SUM(K82:K83)","v":0},0,0,0,0,0,0,0,0,0,0,0,0,0,0,0,0,0,0,0,0,0,0,0,0,0,0,0,0,0,0,0,0,0,0,0,0,0,0,0,0,0,0,0,0,0,0,0,0,null,null,{"$f":"Раздел2!D82","v":0}]
[null,"в том числе:\nКерлинг (муж.)","75",{"$f":"Раздел2!F83","v":0},0,0,0,0,0,null,null,null,null,null,null,null,null,null,null,null,null,null,null,null,null,null,null,null,null,null,null,null,null,null,null,null,null,null,null,null,null,null,null,null,null,null,null,null,null,null,null,null,null,null,null,null,null,null,null,null,null,{"$f":"Раздел2!D83","v":0}]
[null,"Керлинг (жен.)","76",{"$f":"Раздел2!F84","v":0},0,0,0,0,0,null,null,null,null,null,null,null,null,null,null,null,null,null,null,null,null,null,null,null,null,null,null,null,null,null,null,null,null,null,null,null,null,null,null,null,null,null,null,null,null,null,null,null,null,null,null,null,null,null,null,null,null,{"$f":"Раздел2!D84","v":0}]
[null,"Кикбоксинг","77",{"$f":"Раздел2!F85","v":0},0,0,0,0,0,null,null,null,null,null,null,null,null,null,null,null,null,null,null,null,null,null,null,null,null,null,null,null,null,null,null,null,null,null,null,null,null,null,null,null,null,null,null,null,null,null,null,null,null,null,null,null,null,null,null,null,null,{"$f":"Раздел2!D85","v":0}]
[null,"Кинологический спорт","78",{"$f":"Раздел2!F86","v":0},0,0,0,0,0,null,null,null,null,null,null,null,null,null,null,null,null,null,null,null,null,null,null,null,null,null,null,null,null,null,null,null,null,null,null,null,null,null,null,null,null,null,null,null,null,null,null,null,null,null,null,null,null,null,null,null,null,{"$f":"Раздел2!D86","v":0}]
[null,"Киокусинкай","79",{"$f":"Раздел2!F87","v":0},0,0,0,0,0,null,null,null,null,null,null,null,null,null,null,null,null,null,null,null,null,null,null,null,null,null,null,null,null,null,null,null,null,null,null,null,null,null,null,null,null,null,null,null,null,null,null,null,null,null,null,null,null,null,null,null,null,{"$f":"Раздел2!D87","v":0}]
[null,"Комплексное единоборство","80",{"$f":"Раздел2!F88","v":0},0,0,0,0,0,null,null,null,null,null,null,null,null,null,null,null,null,null,null,null,null,null,null,null,null,null,null,null,null,null,null,null,null,null,null,null,null,null,null,null,null,null,null,null,null,null,null,null,null,null,null,null,null,null,null,null,null,{"$f":"Раздел2!D88","v":0}]
[null,"Компьютерный спорт","81",{"$f":"Раздел2!F89","v":0},0,0,0,0,0,null,null,null,null,null,null,null,null,null,null,null,null,null,null,null,null,null,null,null,null,null,null,null,null,null,null,null,null,null,null,null,null,null,null,null,null,null,null,null,null,null,null,null,null,null,null,null,null,null,null,null,null,{"$f":"Раздел2!D89","v":0}]
[null,"Конный спорт","82",{"$f":"Раздел2!F90","v":0},0,0,0,0,0,null,null,null,null,null,null,null,null,null,null,null,null,null,null,null,null,null,null,null,null,null,null,null,null,null,null,null,null,null,null,null,null,null,null,null,null,null,null,null,null,null,null,null,null,null,null,null,null,null,null,null,null,{"$f":"Раздел2!D90","v":0}]
[null,"Конькобежный спорт - всего","83",{"$f":"Раздел2!F91","v":0},0,0,0,0,0,{"$f":"SUM(J91:J92)","v":0},{"$f":"SUM(K91:K92)","v":0},0,0,0,0,0,0,0,0,0,0,0,0,0,0,0,0,0,0,0,0,0,0,0,0,0,0,0,0,0,0,0,0,0,0,0,0,0,0,0,0,0,0,0,0,0,0,0,0,null,null,{"$f":"Раздел2!D91","v":0}]
[null,"в том числе:\nКонькобежный спорт","84",{"$f":"Раздел2!F92","v":0},0,0,0,0,0,null,null,null,null,null,null,null,null,null,null,null,null,null,null,null,null,null,null,null,null,null,null,null,null,null,null,null,null,null,null,null,null,null,null,null,null,null,null,null,null,null,null,null,null,null,null,null,null,null,null,null,null,{"$f":"Раздел2!D92","v":0}]
[null,"Шорт-трек","85",{"$f":"Раздел2!F93","v":0},0,0,0,0,0,null,null,null,null,null,null,null,null,null,null,null,null,null,null,null,null,null,null,null,null,null,null,null,null,null,null,null,null,null,null,null,null,null,null,null,null,null,null,null,null,null,null,null,null,null,null,null,null,null,null,null,null,{"$f":"Раздел2!D93","v":0}]
[null,"Корэш","86",{"$f":"Раздел2!F94","v":0},0,0,0,0,0,null,null,null,null,null,null,null,null,null,null,null,null,null,null,null,null,null,null,null,null,null,null,null,null,null,null,null,null,null,null,null,null,null,null,null,null,null,null,null,null,null,null,null,null,null,null,null,null,null,null,null,null,{"$f":"Раздел2!D94","v":0}]
[null,"Корфбол","87",{"$f":"Раздел2!F95","v":0},0,0,0,0,0,null,null,null,null,null,null,null,null,null,null,null,null,null,null,null,null,null,null,null,null,null,null,null,null,null,null,null,null,null,null,null,null,null,null,null,null,null,null,null,null,null,null,null,null,null,null,null,null,null,null,null,null,{"$f":"Раздел2!D95","v":0}]
[null,"Кудо","88",{"$f":"Раздел2!F96","v":0},0,0,0,0,0,null,null,null,null,null,null,null,null,null,null,null,null,null,null,null,null,null,null,null,null,null,null,null,null,null,null,null,null,null,null,null,null,null,null,null,null,null,null,null,null,null,null,null,null,null,null,null,null,null,null,null,null,{"$f":"Раздел2!D96","v":0}]
[null,"Лапта","89",{"$f":"Раздел2!F97","v":0},0,0,0,0,0,null,null,null,null,null,null,null,null,null,null,null,null,null,null,null,null,null,null,null,null,null,null,null,null,null,null,null,null,null,null,null,null,null,null,null,null,null,null,null,null,null,null,null,null,null,null,null,null,null,null,null,null,{"$f":"Раздел2!D97","v":0}]
[null,"Легкая атлетика - всего","90",{"$f":"Раздел2!F98","v":577},0,0,0,0,0,{"$f":"SUM(J98:J104)","v":0},{"$f":"SUM(K98:K104)","v":0},0,0,0,0,0,0,0,0,0,0,0,0,0,0,0,0,0,0,0,0,0,0,0,0,0,0,0,0,0,0,0,0,0,0,0,0,0,0,0,0,0,0,0,0,0,0,0,0,null,null,{"$f":"Раздел2!D98","v":1}]
[null,"в том числе:\nСпринтерский и барьерный бег","91",{"$f":"Раздел2!F99","v":0},0,0,0,0,0,null,null,null,null,null,null,null,null,null,null,null,null,null,null,null,null,null,null,null,null,null,null,null,null,null,null,null,null,null,null,null,null,null,null,null,null,null,null,null,null,null,null,null,null,null,null,null,null,null,null,null,null,{"$f":"Раздел2!D99","v":0}]
[null,"Бег на средние дистанции и бег с препятствиями","92",{"$f":"Раздел2!F100","v":0},0,0,0,0,0,null,null,null,null,null,null,null,null,null,null,null,null,null,null,null,null,null,null,null,null,null,null,null,null,null,null,null,null,null,null,null,null,null,null,null,null,null,null,null,null,null,null,null,null,null,null,null,null,null,null,null,null,{"$f":"Раздел2!D100","v":0}]
[null,"Бег на длинные и сверхдлинные дистанции","93",{"$f":"Раздел2!F101","v":0},0,0,0,0,0,null,null,null,null,null,null,null,null,null,null,null,null,null,null,null,null,null,null,null,null,null,null,null,null,null,null,null,null,null,null,null,null,null,null,null,null,null,null,null,null,null,null,null,null,null,null,null,null,null,null,null,null,{"$f":"Раздел2!D101","v":0}]
[null,"Многоборья","94",{"$f":"Раздел2!F102","v":577},0,0,0,0,0,null,null,null,null,null,null,null,null,null,null,null,null,null,null,null,null,null,null,null,null,null,null,null,null,null,null,null,null,null,null,null,null,null,null,null,null,null,null,null,null,null,null,null,null,null,null,null,null,null,null,null,null,{"$f":"Раздел2!D102","v":1}]
[null,"Прыжки","95",{"$f":"Раздел2!F103","v":0},0,0,0,0,0,null,null,null,null,null,null,null,null,null,null,null,null,null,null,null,null,null,null,null,null,null,null,null,null,null,null,null,null,null,null,null,null,null,null,null,null,null,null,null,null,null,null,null,null,null,null,null,null,null,null,null,null,{"$f":"Раздел2!D103","v":0}]
[null,"Метания","96",{"$f":"Раздел2!F104","v":0},0,0,0,0,0,null,null,null,null,null,null,null,null,null,null,null,null,null,null,null,null,null,null,null,null,null,null,null,null,null,null,null,null,null,null,null,null,null,null,null,null,null,null,null,null,null,null,null,null,null,null,null,null,null,null,null,null,{"$f":"Раздел2!D104","v":0}]
[null,"Спортивная ходьба","97",{"$f":"Раздел2!F105","v":0},0,0,0,0,0,null,null,null,null,null,null,null,null,null,null,null,null,null,null,null,null,null,null,null,null,null,null,null,null,null,null,null,null,null,null,null,null,null,null,null,null,null,null,null,null,null,null,null,null,null,null,null,null,null,null,null,null,{"$f":"Раздел2!D105","v":0}]
[null,"Лыжное двоеборье","98",{"$f":"Раздел2!F106","v":0},0,0,0,0,0,null,null,null,null,null,null,null,null,null,null,null,null,null,null,null,null,null,null,null,null,null,null,null,null,null,null,null,null,null,null,null,null,null,null,null,null,null,null,null,null,null,null,null,null,null,null,null,null,null,null,null,null,{"$f":"Раздел2!D106","v":0}]
[null,"Лыжные гонки","99",{"$f":"Раздел2!F107","v":0},0,0,0,0,0,null,null,null,null,null,null,null,null,null,null,null,null,null,null,null,null,null,null,null,null,null,null,null,null,null,null,null,null,null,null,null,null,null,null,null,null,null,null,null,null,null,null,null,null,null,null,null,null,null,null,null,null,{"$f":"Раздел2!D107","v":0}]
[null,"Мас-рестлинг","100",{"$f":"Раздел2!F108","v":0},0,0,0,0,0,null,null,null,null,null,null,null,null,null,null,null,null,null,null,null,null,null,null,null,null,null,null,null,null,null,null,null,null,null,null,null,null,null,null,null,null,null,null,null,null,null,null,null,null,null,null,null,null,null,null,null,null,{"$f":"Раздел2!D108","v":0}]
[null,"Международное военно-спортивное многоборье","101",{"$f":"Раздел2!F109","v":0},0,0,0,0,0,null,null,null,null,null,null,null,null,null,null,null,null,null,null,null,null,null,null,null,null,null,null,null,null,null,null,null,null,null,null,null,null,null,null,null,null,null,null,null,null,null,null,null,null,null,null,null,null,null,null,null,null,{"$f":"Раздел2!D109","v":0}]
[null,"Многоборье кинологов","102",{"$f":"Раздел2!F110","v":0},0,0,0,0,0,null,null,null,null,null,null,null,null,null,null,null,null,null,null,null,null,null,null,null,null,null,null,null,null,null,null,null,null,null,null,null,null,null,null,null,null,null,null,null,null,null,null,null,null,null,null,null,null,null,null,null,null,{"$f":"Раздел2!D110","v":0}]
[null,"Многоборье спасателей МЧС России","103",{"$f":"Раздел2!F111","v":0},0,0,0,0,0,null,null,null,null,null,null,null,null,null,null,null,null,null,null,null,null,null,null,null,null,null,null,null,null,null,null,null,null,null,null,null,null,null,null,null,null,null,null,null,null,null,null,null,null,null,null,null,null,null,null,null,null,{"$f":"Раздел2!D111","v":0}]
[null,"Морское многоборье","104",{"$f":"Раздел2!F112","v":0},0,0,0,0,0,null,null,null,null,null,null,null,null,null,null,null,null,null,null,null,null,null,null,null,null,null,null,null,null,null,null,null,null,null,null,null,null,null,null,null,null,null,null,null,null,null,null,null,null,null,null,null,null,null,null,null,null,{"$f":"Раздел2!D112","v":0}]
[null,"Мотоциклетный спорт","105",{"$f":"Раздел2!F113","v":0},0,0,0,0,0,null,null,null,null,null,null,null,null,null,null,null,null,null,null,null,null,null,null,null,null,null,null,null,null,null,null,null,null,null,null,null,null,null,null,null,null,null,null,null,null,null,null,null,null,null,null,null,null,null,null,null,null,{"$f":"Раздел2!D113","v":0}]
[null,"Настольный теннис","106",{"$f":"Раздел2!F114","v":0},0,0,0,0,0,null,null,null,null,null,null,null,null,null,null,null,null,null,null,null,null,null,null,null,null,null,null,null,null,null,null,null,null,null,null,null,null,null,null,null,null,null,null,null,null,null,null,null,null,null,null,null,null,null,null,null,null,{"$f":"Раздел2!D114","v":0}]
[null,"Парашютный спорт","107",{"$f":"Раздел2!F115","v":0},0,0,0,0,0,null,null,null,null,null,null,null,null,null,null,null,null,null,null,null,null,null,null,null,null,null,null,null,null,null,null,null,null,null,null,null,null,null,null,null,null,null,null,null,null,null,null,null,null,null,null,null,null,null,null,null,null,{"$f":"Раздел2!D115","v":0}]
[null,"Парусный спорт","108",{"$f":"Раздел2!F116","v":0},0,0,0,0,0,null,null,null,null,null,null,null,null,null,null,null,null,null,null,null,null,null,null,null,null,null,null,null,null,null,null,null,null,null,null,null,null,null,null,null,null,null,null,null,null,null,null,null,null,null,null,null,null,null,null,null,null,{"$f":"Раздел2!D116","v":0}]
[null,"Пауэрлифтинг","109",{"$f":"Раздел2!F117","v":0},0,0,0,0,0,null,null,null,null,null,null,null,null,null,null,null,null,null,null,null,null,null,null,null,null,null,null,null,null,null,null,null,null,null,null,null,null,null,null,null,null,null,null,null,null,null,null,null,null,null,null,null,null,null,null,null,null,{"$f":"Раздел2!D117","v":0}]
[null,"Перетягивание каната","110",{"$f":"Раздел2!F118","v":0},0,0,0,0,0,null,null,null,null,null,null,null,null,null,null,null,null,null,null,null,null,null,null,null,null,null,null,null,null,null,null,null,null,null,null,null,null,null,null,null,null,null,null,null,null,null,null,null,null,null,null,null,null,null,null,null,null,{"$f":"Раздел2!D118","v":0}]
[null,"Петанк","111",{"$f":"Раздел2!F119","v":0},0,0,0,0,0,null,null,null,null,null,null,null,null,null,null,null,null,null,null,null,null,null,null,null,null,null,null,null,null,null,null,null,null,null,null,null,null,null,null,null,null,null,null,null,null,null,null,null,null,null,null,null,null,null,null,null,null,{"$f":"Раздел2!D119","v":0}]
[null,"Плавание - всего","112",{"$f":"Раздел2!F120","v":0},0,0,0,0,0,{"$f":"SUM(J120:J121)","v":0},{"$f":"SUM(K120:K121)","v":0},0,0,0,0,0,0,0,0,0,0,0,0,0,0,0,0,0,0,0,0,0,0,0,0,0,0,0,0,0,0,0,0,0,0,0,0,0,0,0,0,0,0,0,0,0,0,0,0,null,null,{"$f":"Раздел2!D120","v":0}]
[null,"в том числе:\nПлавание ","113",{"$f":"Раздел2!F121","v":0},0,0,0,0,0,null,null,null,null,null,null,null,null,null,null,null,null,null,null,null,null,null,null,null,null,null,null,null,null,null,null,null,null,null,null,null,null,null,null,null,null,null,null,null,null,null,null,null,null,null,null,null,null,null,null,null,null,{"$f":"Раздел2!D121","v":0}]
[null,"Открытая вода","114",{"$f":"Раздел2!F122","v":0},0,0,0,0,0,null,null,null,null,null,null,null,null,null,null,null,null,null,null,null,null,null,null,null,null,null,null,null,null,null,null,null,null,null,null,null,null,null,null,null,null,null,null,null,null,null,null,null,null,null,null,null,null,null,null,null,null,{"$f":"Раздел2!D122","v":0}]
[null,"Планерный спорт","115",{"$f":"Раздел2!F123","v":0},0,0,0,0,0,null,null,null,null,null,null,null,null,null,null,null,null,null,null,null,null,null,null,null,null,null,null,null,null,null,null,null,null,null,null,null,null,null,null,null,null,null,null,null,null,null,null,null,null,null,null,null,null,null,null,null,null,{"$f":"Раздел2!D123","v":0}]
[null,"Подводный спорт","116",{"$f":"Раздел2!F124","v":0},0,0,0,0,0,null,null,null,null,null,null,null,null,null,null,null,null,null,null,null,null,null,null,null,null,null,null,null,null,null,null,null,null,null,null,null,null,null,null,null,null,null,null,null,null,null,null,null,null,null,null,null,null,null,null,null,null,{"$f":"Раздел2!D124","v":0}]
[null,"Пожарно-спасательный спорт","117",{"$f":"Раздел2!F125","v":102},0,0,0,0,0,null,null,null,null,null,null,null,null,null,null,null,null,null,null,null,null,null,null,null,null,null,null,null,null,null,null,null,null,null,null,null,null,null,null,null,null,null,null,null,null,null,null,null,null,null,null,null,null,null,null,null,null,{"$f":"Раздел2!D125","v":1}]
[null,"Полиатлон","118",{"$f":"Раздел2!F126","v":0},0,0,0,0,0,null,null,null,null,null,null,null,null,null,null,null,null,null,null,null,null,null,null,null,null,null,null,null,null,null,null,null,null,null,null,null,null,null,null,null,null,null,null,null,null,null,null,null,null,null,null,null,null,null,null,null,null,{"$f":"Раздел2!D126","v":0}]
[null,"Практическая стрельба","119",{"$f":"Раздел2!F127","v":0},0,0,0,0,0,null,null,null,null,null,null,null,null,null,null,null,null,null,null,null,null,null,null,null,null,null,null,null,null,null,null,null,null,null,null,null,null,null,null,null,null,null,null,null,null,null,null,null,null,null,null,null,null,null,null,null,null,{"$f":"Раздел2!D127","v":0}]
[null,"Прыжки в воду - всего","120",{"$f":"Раздел2!F128","v":0},0,0,0,0,0,{"$f":"SUM(J128:J129)","v":0},{"$f":"SUM(K128:K129)","v":0},0,0,0,0,0,0,0,0,0,0,0,0,0,0,0,0,0,0,0,0,0,0,0,0,0,0,0,0,0,0,0,0,0,0,0,0,0,0,0,0,0,0,0,0,0,0,0,0,null,null,{"$f":"Раздел2!D128","v":0}]
[null,"в том числе:\nПрыжки в воду","121",{"$f":"Раздел2!F129","v":0},0,0,0,0,0,null,null,null,null,null,null,null,null,null,null,null,null,null,null,null,null,null,null,null,null,null,null,null,null,null,null,null,null,null,null,null,null,null,null,null,null,null,null,null,null,null,null,null,null,null,null,null,null,null,null,null,null,{"$f":"Раздел2!D129","v":0}]
[null,"Прыжки в открытый водоем","122",{"$f":"Раздел2!F130","v":0},0,0,0,0,0,null,null,null,null,null,null,null,null,null,null,null,null,null,null,null,null,null,null,null,null,null,null,null,null,null,null,null,null,null,null,null,null,null,null,null,null,null,null,null,null,null,null,null,null,null,null,null,null,null,null,null,null,{"$f":"Раздел2!D130","v":0}]
[null,"Прыжки на батуте - всего","123",{"$f":"Раздел2!F131","v":0},0,0,0,0,0,{"$f":"SUM(J131:J134)","v":0},{"$f":"SUM(K131:K134)","v":0},0,0,0,0,0,0,0,0,0,0,0,0,0,0,0,0,0,0,0,0,0,0,0,0,0,0,0,0,0,0,0,0,0,0,0,0,0,0,0,0,0,0,0,0,0,0,0,0,null,null,{"$f":"Раздел2!D131","v":0}]
[null,"в том числе:\nАкробатическая дорожка","124",{"$f":"Раздел2!F132","v":0},0,0,0,0,0,null,null,null,null,null,null,null,null,null,null,null,null,null,null,null,null,null,null,null,null,null,null,null,null,null,null,null,null,null,null,null,null,null,null,null,null,null,null,null,null,null,null,null,null,null,null,null,null,null,null,null,null,{"$f":"Раздел2!D132","v":0}]
[null,"Двойной минитрамп","125",{"$f":"Раздел2!F133","v":0},0,0,0,0,0,null,null,null,null,null,null,null,null,null,null,null,null,null,null,null,null,null,null,null,null,null,null,null,null,null,null,null,null,null,null,null,null,null,null,null,null,null,null,null,null,null,null,null,null,null,null,null,null,null,null,null,null,{"$f":"Раздел2!D133","v":0}]
[null,"Индивидуальные прыжки","126",{"$f":"Раздел2!F134","v":0},0,0,0,0,0,null,null,null,null,null,null,null,null,null,null,null,null,null,null,null,null,null,null,null,null,null,null,null,null,null,null,null,null,null,null,null,null,null,null,null,null,null,null,null,null,null,null,null,null,null,null,null,null,null,null,null,null,{"$f":"Раздел2!D134","v":0}]
[null,"Синхронные прыжки","127",{"$f":"Раздел2!F135","v":0},0,0,0,0,0,null,null,null,null,null,null,null,null,null,null,null,null,null,null,null,null,null,null,null,null,null,null,null,null,null,null,null,null,null,null,null,null,null,null,null,null,null,null,null,null,null,null,null,null,null,null,null,null,null,null,null,null,{"$f":"Раздел2!D135","v":0}]
[null,"Прыжки на лыжах с трамплина","128",{"$f":"Раздел2!F136","v":0},0,0,0,0,0,null,null,null,null,null,null,null,null,null,null,null,null,null,null,null,null,null,null,null,null,null,null,null,null,null,null,null,null,null,null,null,null,null,null,null,null,null,null,null,null,null,null,null,null,null,null,null,null,null,null,null,null,{"$f":"Раздел2!D136","v":0}]
[null,"Пулевая стрельба - всего","129",{"$f":"Раздел2!F137","v":0},0,0,0,0,0,{"$f":"SUM(J137:J141)","v":0},{"$f":"SUM(K137:K141)","v":0},0,0,0,0,0,0,0,0,0,0,0,0,0,0,0,0,0,0,0,0,0,0,0,0,0,0,0,0,0,0,0,0,0,0,0,0,0,0,0,0,0,0,0,0,0,0,0,0,null,null,{"$f":"Раздел2!D137","v":0}]
[null,"в том числе:\nПневматическая винтовка","130",{"$f":"Раздел2!F138","v":0},{"$f":"J137+O137+T137+Y137+AD137+AI137+AN137+AS137+AX137+BC137","v":0},{"$f":"SUM(K137,P137,U137,Z137,AE137,AJ137,AO137,AT137,AY137,BD137)","v":0},{"$f":"L137+Q137+V137+AA137+AF137+AK137+AP137+AU137+AZ137+BE137","v":0},{"$f":"M137+R137+W137+AB137+AG137+AL137+AQ137+AV137+BA137+BF137","v":0},{"$f":"N137+S137+X137+AC137+AH137+AM137+AR137+AW137+BB137+BG137","v":0},null,null,null,null,null,null,null,null,null,null,null,null,null,null,null,null,null,null,null,null,null,null,null,null,null,null,null,null,null,null,null,null,null,null,null,null,null,null,null,null,null,null,null,null,null,null,null,null,null,null,null,null,{"$f":"Раздел2!D138","v":0}]
[null,"Пневматический пистолет","131",{"$f":"Раздел2!F139","v":0},0,0,0,0,0,null,null,null,null,null,null,null,null,null,null,null,null,null,null,null,null,null,null,null,null,null,null,null,null,null,null,null,null,null,null,null,null,null,null,null,null,null,null,null,null,null,null,null,null,null,null,null,null,null,null,null,null,{"$f":"Раздел2!D139","v":0}]
[null,"Малокалиберная винтовка","132",{"$f":"Раздел2!F140","v":0},0,0,0,0,0,null,null,null,null,null,null,null,null,null,null,null,null,null,null,null,null,null,null,null,null,null,null,null,null,null,null,null,null,null,null,null,null,null,null,null,null,null,null,null,null,null,null,null,null,null,null,null,null,null,null,null,null,{"$f":"Раздел2!D140","v":0}]
[null,"Малокалиберный пистолет","133",{"$f":"Раздел2!F141","v":0},0,0,0,0,0,null,null,null,null,null,null,null,null,null,null,null,null,null,null,null,null,null,null,null,null,null,null,null,null,null,null,null,null,null,null,null,null,null,null,null,null,null,null,null,null,null,null,null,null,null,null,null,null,null,null,null,null,{"$f":"Раздел2!D141","v":0}]
[null,"Движущаяся мишень","134",{"$f":"Раздел2!F142","v":0},0,0,0,0,0,null,null,null,null,null,null,null,null,null,null,null,null,null,null,null,null,null,null,null,null,null,null,null,null,null,null,null,null,null,null,null,null,null,null,null,null,null,null,null,null,null,null,null,null,null,null,null,null,null,null,null,null,{"$f":"Раздел2!D142","v":0}]
[null,"Пэйнтбол","135",{"$f":"Раздел2!F143","v":0},0,0,0,0,0,null,null,null,null,null,null,null,null,null,null,null,null,null,null,null,null,null,null,null,null,null,null,null,null,null,null,null,null,null,null,null,null,null,null,null,null,null,null,null,null,null,null,null,null,null,null,null,null,null,null,null,null,{"$f":"Раздел2!D143","v":0}]
[null,"Радиоспорт","136",{"$f":"Раздел2!F144","v":0},0,0,0,0,0,null,null,null,null,null,null,null,null,null,null,null,null,null,null,null,null,null,null,null,null,null,null,null,null,null,null,null,null,null,null,null,null,null,null,null,null,null,null,null,null,null,null,null,null,null,null,null,null,null,null,null,null,{"$f":"Раздел2!D144","v":0}]
[null,"Рафтинг","137",{"$f":"Раздел2!F145","v":0},0,0,0,0,0,null,null,null,null,null,null,null,null,null,null,null,null,null,null,null,null,null,null,null,null,null,null,null,null,null,null,null,null,null,null,null,null,null,null,null,null,null,null,null,null,null,null,null,null,null,null,null,null,null,null,null,null,{"$f":"Раздел2!D145","v":0}]
[null,"Регби - всего","138",{"$f":"Раздел2!F146","v":0},0,0,0,0,0,{"$f":"SUM(J146:J149)","v":0},{"$f":"SUM(K146:K149)","v":0},0,0,0,0,0,0,0,0,0,0,0,0,0,0,0,0,0,0,0,0,0,0,0,0,0,0,0,0,0,0,0,0,0,0,0,0,0,0,0,0,0,0,0,0,0,0,0,0,null,null,{"$f":"Раздел2!D146","v":0}]
[null,"в том числе:\nРегби","139",{"$f":"Раздел2!F147","v":0},0,0,0,0,0,null,null,null,null,null,null,null,null,null,null,null,null,null,null,null,null,null,null,null,null,null,null,null,null,null,null,null,null,null,null,null,null,null,null,null,null,null,null,null,null,null,null,null,null,null,null,null,null,null,null,null,null,{"$f":"Раздел2!D147","v":0}]
[null,"Регби 7 (муж.)","140",{"$f":"Раздел2!F148","v":0},0,0,0,0,0,null,null,null,null,null,null,null,null,null,null,null,null,null,null,null,null,null,null,null,null,null,null,null,null,null,null,null,null,null,null,null,null,null,null,null,null,null,null,null,null,null,null,null,null,null,null,null,null,null,null,null,null,{"$f":"Раздел2!D148","v":0}]
[null,"Регби 7 (жен.)","141",{"$f":"Раздел2!F149","v":0},0,0,0,0,0,null,null,null,null,null,null,null,null,null,null,null,null,null,null,null,null,null,null,null,null,null,null,null,null,null,null,null,null,null,null,null,null,null,null,null,null,null,null,null,null,null,null,null,null,null,null,null,null,null,null,null,null,{"$f":"Раздел2!D149","v":0}]
[null,"Регби - пляжное","142",{"$f":"Раздел2!F150","v":0},0,0,0,0,0,null,null,null,null,null,null,null,null,null,null,null,null,null,null,null,null,null,null,null,null,null,null,null,null,null,null,null,null,null,null,null,null,null,null,null,null,null,null,null,null,null,null,null,null,null,null,null,null,null,null,null,null,{"$f":"Раздел2!D150","v":0}]
[null,"Регбол","143",{"$f":"Раздел2!F151","v":0},0,0,0,0,0,null,null,null,null,null,null,null,null,null,null,null,null,null,null,null,null,null,null,null,null,null,null,null,null,null,null,null,null,null,null,null,null,null,null,null,null,null,null,null,null,null,null,null,null,null,null,null,null,null,null,null,null,{"$f":"Раздел2!D151","v":0}]
[null,"Роллер спорт","144",{"$f":"Раздел2!F152","v":0},0,0,0,0,0,null,null,null,null,null,null,null,null,null,null,null,null,null,null,null,null,null,null,null,null,null,null,null,null,null,null,null,null,null,null,null,null,null,null,null,null,null,null,null,null,null,null,null,null,null,null,null,null,null,null,null,null,{"$f":"Раздел2!D152","v":0}]
[null,"Рукопашный бой","145",{"$f":"Раздел2!F153","v":0},0,0,0,0,0,null,null,null,null,null,null,null,null,null,null,null,null,null,null,null,null,null,null,null,null,null,null,null,null,null,null,null,null,null,null,null,null,null,null,null,null,null,null,null,null,null,null,null,null,null,null,null,null,null,null,null,null,{"$f":"Раздел2!D153","v":0}]
[null,"Рыболовный спорт","146",{"$f":"Раздел2!F154","v":0},0,0,0,0,0,null,null,null,null,null,null,null,null,null,null,null,null,null,null,null,null,null,null,null,null,null,null,null,null,null,null,null,null,null,null,null,null,null,null,null,null,null,null,null,null,null,null,null,null,null,null,null,null,null,null,null,null,{"$f":"Раздел2!D154","v":0}]
[null,"Сават","147",{"$f":"Раздел2!F155","v":0},0,0,0,0,0,null,null,null,null,null,null,null,null,null,null,null,null,null,null,null,null,null,null,null,null,null,null,null,null,null,null,null,null,null,null,null,null,null,null,null,null,null,null,null,null,null,null,null,null,null,null,null,null,null,null,null,null,{"$f":"Раздел2!D155","v":0}]
[null,"Самбо","148",{"$f":"Раздел2!F156","v":0},0,0,0,0,0,null,null,null,null,null,null,null,null,null,null,null,null,null,null,null,null,null,null,null,null,null,null,null,null,null,null,null,null,null,null,null,null,null,null,null,null,null,null,null,null,null,null,null,null,null,null,null,null,null,null,null,null,{"$f":"Раздел2!D156","v":0}]
[null,"Самолетный спорт","149",{"$f":"Раздел2!F157","v":0},0,0,0,0,0,null,null,null,null,null,null,null,null,null,null,null,null,null,null,null,null,null,null,null,null,null,null,null,null,null,null,null,null,null,null,null,null,null,null,null,null,null,null,null,null,null,null,null,null,null,null,null,null,null,null,null,null,{"$f":"Раздел2!D157","v":0}]
[null,"Санный спорт","150",{"$f":"Раздел2!F158","v":0},0,0,0,0,0,null,null,null,null,null,null,null,null,null,null,null,null,null,null,null,null,null,null,null,null,null,null,null,null,null,null,null,null,null,null,null,null,null,null,null,null,null,null,null,null,null,null,null,null,null,null,null,null,null,null,null,null,{"$f":"Раздел2!D158","v":0}]
[null,"Северное многоборье","151",{"$f":"Раздел2!F159","v":0},0,0,0,0,0,null,null,null,null,null,null,null,null,null,null,null,null,null,null,null,null,null,null,null,null,null,null,null,null,null,null,null,null,null,null,null,null,null,null,null,null,null,null,null,null,null,null,null,null,null,null,null,null,null,null,null,null,{"$f":"Раздел2!D159","v":0}]
[null,"Серфинг","152",{"$f":"Раздел2!F160","v":0},0,0,0,0,0,null,null,null,null,null,null,null,null,null,null,null,null,null,null,null,null,null,null,null,null,null,null,null,null,null,null,null,null,null,null,null,null,null,null,null,null,null,null,null,null,null,null,null,null,null,null,null,null,null,null,null,null,{"$f":"Раздел2!D160","v":0}]
[null,"Синхронное плавание","153",{"$f":"Раздел2!F161","v":0},0,0,0,0,0,null,null,null,null,null,null,null,null,null,null,null,null,null,null,null,null,null,null,null,null,null,null,null,null,null,null,null,null,null,null,null,null,null,null,null,null,null,null,null,null,null,null,null,null,null,null,null,null,null,null,null,null,{"$f":"Раздел2!D161","v":0}]
[null,"Скалолазание","154",{"$f":"Раздел2!F162","v":0},0,0,0,0,0,null,null,null,null,null,null,null,null,null,null,null,null,null,null,null,null,null,null,null,null,null,null,null,null,null,null,null,null,null,null,null,null,null,null,null,null,null,null,null,null,null,null,null,null,null,null,null,null,null,null,null,null,{"$f":"Раздел2!D162","v":0}]
[null,"Сквош","155",{"$f":"Раздел2!F163","v":0},0,0,0,0,0,null,null,null,null,null,null,null,null,null,null,null,null,null,null,null,null,null,null,null,null,null,null,null,null,null,null,null,null,null,null,null,null,null,null,null,null,null,null,null,null,null,null,null,null,null,null,null,null,null,null,null,null,{"$f":"Раздел2!D163","v":0}]
[null,"Скейтбординг","156",{"$f":"Раздел2!F164","v":0},0,0,0,0,0,null,null,null,null,null,null,null,null,null,null,null,null,null,null,null,null,null,null,null,null,null,null,null,null,null,null,null,null,null,null,null,null,null,null,null,null,null,null,null,null,null,null,null,null,null,null,null,null,null,null,null,null,{"$f":"Раздел2!D164","v":0}]
[null,"Служебно-прикладной спорт","157",{"$f":"Раздел2!F165","v":0},0,0,0,0,0,null,null,null,null,null,null,null,null,null,null,null,null,null,null,null,null,null,null,null,null,null,null,null,null,null,null,null,null,null,null,null,null,null,null,null,null,null,null,null,null,null,null,null,null,null,null,null,null,null,null,null,null,{"$f":"Раздел2!D165","v":0}]
[null,"Служебно-прикладной спорт ФСО России","158",{"$f":"Раздел2!F166","v":0},0,0,0,0,0,null,null,null,null,null,null,null,null,null,null,null,null,null,null,null,null,null,null,null,null,null,null,null,null,null,null,null,null,null,null,null,null,null,null,null,null,null,null,null,null,null,null,null,null,null,null,null,null,null,null,null,null,{"$f":"Раздел2!D166","v":0}]
[null,"Служебно-прикладной спорт ФТС России","159",{"$f":"Раздел2!F167","v":0},0,0,0,0,0,null,null,null,null,null,null,null,null,null,null,null,null,null,null,null,null,null,null,null,null,null,null,null,null,null,null,null,null,null,null,null,null,null,null,null,null,null,null,null,null,null,null,null,null,null,null,null,null,null,null,null,null,{"$f":"Раздел2!D167","v":0}]
[null,"Служебное двоеборье","160",{"$f":"Раздел2!F168","v":0},0,0,0,0,0,null,null,null,null,null,null,null,null,null,null,null,null,null,null,null,null,null,null,null,null,null,null,null,null,null,null,null,null,null,null,null,null,null,null,null,null,null,null,null,null,null,null,null,null,null,null,null,null,null,null,null,null,{"$f":"Раздел2!D168","v":0}]
[null,"Служебное единоборство","161",{"$f":"Раздел2!F169","v":0},0,0,0,0,0,null,null,null,null,null,null,null,null,null,null,null,null,null,null,null,null,null,null,null,null,null,null,null,null,null,null,null,null,null,null,null,null,null,null,null,null,null,null,null,null,null,null,null,null,null,null,null,null,null,null,null,null,{"$f":"Раздел2!D169","v":0}]
[null,"Служебное многоборье","162",{"$f":"Раздел2!F170","v":0},0,0,0,0,0,null,null,null,null,null,null,null,null,null,null,null,null,null,null,null,null,null,null,null,null,null,null,null,null,null,null,null,null,null,null,null,null,null,null,null,null,null,null,null,null,null,null,null,null,null,null,null,null,null,null,null,null,{"$f":"Раздел2!D170","v":0}]
[null,"Служебный биатлон","163",{"$f":"Раздел2!F171","v":0},0,0,0,0,0,null,null,null,null,null,null,null,null,null,null,null,null,null,null,null,null,null,null,null,null,null,null,null,null,null,null,null,null,null,null,null,null,null,null,null,null,null,null,null,null,null,null,null,null,null,null,null,null,null,null,null,null,{"$f":"Раздел2!D171","v":0}]
[null,"Спасательный спорт","164",{"$f":"Раздел2!F172","v":0},0,0,0,0,0,null,null,null,null,null,null,null,null,null,null,null,null,null,null,null,null,null,null,null,null,null,null,null,null,null,null,null,null,null,null,null,null,null,null,null,null,null,null,null,null,null,null,null,null,null,null,null,null,null,null,null,null,{"$f":"Раздел2!D172","v":0}]
[null,"Стрельба из боевого ручного стрелкового оружия","165",{"$f":"Раздел2!F173","v":0},0,0,0,0,0,null,null,null,null,null,null,null,null,null,null,null,null,null,null,null,null,null,null,null,null,null,null,null,null,null,null,null,null,null,null,null,null,null,null,null,null,null,null,null,null,null,null,null,null,null,null,null,null,null,null,null,null,{"$f":"Раздел2!D173","v":0}]
[null,"Стрельба из штатного или табельного оружия","166",{"$f":"Раздел2!F174","v":0},0,0,0,0,0,null,null,null,null,null,null,null,null,null,null,null,null,null,null,null,null,null,null,null,null,null,null,null,null,null,null,null,null,null,null,null,null,null,null,null,null,null,null,null,null,null,null,null,null,null,null,null,null,null,null,null,null,{"$f":"Раздел2!D174","v":0}]
[null,"Смешанное боевое единоборство (ММА)","167",{"$f":"Раздел2!F175","v":0},0,0,0,0,0,null,null,null,null,null,null,null,null,null,null,null,null,null,null,null,null,null,null,null,null,null,null,null,null,null,null,null,null,null,null,null,null,null,null,null,null,null,null,null,null,null,null,null,null,null,null,null,null,null,null,null,null,{"$f":"Раздел2!D175","v":0}]
[null,"Сноуборд","168",{"$f":"Раздел2!F176","v":0},0,0,0,0,0,null,null,null,null,null,null,null,null,null,null,null,null,null,null,null,null,null,null,null,null,null,null,null,null,null,null,null,null,null,null,null,null,null,null,null,null,null,null,null,null,null,null,null,null,null,null,null,null,null,null,null,null,{"$f":"Раздел2!D176","v":0}]
[null,"Современное пятиборье","169",{"$f":"Раздел2!F177","v":0},0,0,0,0,0,null,null,null,null,null,null,null,null,null,null,null,null,null,null,null,null,null,null,null,null,null,null,null,null,null,null,null,null,null,null,null,null,null,null,null,null,null,null,null,null,null,null,null,null,null,null,null,null,null,null,null,null,{"$f":"Раздел2!D177","v":0}]
[null,"Софтбол","170",{"$f":"Раздел2!F178","v":0},0,0,0,0,0,null,null,null,null,null,null,null,null,null,null,null,null,null,null,null,null,null,null,null,null,null,null,null,null,null,null,null,null,null,null,null,null,null,null,null,null,null,null,null,null,null,null,null,null,null,null,null,null,null,null,null,null,{"$f":"Раздел2!D178","v":0}]
[null,"Спорт сверхлегкой авиации","171",{"$f":"Раздел2!F179","v":0},0,0,0,0,0,null,null,null,null,null,null,null,null,null,null,null,null,null,null,null,null,null,null,null,null,null,null,null,null,null,null,null,null,null,null,null,null,null,null,null,null,null,null,null,null,null,null,null,null,null,null,null,null,null,null,null,null,{"$f":"Раздел2!D179","v":0}]
[null,"Спортивная акробатика","172",{"$f":"Раздел2!F180","v":128},0,0,0,0,0,null,null,null,null,null,null,null,null,null,null,null,null,null,null,null,null,null,null,null,null,null,null,null,null,null,null,null,null,null,null,null,null,null,null,null,null,null,null,null,null,null,null,null,null,null,null,null,null,null,null,null,null,{"$f":"Раздел2!D180","v":1}]
[null,"Спортивная аэробика","173",{"$f":"Раздел2!F181","v":0},0,0,0,0,0,null,null,null,null,null,null,null,null,null,null,null,null,null,null,null,null,null,null,null,null,null,null,null,null,null,null,null,null,null,null,null,null,null,null,null,null,null,null,null,null,null,null,null,null,null,null,null,null,null,null,null,null,{"$f":"Раздел2!D181","v":0}]
[null,"Спортивная борьба - всего","174",{"$f":"Раздел2!F182","v":0},0,0,0,0,0,{"$f":"SUM(J182:J186)","v":0},{"$f":"SUM(K182:K186)","v":0},0,0,0,0,0,0,0,0,0,0,0,0,0,0,0,0,0,0,0,0,0,0,0,0,0,0,0,0,0,0,0,0,0,0,0,0,0,0,0,0,0,0,0,0,0,0,0,0,null,null,{"$f":"Раздел2!D182","v":0}]
[null,"в том числе:\nВольная борьба","175",{"$f":"Раздел2!F183","v":0},0,0,0,0,0,null,null,null,null,null,null,null,null,null,null,null,null,null,null,null,null,null,null,null,null,null,null,null,null,null,null,null,null,null,null,null,null,null,null,null,null,null,null,null,null,null,null,null,null,null,null,null,null,null,null,null,null,{"$f":"Раздел2!D183","v":0}]
[null,"Греко-римская борьба","176",{"$f":"Раздел2!F184","v":0},0,0,0,0,0,null,null,null,null,null,null,null,null,null,null,null,null,null,null,null,null,null,null,null,null,null,null,null,null,null,null,null,null,null,null,null,null,null,null,null,null,null,null,null,null,null,null,null,null,null,null,null,null,null,null,null,null,{"$f":"Раздел2!D184","v":0}]
[null,"Грэпплинг","177",{"$f":"Раздел2!F185","v":0},0,0,0,0,0,null,null,null,null,null,null,null,null,null,null,null,null,null,null,null,null,null,null,null,null,null,null,null,null,null,null,null,null,null,null,null,null,null,null,null,null,null,null,null,null,null,null,null,null,null,null,null,null,null,null,null,null,{"$f":"Раздел2!D185","v":0}]
[null,"Грэпплинг-ги","178",{"$f":"Раздел2!F186","v":0},0,0,0,0,0,null,null,null,null,null,null,null,null,null,null,null,null,null,null,null,null,null,null,null,null,null,null,null,null,null,null,null,null,null,null,null,null,null,null,null,null,null,null,null,null,null,null,null,null,null,null,null,null,null,null,null,null,{"$f":"Раздел2!D186","v":0}]
[null,"Панкратион","179",{"$f":"Раздел2!F187","v":0},0,0,0,0,0,null,null,null,null,null,null,null,null,null,null,null,null,null,null,null,null,null,null,null,null,null,null,null,null,null,null,null,null,null,null,null,null,null,null,null,null,null,null,null,null,null,null,null,null,null,null,null,null,null,null,null,null,{"$f":"Раздел2!D187","v":0}]
[null,"Спортивная гимнастика","180",{"$f":"Раздел2!F188","v":201},0,0,0,0,0,null,null,null,null,null,null,null,null,null,null,null,null,null,null,null,null,null,null,null,null,null,null,null,null,null,null,null,null,null,null,null,null,null,null,null,null,null,null,null,null,null,null,null,null,null,null,null,null,null,null,null,null,{"$f":"Раздел2!D188","v":1}]
[null,"Спортивная йога","181",{"$f":"Раздел2!F189","v":0},0,0,0,0,0,null,null,null,null,null,null,null,null,null,null,null,null,null,null,null,null,null,null,null,null,null,null,null,null,null,null,null,null,null,null,null,null,null,null,null,null,null,null,null,null,null,null,null,null,null,null,null,null,null,null,null,null,{"$f":"Раздел2!D189","v":0}]
[null,"Спортивно-прикладное собаководство","182",{"$f":"Раздел2!F190","v":0},0,0,0,0,0,null,null,null,null,null,null,null,null,null,null,null,null,null,null,null,null,null,null,null,null,null,null,null,null,null,null,null,null,null,null,null,null,null,null,null,null,null,null,null,null,null,null,null,null,null,null,null,null,null,null,null,null,{"$f":"Раздел2!D190","v":0}]
[null,"Спортивное ориентирование","183",{"$f":"Раздел2!F191","v":0},0,0,0,0,0,null,null,null,null,null,null,null,null,null,null,null,null,null,null,null,null,null,null,null,null,null,null,null,null,null,null,null,null,null,null,null,null,null,null,null,null,null,null,null,null,null,null,null,null,null,null,null,null,null,null,null,null,{"$f":"Раздел2!D191","v":0}]
[null,"Спортивный бридж","184",{"$f":"Раздел2!F192","v":0},0,0,0,0,0,null,null,null,null,null,null,null,null,null,null,null,null,null,null,null,null,null,null,null,null,null,null,null,null,null,null,null,null,null,null,null,null,null,null,null,null,null,null,null,null,null,null,null,null,null,null,null,null,null,null,null,null,{"$f":"Раздел2!D192","v":0}]
[null,"Спортивный туризм","185",{"$f":"Раздел2!F193","v":0},0,0,0,0,0,null,null,null,null,null,null,null,null,null,null,null,null,null,null,null,null,null,null,null,null,null,null,null,null,null,null,null,null,null,null,null,null,null,null,null,null,null,null,null,null,null,null,null,null,null,null,null,null,null,null,null,null,{"$f":"Раздел2!D193","v":0}]
[null,"Стендовая стрельба - всего","186",{"$f":"Раздел2!F194","v":0},0,0,0,0,0,{"$f":"SUM(J194:J197)","v":0},{"$f":"SUM(K194:K197)","v":0},0,0,0,0,0,0,0,0,0,0,0,0,0,0,0,0,0,0,0,0,0,0,0,0,0,0,0,0,0,0,0,0,0,0,0,0,0,0,0,0,0,0,0,0,0,0,0,0,null,null,{"$f":"Раздел2!D194","v":0}]
[null,"в том числе:\nТрап","187",{"$f":"Раздел2!F195","v":0},0,0,0,0,0,null,null,null,null,null,null,null,null,null,null,null,null,null,null,null,null,null,null,null,null,null,null,null,null,null,null,null,null,null,null,null,null,null,null,null,null,null,null,null,null,null,null,null,null,null,null,null,null,null,null,null,null,{"$f":"Раздел2!D195","v":0}]
[null,"Скит","188",{"$f":"Раздел2!F196","v":0},0,0,0,0,0,null,null,null,null,null,null,null,null,null,null,null,null,null,null,null,null,null,null,null,null,null,null,null,null,null,null,null,null,null,null,null,null,null,null,null,null,null,null,null,null,null,null,null,null,null,null,null,null,null,null,null,null,{"$f":"Раздел2!D196","v":0}]
[null,"Дубль-трап","189",{"$f":"Раздел2!F197","v":0},0,0,0,0,0,null,null,null,null,null,null,null,null,null,null,null,null,null,null,null,null,null,null,null,null,null,null,null,null,null,null,null,null,null,null,null,null,null,null,null,null,null,null,null,null,null,null,null,null,null,null,null,null,null,null,null,null,{"$f":"Раздел2!D197","v":0}]
[null,"Спортинг","190",{"$f":"Раздел2!F198","v":0},0,0,0,0,0,null,null,null,null,null,null,null,null,null,null,null,null,null,null,null,null,null,null,null,null,null,null,null,null,null,null,null,null,null,null,null,null,null,null,null,null,null,null,null,null,null,null,null,null,null,null,null,null,null,null,null,null,{"$f":"Раздел2!D198","v":0}]
[null,"Стрельба из арбалета","191",{"$f":"Раздел2!F199","v":0},0,0,0,0,0,null,null,null,null,null,null,null,null,null,null,null,null,null,null,null,null,null,null,null,null,null,null,null,null,null,null,null,null,null,null,null,null,null,null,null,null,null,null,null,null,null,null,null,null,null,null,null,null,null,null,null,null,{"$f":"Раздел2!D199","v":0}]
[null,"Стрельба из лука - всего","192",{"$f":"Раздел2!F200","v":0},0,0,0,0,0,{"$f":"SUM(J200:J202)","v":0},{"$f":"SUM(K200:K202)","v":0},0,0,0,0,0,0,0,0,0,0,0,0,0,0,0,0,0,0,0,0,0,0,0,0,0,0,0,0,0,0,0,0,0,0,0,0,0,0,0,0,0,0,0,0,0,0,0,0,null,null,{"$f":"Раздел2!D200","v":0}]
[null,"в том числе:\nКлассический лук","193",{"$f":"Раздел2!F201","v":0},0,0,0,0,0,null,null,null,null,null,null,null,null,null,null,null,null,null,null,null,null,null,null,null,null,null,null,null,null,null,null,null,null,null,null,null,null,null,null,null,null,null,null,null,null,null,null,null,null,null,null,null,null,null,null,null,null,{"$f":"Раздел2!D201","v":0}]
[null,"   Блочный лук","194",{"$f":"Раздел2!F202","v":0},{"$f":"J201+O201+T201+Y201+AD201+AI201+AN201+AS201+AX201+BC201","v":0},{"$f":"SUM(K201,P201,U201,Z201,AE201,AJ201,AO201,AT201,AY201,BD201)","v":0},{"$f":"L201+Q201+V201+AA201+AF201+AK201+AP201+AU201+AZ201+BE201","v":0},{"$f":"M201+R201+W201+AB201+AG201+AL201+AQ201+AV201+BA201+BF201","v":0},{"$f":"N201+S201+X201+AC201+AH201+AM201+AR201+AW201+BB201+BG201","v":0},null,null,null,null,null,null,null,null,null,null,null,null,null,null,null,null,null,null,null,null,null,null,null,null,null,null,null,null,null,null,null,null,null,null,null,null,null,null,null,null,null,null,null,null,null,null,null,null,null,null,null,null,{"$f":"Раздел2!D202","v":0}]
[null,"   Ачери ","195",{"$f":"Раздел2!F203","v":0},0,0,0,0,0,null,null,null,null,null,null,null,null,null,null,null,null,null,null,null,null,null,null,null,null,null,null,null,null,null,null,null,null,null,null,null,null,null,null,null,null,null,null,null,null,null,null,null,null,null,null,null,null,null,null,null,null,{"$f":"Раздел2!D203","v":0}]
[null,"Судомодельный спорт","196",{"$f":"Раздел2!F204","v":0},0,0,0,0,0,null,null,null,null,null,null,null,null,null,null,null,null,null,null,null,null,null,null,null,null,null,null,null,null,null,null,null,null,null,null,null,null,null,null,null,null,null,null,null,null,null,null,null,null,null,null,null,null,null,null,null,null,{"$f":"Раздел2!D204","v":0}]
[null,"Сумо","197",{"$f":"Раздел2!F205","v":0},0,0,0,0,0,null,null,null,null,null,null,null,null,null,null,null,null,null,null,null,null,null,null,null,null,null,null,null,null,null,null,null,null,null,null,null,null,null,null,null,null,null,null,null,null,null,null,null,null,null,null,null,null,null,null,null,null,{"$f":"Раздел2!D205","v":0}]
[null,"Тайский бокс","198",{"$f":"Раздел2!F206","v":0},0,0,0,0,0,null,null,null,null,null,null,null,null,null,null,null,null,null,null,null,null,null,null,null,null,null,null,null,null,null,null,null,null,null,null,null,null,null,null,null,null,null,null,null,null,null,null,null,null,null,null,null,null,null,null,null,null,{"$f":"Раздел2!D206","v":0}]
[null,"Танцевальный спорт","199",{"$f":"Раздел2!F207","v":0},0,0,0,0,0,null,null,null,null,null,null,null,null,null,null,null,null,null,null,null,null,null,null,null,null,null,null,null,null,null,null,null,null,null,null,null,null,null,null,null,null,null,null,null,null,null,null,null,null,null,null,null,null,null,null,null,null,{"$f":"Раздел2!D207","v":0}]
[null,"Теннис","200",{"$f":"Раздел2!F208","v":0},0,0,0,0,0,null,null,null,null,null,null,null,null,null,null,null,null,null,null,null,null,null,null,null,null,null,null,null,null,null,null,null,null,null,null,null,null,null,null,null,null,null,null,null,null,null,null,null,null,null,null,null,null,null,null,null,null,{"$f":"Раздел2!D208","v":0}]
[null,"Триатлон","201",{"$f":"Раздел2!F209","v":0},0,0,0,0,0,null,null,null,null,null,null,null,null,null,null,null,null,null,null,null,null,null,null,null,null,null,null,null,null,null,null,null,null,null,null,null,null,null,null,null,null,null,null,null,null,null,null,null,null,null,null,null,null,null,null,null,null,{"$f":"Раздел2!D209","v":0}]
[null,"Тхэквондо - всего","202",{"$f":"Раздел2!F210","v":0},0,0,0,0,0,{"$f":"SUM(J210:J211)","v":0},{"$f":"SUM(K210:K211)","v":0},0,0,0,0,0,0,0,0,0,0,0,0,0,0,0,0,0,0,0,0,0,0,0,0,0,0,0,0,0,0,0,0,0,0,0,0,0,0,0,0,0,0,0,0,0,0,0,0,null,null,{"$f":"Раздел2!D210","v":0}]
[null,"в том числе:\nТхэквондо (ГТФ, ИТФ, МФТ)","203",{"$f":"Раздел2!F211","v":0},0,0,0,0,0,null,null,null,null,null,null,null,null,null,null,null,null,null,null,null,null,null,null,null,null,null,null,null,null,null,null,null,null,null,null,null,null,null,null,null,null,null,null,null,null,null,null,null,null,null,null,null,null,null,null,null,null,{"$f":"Раздел2!D211","v":0}]
[null,"Тхэквондо (ВТФ)","204",{"$f":"Раздел2!F212","v":0},0,0,0,0,0,null,null,null,null,null,null,null,null,null,null,null,null,null,null,null,null,null,null,null,null,null,null,null,null,null,null,null,null,null,null,null,null,null,null,null,null,null,null,null,null,null,null,null,null,null,null,null,null,null,null,null,null,{"$f":"Раздел2!D212","v":0}]
[null,"Тяжелая атлетика","205",{"$f":"Раздел2!F213","v":0},0,0,0,0,0,null,null,null,null,null,null,null,null,null,null,null,null,null,null,null,null,null,null,null,null,null,null,null,null,null,null,null,null,null,null,null,null,null,null,null,null,null,null,null,null,null,null,null,null,null,null,null,null,null,null,null,null,{"$f":"Раздел2!D213","v":0}]
[null,"Универсальный бой","206",{"$f":"Раздел2!F214","v":0},0,0,0,0,0,null,null,null,null,null,null,null,null,null,null,null,null,null,null,null,null,null,null,null,null,null,null,null,null,null,null,null,null,null,null,null,null,null,null,null,null,null,null,null,null,null,null,null,null,null,null,null,null,null,null,null,null,{"$f":"Раздел2!D214","v":0}]
[null,"Ушу","207",{"$f":"Раздел2!F215","v":0},0,0,0,0,0,null,null,null,null,null,null,null,null,null,null,null,null,null,null,null,null,null,null,null,null,null,null,null,null,null,null,null,null,null,null,null,null,null,null,null,null,null,null,null,null,null,null,null,null,null,null,null,null,null,null,null,null,{"$f":"Раздел2!D215","v":0}]
[null,"Фехтование - всего","208",{"$f":"Раздел2!F216","v":0},0,0,0,0,0,{"$f":"SUM(J216:J219)","v":0},{"$f":"SUM(K216:K219)","v":0},0,0,0,0,0,0,0,0,0,0,0,0,0,0,0,0,0,0,0,0,0,0,0,0,0,0,0,0,0,0,0,0,0,0,0,0,0,0,0,0,0,0,0,0,0,0,0,0,null,null,{"$f":"Раздел2!D216","v":0}]
[null,"в том числе:\nРапира","209",{"$f":"Раздел2!F217","v":0},0,0,0,0,0,null,null,null,null,null,null,null,null,null,null,null,null,null,null,null,null,null,null,null,null,null,null,null,null,null,null,null,null,null,null,null,null,null,null,null,null,null,null,null,null,null,null,null,null,null,null,null,null,null,null,null,null,{"$f":"Раздел2!D217","v":0}]
[null,"Сабля","210",{"$f":"Раздел2!F218","v":0},0,0,0,0,0,null,null,null,null,null,null,null,null,null,null,null,null,null,null,null,null,null,null,null,null,null,null,null,null,null,null,null,null,null,null,null,null,null,null,null,null,null,null,null,null,null,null,null,null,null,null,null,null,null,null,null,null,{"$f":"Раздел2!D218","v":0}]
[null,"Шпага","211",{"$f":"Раздел2!F219","v":0},0,0,0,0,0,null,null,null,null,null,null,null,null,null,null,null,null,null,null,null,null,null,null,null,null,null,null,null,null,null,null,null,null,null,null,null,null,null,null,null,null,null,null,null,null,null,null,null,null,null,null,null,null,null,null,null,null,{"$f":"Раздел2!D219","v":0}]
[null,"Арт-фехтование","212",{"$f":"Раздел2!F220","v":0},0,0,0,0,0,null,null,null,null,null,null,null,null,null,null,null,null,null,null,null,null,null,null,null,null,null,null,null,null,null,null,null,null,null,null,null,null,null,null,null,null,null,null,null,null,null,null,null,null,null,null,null,null,null,null,null,null,{"$f":"Раздел2!D220","v":0}]
[null,"Фигурное катание на коньках","213",{"$f":"Раздел2!F221","v":0},0,0,0,0,0,null,null,null,null,null,null,null,null,null,null,null,null,null,null,null,null,null,null,null,null,null,null,null,null,null,null,null,null,null,null,null,null,null,null,null,null,null,null,null,null,null,null,null,null,null,null,null,null,null,null,null,null,{"$f":"Раздел2!D221","v":0}]
[null,"Фитнес-аэробика","214",{"$f":"Раздел2!F222","v":0},0,0,0,0,0,null,null,null,null,null,null,null,null,null,null,null,null,null,null,null,null,null,null,null,null,null,null,null,null,null,null,null,null,null,null,null,null,null,null,null,null,null,null,null,null,null,null,null,null,null,null,null,null,null,null,null,null,{"$f":"Раздел2!D222","v":0}]
[null,"Флаинг диск","215",{"$f":"Раздел2!F223","v":0},0,0,0,0,0,null,null,null,null,null,null,null,null,null,null,null,null,null,null,null,null,null,null,null,null,null,null,null,null,null,null,null,null,null,null,null,null,null,null,null,null,null,null,null,null,null,null,null,null,null,null,null,null,null,null,null,null,{"$f":"Раздел2!D223","v":0}]
[null,"Флорбол","216",{"$f":"Раздел2!F224","v":0},0,0,0,0,0,null,null,null,null,null,null,null,null,null,null,null,null,null,null,null,null,null,null,null,null,null,null,null,null,null,null,null,null,null,null,null,null,null,null,null,null,null,null,null,null,null,null,null,null,null,null,null,null,null,null,null,null,{"$f":"Раздел2!D224","v":0}]
[null,"Фристайл - всего","217",{"$f":"Раздел2!F225","v":0},0,0,0,0,0,{"$f":"SUM(J225:J229)","v":0},{"$f":"SUM(K225:K229)","v":0},0,0,0,0,0,0,0,0,0,0,0,0,0,0,0,0,0,0,0,0,0,0,0,0,0,0,0,0,0,0,0,0,0,0,0,0,0,0,0,0,0,0,0,0,0,0,0,0,null,null,{"$f":"Раздел2!D225","v":0}]
[null,"в том числе:\nАкробатика","218",{"$f":"Раздел2!F226","v":0},0,0,0,0,0,null,null,null,null,null,null,null,null,null,null,null,null,null,null,null,null,null,null,null,null,null,null,null,null,null,null,null,null,null,null,null,null,null,null,null,null,null,null,null,null,null,null,null,null,null,null,null,null,null,null,null,null,{"$f":"Раздел2!D226","v":0}]
[null,"Могул","219",{"$f":"Раздел2!F227","v":0},0,0,0,0,0,null,null,null,null,null,null,null,null,null,null,null,null,null,null,null,null,null,null,null,null,null,null,null,null,null,null,null,null,null,null,null,null,null,null,null,null,null,null,null,null,null,null,null,null,null,null,null,null,null,null,null,null,{"$f":"Раздел2!D227","v":0}]
[null,"Ски-кросс","220",{"$f":"Раздел2!F228","v":0},0,0,0,0,0,null,null,null,null,null,null,null,null,null,null,null,null,null,null,null,null,null,null,null,null,null,null,null,null,null,null,null,null,null,null,null,null,null,null,null,null,null,null,null,null,null,null,null,null,null,null,null,null,null,null,null,null,{"$f":"Раздел2!D228","v":0}]
[null,"Хаф-пайп","221",{"$f":"Раздел2!F229","v":0},0,0,0,0,0,null,null,null,null,null,null,null,null,null,null,null,null,null,null,null,null,null,null,null,null,null,null,null,null,null,null,null,null,null,null,null,null,null,null,null,null,null,null,null,null,null,null,null,null,null,null,null,null,null,null,null,null,{"$f":"Раздел2!D229","v":0}]
[null,"Слоуп-стайл","222",{"$f":"Раздел2!F230","v":0},0,0,0,0,0,null,null,null,null,null,null,null,null,null,null,null,null,null,null,null,null,null,null,null,null,null,null,null,null,null,null,null,null,null,null,null,null,null,null,null,null,null,null,null,null,null,null,null,null,null,null,null,null,null,null,null,null,{"$f":"Раздел2!D230","v":0}]
[null,"Функциональное многоборье","223",{"$f":"Раздел2!F231","v":0},0,0,0,0,0,null,null,null,null,null,null,null,null,null,null,null,null,null,null,null,null,null,null,null,null,null,null,null,null,null,null,null,null,null,null,null,null,null,null,null,null,null,null,null,null,null,null,null,null,null,null,null,null,null,null,null,null,{"$f":"Раздел2!D231","v":0}]
[null,"Футбол - всего","224",{"$f":"Раздел2!F232","v":0},0,0,0,0,0,{"$f":"SUM(J232:J235)","v":0},{"$f":"SUM(K232:K235)","v":0},0,0,0,0,0,0,0,0,0,0,0,0,0,0,0,0,0,0,0,0,0,0,0,0,0,0,0,0,0,0,0,0,0,0,0,0,0,0,0,0,0,0,0,0,0,0,0,0,null,null,{"$f":"Раздел2!D232","v":0}]
[null,"в том числе:\nФутбол (муж.)","225",{"$f":"Раздел2!F233","v":0},0,0,0,0,0,null,null,null,null,null,null,null,null,null,null,null,null,null,null,null,null,null,null,null,null,null,null,null,null,null,null,null,null,null,null,null,null,null,null,null,null,null,null,null,null,null,null,null,null,null,null,null,null,null,null,null,null,{"$f":"Раздел2!D233","v":0}]
[null,"Футбол (жен.)","226",{"$f":"Раздел2!F234","v":0},0,0,0,0,0,null,null,null,null,null,null,null,null,null,null,null,null,null,null,null,null,null,null,null,null,null,null,null,null,null,null,null,null,null,null,null,null,null,null,null,null,null,null,null,null,null,null,null,null,null,null,null,null,null,null,null,null,{"$f":"Раздел2!D234","v":0}]
[null,"Мини-футбол (футзал)","227",{"$f":"Раздел2!F235","v":0},0,0,0,0,0,null,null,null,null,null,null,null,null,null,null,null,null,null,null,null,null,null,null,null,null,null,null,null,null,null,null,null,null,null,null,null,null,null,null,null,null,null,null,null,null,null,null,null,null,null,null,null,null,null,null,null,null,{"$f":"Раздел2!D235","v":0}]
[null,"Пляжный футбол","228",{"$f":"Раздел2!F236","v":0},0,0,0,0,0,null,null,null,null,null,null,null,null,null,null,null,null,null,null,null,null,null,null,null,null,null,null,null,null,null,null,null,null,null,null,null,null,null,null,null,null,null,null,null,null,null,null,null,null,null,null,null,null,null,null,null,null,{"$f":"Раздел2!D236","v":0}]
[null,"Хапсагай","229",{"$f":"Раздел2!F237","v":0},0,0,0,0,0,null,null,null,null,null,null,null,null,null,null,null,null,null,null,null,null,null,null,null,null,null,null,null,null,null,null,null,null,null,null,null,null,null,null,null,null,null,null,null,null,null,null,null,null,null,null,null,null,null,null,null,null,{"$f":"Раздел2!D237","v":0}]
[null,"Хоккей - всего","230",{"$f":"Раздел2!F238","v":0},0,0,0,0,0,{"$f":"SUM(J238:J239)","v":0},{"$f":"SUM(K238:K239)","v":0},0,0,0,0,0,0,0,0,0,0,0,0,0,0,0,0,0,0,0,0,0,0,0,0,0,0,0,0,0,0,0,0,0,0,0,0,0,0,0,0,0,0,0,0,0,0,0,0,null,null,{"$f":"Раздел2!D238","v":0}]
[null,"в том числе:\nХоккей (муж.)","231",{"$f":"Раздел2!F239","v":0},0,0,0,0,0,null,null,null,null,null,null,null,null,null,null,null,null,null,null,null,null,null,null,null,null,null,null,null,null,null,null,null,null,null,null,null,null,null,null,null,null,null,null,null,null,null,null,null,null,null,null,null,null,null,null,null,null,{"$f":"Раздел2!D239","v":0}]
[null,"Хоккей (жен.)","232",{"$f":"Раздел2!F240","v":0},0,0,0,0,0,null,null,null,null,null,null,null,null,null,null,null,null,null,null,null,null,null,null,null,null,null,null,null,null,null,null,null,null,null,null,null,null,null,null,null,null,null,null,null,null,null,null,null,null,null,null,null,null,null,null,null,null,{"$f":"Раздел2!D240","v":0}]
[null,"Хоккей на траве - всего","233",{"$f":"Раздел2!F241","v":0},0,0,0,0,0,{"$f":"SUM(J241:J243)","v":0},{"$f":"SUM(K241:K243)","v":0},0,0,0,0,0,0,0,0,0,0,0,0,0,0,0,0,0,0,0,0,0,0,0,0,0,0,0,0,0,0,0,0,0,0,0,0,0,0,0,0,0,0,0,0,0,0,0,0,null,null,{"$f":"Раздел2!D241","v":0}]
[null,"в том числе:\nХоккей на траве (муж.)","234",{"$f":"Раздел2!F242","v":0},0,0,0,0,0,null,null,null,null,null,null,null,null,null,null,null,null,null,null,null,null,null,null,null,null,null,null,null,null,null,null,null,null,null,null,null,null,null,null,null,null,null,null,null,null,null,null,null,null,null,null,null,null,null,null,null,null,{"$f":"Раздел2!D242","v":0}]
[null,"Хоккей на траве (жен.)","235",{"$f":"Раздел2!F243","v":0},0,0,0,0,0,null,null,null,null,null,null,null,null,null,null,null,null,null,null,null,null,null,null,null,null,null,null,null,null,null,null,null,null,null,null,null,null,null,null,null,null,null,null,null,null,null,null,null,null,null,null,null,null,null,null,null,null,{"$f":"Раздел2!D243","v":0}]
[null,"Индорхоккей","236",{"$f":"Раздел2!F244","v":0},0,0,0,0,0,null,null,null,null,null,null,null,null,null,null,null,null,null,null,null,null,null,null,null,null,null,null,null,null,null,null,null,null,null,null,null,null,null,null,null,null,null,null,null,null,null,null,null,null,null,null,null,null,null,null,null,null,{"$f":"Раздел2!D244","v":0}]
[null,"Хоккей с мячом","237",{"$f":"Раздел2!F245","v":0},0,0,0,0,0,null,null,null,null,null,null,null,null,null,null,null,null,null,null,null,null,null,null,null,null,null,null,null,null,null,null,null,null,null,null,null,null,null,null,null,null,null,null,null,null,null,null,null,null,null,null,null,null,null,null,null,null,{"$f":"Раздел2!D245","v":0}]
[null,"Художественная гимнастика","238",{"$f":"Раздел2!F246","v":0},0,0,0,0,0,null,null,null,null,null,null,null,null,null,null,null,null,null,null,null,null,null,null,null,null,null,null,null,null,null,null,null,null,null,null,null,null,null,null,null,null,null,null,null,null,null,null,null,null,null,null,null,null,null,null,null,null,{"$f":"Раздел2!D246","v":0}]
[null,"Хуреш","239",{"$f":"Раздел2!F247","v":0},0,0,0,0,0,null,null,null,null,null,null,null,null,null,null,null,null,null,null,null,null,null,null,null,null,null,null,null,null,null,null,null,null,null,null,null,null,null,null,null,null,null,null,null,null,null,null,null,null,null,null,null,null,null,null,null,null,{"$f":"Раздел2!D247","v":0}]
[null,"Чир спорт","240",{"$f":"Раздел2!F248","v":0},0,0,0,0,0,null,null,null,null,null,null,null,null,null,null,null,null,null,null,null,null,null,null,null,null,null,null,null,null,null,null,null,null,null,null,null,null,null,null,null,null,null,null,null,null,null,null,null,null,null,null,null,null,null,null,null,null,{"$f":"Раздел2!D248","v":0}]
[null,"Шахматы","241",{"$f":"Раздел2!F249","v":0},0,0,0,0,0,null,null,null,null,null,null,null,null,null,null,null,null,null,null,null,null,null,null,null,null,null,null,null,null,null,null,null,null,null,null,null,null,null,null,null,null,null,null,null,null,null,null,null,null,null,null,null,null,null,null,null,null,{"$f":"Раздел2!D249","v":0}]
[null,"Шашки","242",{"$f":"Раздел2!F250","v":0},0,0,0,0,0,null,null,null,null,null,null,null,null,null,null,null,null,null,null,null,null,null,null,null,null,null,null,null,null,null,null,null,null,null,null,null,null,null,null,null,null,null,null,null,null,null,null,null,null,null,null,null,null,null,null,null,null,{"$f":"Раздел2!D250","v":0}]
[null,"Шодсанлат","243",{"$f":"Раздел2!F251","v":0},0,0,0,0,0,null,null,null,null,null,null,null,null,null,null,null,null,null,null,null,null,null,null,null,null,null,null,null,null,null,null,null,null,null,null,null,null,null,null,null,null,null,null,null,null,null,null,null,null,null,null,null,null,null,null,null,null,{"$f":"Раздел2!D251","v":0}]
[null,"Эстетическая гимнастика","244",{"$f":"Раздел2!F252","v":0},0,0,0,0,0,null,null,null,null,null,null,null,null,null,null,null,null,null,null,null,null,null,null,null,null,null,null,null,null,null,null,null,null,null,null,null,null,null,null,null,null,null,null,null,null,null,null,null,null,null,null,null,null,null,null,null,null,{"$f":"Раздел2!D252","v":0}]
[null,"Якутские национальные прыжки","245",{"$f":"Раздел2!F253","v":0},{"$f":"J252+O252+T252+Y252+AD252+AI252+AN252+AS252+AX252+BC252","v":0},{"$f":"SUM(K252,P252,U252,Z252,AE252,AJ252,AO252,AT252,AY252,BD252)","v":0},{"$f":"L252+Q252+V252+AA252+AF252+AK252+AP252+AU252+AZ252+BE252","v":0},{"$f":"M252+R252+W252+AB252+AG252+AL252+AQ252+AV252+BA252+BF252","v":0},{"$f":"N252+S252+X252+AC252+AH252+AM252+AR252+AW252+BB252+BG252","v":0},null,null,null,null,null,null,null,null,null,null,null,null,null,null,null,null,null,null,null,null,null,null,null,null,null,null,null,null,null,null,null,null,null,null,null,null,null,null,null,null,null,null,null,null,null,null,null,null,null,null,null,null,{"$f":"Раздел2!D253","v":0}]
[null,"ИТОГО","246",{"$f":"Раздел2!F254","v":1439},0,0,0,0,0,{"$f":"SUM(J8:J19,J22:J25,J28:J32,J37:J40,J43:J47,J52:J54,J58:J67,J72:J81,J84:J90,J93:J97,J105:J119,J122:J127,J130,J135:J136,J142:J145,J150:J181,J187:J193,J198:J199,J203:J209,J212:J215,J220:J224,J230:J231,J236:J237,J240,J244:J252)","v":0},{"$f":"SUM(K8:K19,K22:K25,K28:K32,K37:K40,K43:K47,K52:K54,K58:K67,K72:K81,K84:K90,K93:K97,K105:K119,K122:K127,K130,K135:K136,K142:K145,K150:K181,K187:K193,K198:K199,K203:K209,K212:K215,K220:K224,K230:K231,K236:K237,K240,K244:K252)","v":0},0,0,0,0,0,0,0,0,0,0,0,0,0,0,0,0,0,0,0,0,0,0,0,0,0,0,0,0,0,0,0,0,0,0,0,0,0,0,0,0,0,0,0,0,0,0,0,0,null,null,{"$f":"Раздел2!D254","v":6}]

{"sheet":"Раздел9","index":9,"n_rows":253,"n_cols":20,"rows_kept":253,"cut":false,"hidden":false,"merged":[[0,0,122,0],[0,1,0,16],[1,12,1,17],[2,1,5,1],[2,2,5,2],[2,3,3,4],[2,5,2,16],[2,17,5,17],[3,5,3,8],[3,9,3,11],[3,16,5,16],[4,3,5,3],[4,4,5,4],[4,5,5,5],[4,6,5,6],[4,7,4,8],[4,14,5,14],[4,15,5,15],[3,12,3,15],[4,9,5,9],[4,10,5,10],[4,11,5,11],[4,12,5,12],[4,13,5,13]]}
[null,"Раздел IX. Тренерский состав"]
[null,null,null,null,null,null,null,null,null,null,null,null,"Код по ОКЕИ: человек – 792"]
[null,"Виды спорта","№ строки","Число тренеров",null,"из них (гр. 4) имеют:",null,null,null,null,null,null,null,null,null,null,null,"Число тренеров-преподавателей (из гр. 3)"]
[null,null,null,null,null,"профессиональное образование",null,null,null,"квалификационную категорию",null,null,"в возрасте:",null,null,null,"Звание «Заслуженный тренер России»"]
[null,null,null,"Всего","в том числе штатных","высшее","среднее","в том числе\nфизкультурное",null,"высшую","первую","вторую","до 30 лет","31-45 лет","46-60 лет","старше 60 лет"]
[null,null,null,null,null,null,null,"высшее","среднее"]
[null,1,2,3,4,5,6,7,8,9,10,11,12,13,14,15,16,17]
[null,"Авиамодельный спорт","01",null,null,null,null,null,null,null,null,null,null,null,null,null,null,null,{"$f":"D8","v":0},{"$f":"Раздел2!D9","v":0}]
[null,"Автомобильный спорт","02",null,null,null,null,null,null,null,null,null,null,null,null,null,null,null,{"$f":"D9","v":0},{"$f":"Раздел2!D10","v":0}]
[null,"Автомодельный спорт","03",null,null,null,null,null,null,null,null,null,null,null,null,null,null,null,0,{"$f":"Раздел2!D11","v":0}]
[null,"Айкидо","04",null,null,null,null,null,null,null,null,null,null,null,null,null,null,null,0,{"$f":"Раздел2!D12","v":0}]
[null,"Айсшток","05",null,null,null,null,null,null,null,null,null,null,null,null,null,null,null,0,{"$f":"Раздел2!D13","v":0}]
[null,"Акробатический рок-н-ролл","06",null,null,null,null,null,null,null,null,null,null,null,null,null,null,null,0,{"$f":"Раздел2!D14","v":0}]
[null,"Альпинизм","07",null,null,null,null,null,null,null,null,null,null,null,null,null,null,null,0,{"$f":"Раздел2!D15","v":0}]
[null,"Американский футбол","08",null,null,null,null,null,null,null,null,null,null,null,null,null,null,null,0,{"$f":"Раздел2!D16","v":0}]
[null,"Армейский рукопашный бой","09",null,null,null,null,null,null,null,null,null,null,null,null,null,null,null,0,{"$f":"Раздел2!D17","v":0}]
[null,"Армрестлинг","10",null,null,null,null,null,null,null,null,null,null,null,null,null,null,null,0,{"$f":"Раздел2!D18","v":0}]
[null,"Бадминтон","11",null,null,null,null,null,null,null,null,null,null,null,null,null,null,null,0,{"$f":"Раздел2!D19","v":0}]
[null,"Баскетбол - всего","12",{"$f":"SUM(D20:D21)","v":4},{"$f":"SUM(E20:E21)","v":4},4,0,4,0,3,0,0,1,1,2,0,0,4,4,{"$f":"Раздел2!D20","v":1}]
[null,"в том числе:\nБаскетбол (муж.)","13",2,2,2,null,2,null,1,null,null,1,null,1,null,null,2,2,{"$f":"Раздел2!D21","v":1}]
[null,"Баскетбол (жен.)","14",2,2,2,null,2,null,2,null,null,null,1,1,null,null,2,2,{"$f":"Раздел2!D22","v":1}]
[null,"Бейсбол","15",null,null,null,null,null,null,null,null,null,null,null,null,null,null,null,0,{"$f":"Раздел2!D23","v":0}]
[null,"Биатлон","16",null,null,null,null,null,null,null,null,null,null,null,null,null,null,null,0,{"$f":"Раздел2!D24","v":0}]
[null,"Бильярдный спорт","17",null,null,null,null,null,null,null,null,null,null,null,null,null,null,null,0,{"$f":"Раздел2!D25","v":0}]
[null,"Бобслей - всего","18",{"$f":"SUM(D26:D27)","v":0},{"$f":"SUM(E26:E27)","v":0},0,0,0,0,0,0,0,0,0,0,0,0,0,0,{"$f":"Раздел2!D26","v":0}]
[null,"в том числе:\nБобслей","19",null,null,null,null,null,null,null,null,null,null,null,null,null,null,null,0,{"$f":"Раздел2!D27","v":0}]
[null,"Скелетон","20",null,null,null,null,null,null,null,null,null,null,null,null,null,null,null,0,{"$f":"Раздел2!D28","v":0}]
[null,"Бодибилдинг","21",null,null,null,null,null,null,null,null,null,null,null,null,null,null,null,0,{"$f":"Раздел2!D29","v":0}]
[null,"Бокс","22",null,null,null,null,null,null,null,null,null,null,null,null,null,null,null,0,{"$f":"Раздел2!D30","v":0}]
[null,"Борьба на поясах","23",null,null,null,null,null,null,null,null,null,null,null,null,null,null,null,0,{"$f":"Раздел2!D31","v":0}]
[null,"Боулинг","24",null,null,null,null,null,null,null,null,null,null,null,null,null,null,null,0,{"$f":"Раздел2!D32","v":0}]
[null,"Велосипедный спорт - всего","25",{"$f":"SUM(D33:D36)","v":0},{"$f":"SUM(E33:E36)","v":0},0,0,0,0,0,0,0,0,0,0,0,0,0,0,{"$f":"Раздел2!D33","v":0}]
[null,"в том числе:\nBMX","26",null,null,null,null,null,null,null,null,null,null,null,null,null,null,null,0,{"$f":"Раздел2!D34","v":0}]
[null,"Маунтинбайк","27",null,null,null,null,null,null,null,null,null,null,null,null,null,null,null,0,{"$f":"Раздел2!D35","v":0}]
[null,"Трек","28",null,null,null,null,null,null,null,null,null,null,null,null,null,null,null,0,{"$f":"Раздел2!D36","v":0}]
[null,"Шоссе","29",null,null,null,null,null,null,null,null,null,null,null,null,null,null,null,0,{"$f":"Раздел2!D37","v":0}]
[null,"Вертолетный спорт","30",null,null,null,null,null,null,null,null,null,null,null,null,null,null,null,0,{"$f":"Раздел2!D38","v":0}]
[null,"Водно-моторный спорт","31",null,null,null,null,null,null,null,null,null,null,null,null,null,null,null,0,{"$f":"Раздел2!D39","v":0}]
[null,"Водно-спасательное многоборье","32",null,null,null,null,null,null,null,null,null,null,null,null,null,null,null,0,{"$f":"Раздел2!D40","v":0}]
[null,"Водное поло - всего ","33",{"$f":"SUM(D41:D42)","v":0},{"$f":"SUM(E41:E42)","v":0},0,0,0,0,0,0,0,0,0,0,0,0,0,0,{"$f":"Раздел2!D41","v":0}]
[null,"в том числе:\nВодное поло (муж.)","34",null,null,null,null,null,null,null,null,null,null,null,null,null,null,null,0,{"$f":"Раздел2!D42","v":0}]
[null,"Водное поло (жен.)","35",null,null,null,null,null,null,null,null,null,null,null,null,null,null,null,0,{"$f":"Раздел2!D43","v":0}]
[null,"Воднолыжный спорт","36",null,null,null,null,null,null,null,null,null,null,null,null,null,null,null,0,{"$f":"Раздел2!D44","v":0}]
[null,"Военно-прикладной спорт","37",null,null,null,null,null,null,null,null,null,null,null,null,null,null,null,0,{"$f":"Раздел2!D45","v":0}]
[null,"Военно-спортивное многоборье","38",null,null,null,null,null,null,null,null,null,null,null,null,null,null,null,0,{"$f":"Раздел2!D46","v":0}]
[null,"Воздухоплавательный спорт","39",null,null,null,null,null,null,null,null,null,null,null,null,null,null,null,0,{"$f":"Раздел2!D47","v":0}]
[null,"Волейбол - всего","40",{"$f":"SUM(D48:D51)","v":6},{"$f":"SUM(E48:E51)","v":2},1,0,1,0,1,0,0,0,0,1,1,0,6,6,{"$f":"Раздел2!D48","v":1}]
[null,"в том числе:\nВолейбол (муж.)","41",2,1,1,null,1,null,1,null,null,null,null,1,null,null,2,2,{"$f":"Раздел2!D49","v":1}]
[null,"Волейбол (жен.)","42",4,1,null,null,null,null,null,null,null,null,null,null,1,null,4,4,{"$f":"Раздел2!D50","v":1}]
[null,"Пляжный волейбол (муж.)","43",null,null,null,null,null,null,null,null,null,null,null,null,null,null,null,0,{"$f":"Раздел2!D51","v":0}]
[null,"Пляжный волейбол (жен.)","44",null,null,null,null,null,null,null,null,null,null,null,null,null,null,null,0,{"$f":"Раздел2!D52","v":0}]
[null,"Восточное боевое единоборство","45",null,null,null,null,null,null,null,null,null,null,null,null,null,null,null,0,{"$f":"Раздел2!D53","v":0}]
[null,"Всестилевое каратэ","46",null,null,null,null,null,null,null,null,null,null,null,null,null,null,null,0,{"$f":"Раздел2!D54","v":0}]
[null,"Гандбол - всего","47",{"$f":"SUM(D55:D57)","v":0},{"$f":"SUM(E55:E57)","v":0},0,0,0,0,0,0,0,0,0,0,0,0,0,0,{"$f":"Раздел2!D55","v":0}]
[null,"в том числе:\nГандбол (муж.)","48",null,null,null,null,null,null,null,null,null,null,null,null,null,null,null,0,{"$f":"Раздел2!D56","v":0}]
[null,"Гандбол (жен.)","49",null,null,null,null,null,null,null,null,null,null,null,null,null,null,null,0,{"$f":"Раздел2!D57","v":0}]
[null,"Пляжный гандбол","50",null,null,null,null,null,null,null,null,null,null,null,null,null,null,null,0,{"$f":"Раздел2!D58","v":0}]
[null,"Гиревой спорт","51",null,null,null,null,null,null,null,null,null,null,null,null,null,null,null,0,{"$f":"Раздел2!D59","v":0}]
[null,"Го","52",null,null,null,null,null,null,null,null,null,null,null,null,null,null,null,0,{"$f":"Раздел2!D60","v":0}]
[null,"Гольф","53",null,null,null,null,null,null,null,null,null,null,null,null,null,null,null,0,{"$f":"Раздел2!D61","v":0}]
[null,"Гонки на охотничьих лыжах","54",null,null,null,null,null,null,null,null,null,null,null,null,null,null,null,0,{"$f":"Раздел2!D62","v":0}]
[null,"Горнолыжный спорт","55",null,null,null,null,null,null,null,null,null,null,null,null,null,null,null,0,{"$f":"Раздел2!D63","v":0}]
[null,"Городошный спорт","56",null,null,null,null,null,null,null,null,null,null,null,null,null,null,null,0,{"$f":"Раздел2!D64","v":0}]
[null,"Гребля на байдарках и каноэ","57",null,null,null,null,null,null,null,null,null,null,null,null,null,null,null,0,{"$f":"Раздел2!D65","v":0}]
[null,"Гребля на шлюпках","58",null,null,null,null,null,null,null,null,null,null,null,null,null,null,null,0,{"$f":"Раздел2!D66","v":0}]
[null,"Гребной слалом","59",null,null,null,null,null,null,null,null,null,null,null,null,null,null,null,0,{"$f":"Раздел2!D67","v":0}]
[null,"Гребной спорт - всего","60",{"$f":"SUM(D68:D71)","v":0},{"$f":"SUM(E68:E71)","v":0},0,0,0,0,0,0,0,0,0,0,0,0,0,0,{"$f":"Раздел2!D68","v":0}]
[null,"в том числе:\nАкадемическая гребля","61",null,null,null,null,null,null,null,null,null,null,null,null,null,null,null,0,{"$f":"Раздел2!D69","v":0}]
[null,"Гребля-индор","62",null,null,null,null,null,null,null,null,null,null,null,null,null,null,null,0,{"$f":"Раздел2!D70","v":0}]
[null,"Народная гребля","63",null,null,null,null,null,null,null,null,null,null,null,null,null,null,null,0,{"$f":"Раздел2!D71","v":0}]
[null,"Прибрежная гребля","64",null,null,null,null,null,null,null,null,null,null,null,null,null,null,null,0,{"$f":"Раздел2!D72","v":0}]
[null,"Гребно-парусное двоеборье","65",null,null,null,null,null,null,null,null,null,null,null,null,null,null,null,0,{"$f":"Раздел2!D73","v":0}]
[null,"Дартс","66",null,null,null,null,null,null,null,null,null,null,null,null,null,null,null,{"$f":"D73","v":0},{"$f":"Раздел2!D74","v":0}]
[null,"Джиу-джитсу","67",null,null,null,null,null,null,null,null,null,null,null,null,null,null,null,0,{"$f":"Раздел2!D75","v":0}]
[null,"Дзюдо","68",null,null,null,null,null,null,null,null,null,null,null,null,null,null,null,0,{"$f":"Раздел2!D76","v":0}]
[null,"Ездовой спорт","69",null,null,null,null,null,null,null,null,null,null,null,null,null,null,null,0,{"$f":"Раздел2!D77","v":0}]
[null,"Капоэйра","70",null,null,null,null,null,null,null,null,null,null,null,null,null,null,null,0,{"$f":"Раздел2!D78","v":0}]
[null,"Каратэ","71",null,null,null,null,null,null,null,null,null,null,null,null,null,null,null,0,{"$f":"Раздел2!D79","v":0}]
[null,"Кендо","72",null,null,null,null,null,null,null,null,null,null,null,null,null,null,null,0,{"$f":"Раздел2!D80","v":0}]
[null,"Керешу","73",null,null,null,null,null,null,null,null,null,null,null,null,null,null,null,0,{"$f":"Раздел2!D81","v":0}]
[null,"Кёрлинг - всего","74",{"$f":"SUM(D82:D83)","v":0},{"$f":"SUM(E82:E83)","v":0},0,0,0,0,0,0,0,0,0,0,0,0,0,0,{"$f":"Раздел2!D82","v":0}]
[null,"в том числе:\nКерлинг (муж.)","75",null,null,null,null,null,null,null,null,null,null,null,null,null,null,null,0,{"$f":"Раздел2!D83","v":0}]
[null,"Керлинг (жен.)","76",null,null,null,null,null,null,null,null,null,null,null,null,null,null,null,0,{"$f":"Раздел2!D84","v":0}]
[null,"Кикбоксинг","77",null,null,null,null,null,null,null,null,null,null,null,null,null,null,null,0,{"$f":"Раздел2!D85","v":0}]
[null,"Кинологический спорт","78",null,null,null,null,null,null,null,null,null,null,null,null,null,null,null,0,{"$f":"Раздел2!D86","v":0}]
[null,"Киокусинкай","79",null,null,null,null,null,null,null,null,null,null,null,null,null,null,null,0,{"$f":"Раздел2!D87","v":0}]
[null,"Комплексное единоборство","80",null,null,null,null,null,null,null,null,null,null,null,null,null,null,null,0,{"$f":"Раздел2!D88","v":0}]
[null,"Компьютерный спорт","81",null,null,null,null,null,null,null,null,null,null,null,null,null,null,null,0,{"$f":"Раздел2!D89","v":0}]
[null,"Конный спорт","82",null,null,null,null,null,null,null,null,null,null,null,null,null,null,null,0,{"$f":"Раздел2!D90","v":0}]
[null,"Конькобежный спорт - всего","83",{"$f":"SUM(D91:D92)","v":0},{"$f":"SUM(E91:E92)","v":0},0,0,0,0,0,0,0,0,0,0,0,0,0,0,{"$f":"Раздел2!D91","v":0}]
[null,"в том числе:\nКонькобежный спорт","84",null,null,null,null,null,null,null,null,null,null,null,null,null,null,null,0,{"$f":"Раздел2!D92","v":0}]
[null,"Шорт-трек","85",null,null,null,null,null,null,null,null,null,null,null,null,null,null,null,0,{"$f":"Раздел2!D93","v":0}]
[null,"Корэш","86",null,null,null,null,null,null,null,null,null,null,null,null,null,null,null,0,{"$f":"Раздел2!D94","v":0}]
[null,"Корфбол","87",null,null,null,null,null,null,null,null,null,null,null,null,null,null,null,0,{"$f":"Раздел2!D95","v":0}]
[null,"Кудо","88",null,null,null,null,null,null,null,null,null,null,null,null,null,null,null,0,{"$f":"Раздел2!D96","v":0}]
[null,"Лапта","89",null,null,null,null,null,null,null,null,null,null,null,null,null,null,null,0,{"$f":"Раздел2!D97","v":0}]
[null,"Легкая атлетика - всего","90",{"$f":"SUM(D98:D104)","v":12},{"$f":"SUM(E98:E104)","v":12},11,1,11,1,7,4,0,1,1,4,6,1,12,12,{"$f":"Раздел2!D98","v":1}]
[null,"в том числе:\nСпринтерский и барьерный бег","91",null,null,null,null,null,null,null,null,null,null,null,null,null,null,null,0,{"$f":"Раздел2!D99","v":0}]
[null,"Бег на средние дистанции и бег с препятствиями","92",null,null,null,null,null,null,null,null,null,null,null,null,null,null,null,0,{"$f":"Раздел2!D100","v":0}]
[null,"Бег на длинные и сверхдлинные дистанции","93",null,null,null,null,null,null,null,null,null,null,null,null,null,null,null,0,{"$f":"Раздел2!D101","v":0}]
[null,"Многоборья","94",12,12,11,1,11,1,7,4,null,1,1,4,6,1,12,12,{"$f":"Раздел2!D102","v":1}]
[null,"Прыжки","95",null,null,null,null,null,null,null,null,null,null,null,null,null,null,null,0,{"$f":"Раздел2!D103","v":0}]
[null,"Метания","96",null,null,null,null,null,null,null,null,null,null,null,null,null,null,null,0,{"$f":"Раздел2!D104","v":0}]
[null,"Спортивная ходьба","97",null,null,null,null,null,null,null,null,null,null,null,null,null,null,null,0,{"$f":"Раздел2!D105","v":0}]
[null,"Лыжное двоеборье","98",null,null,null,null,null,null,null,null,null,null,null,null,null,null,null,0,{"$f":"Раздел2!D106","v":0}]
[null,"Лыжные гонки","99",null,null,null,null,null,null,null,null,null,null,null,null,null,null,null,0,{"$f":"Раздел2!D107","v":0}]
[null,"Мас-рестлинг","100",null,null,null,null,null,null,null,null,null,null,null,null,null,null,null,0,{"$f":"Раздел2!D108","v":0}]
[null,"Международное военно-спортивное многоборье","101",null,null,null,null,null,null,null,null,null,null,null,null,null,null,null,0,{"$f":"Раздел2!D109","v":0}]
[null,"Многоборье кинологов","102",null,null,null,null,null,null,null,null,null,null,null,null,null,null,null,0,{"$f":"Раздел2!D110","v":0}]
[null,"Многоборье спасателей МЧС России","103",null,null,null,null,null,null,null,null,null,null,null,null,null,null,null,0,{"$f":"Раздел2!D111","v":0}]
[null,"Морское многоборье","104",null,null,null,null,null,null,null,null,null,null,null,null,null,null,null,0,{"$f":"Раздел2!D112","v":0}]
[null,"Мотоциклетный спорт","105",null,null,null,null,null,null,null,null,null,null,null,null,null,null,null,0,{"$f":"Раздел2!D113","v":0}]
[null,"Настольный теннис","106",null,null,null,null,null,null,null,null,null,null,null,null,null,null,null,0,{"$f":"Раздел2!D114","v":0}]
[null,"Парашютный спорт","107",null,null,null,null,null,null,null,null,null,null,null,null,null,null,null,0,{"$f":"Раздел2!D115","v":0}]
[null,"Парусный спорт","108",null,null,null,null,null,null,null,null,null,null,null,null,null,null,null,0,{"$f":"Раздел2!D116","v":0}]
[null,"Пауэрлифтинг","109",null,null,null,null,null,null,null,null,null,null,null,null,null,null,null,0,{"$f":"Раздел2!D117","v":0}]
[null,"Перетягивание каната","110",null,null,null,null,null,null,null,null,null,null,null,null,null,null,null,0,{"$f":"Раздел2!D118","v":0}]
[null,"Петанк","111",null,null,null,null,null,null,null,null,null,null,null,null,null,null,null,0,{"$f":"Раздел2!D119","v":0}]
[null,"Плавание - всего","112",{"$f":"SUM(D120:D121)","v":0},{"$f":"SUM(E120:E121)","v":0},0,0,0,0,0,0,0,0,0,0,0,0,0,0,{"$f":"Раздел2!D120","v":0}]
[null,"в том числе:\nПлавание ","113",null,null,null,null,null,null,null,null,null,null,null,null,null,null,null,0,{"$f":"Раздел2!D121","v":0}]
[null,"Открытая вода","114",null,null,null,null,null,null,null,null,null,null,null,null,null,null,null,0,{"$f":"Раздел2!D122","v":0}]
[null,"Планерный спорт","115",null,null,null,null,null,null,null,null,null,null,null,null,null,null,null,0,{"$f":"Раздел2!D123","v":0}]
[null,"Подводный спорт","116",null,null,null,null,null,null,null,null,null,null,null,null,null,null,null,0,{"$f":"Раздел2!D124","v":0}]
[null,"Пожарно-спасательный спорт","117",4,1,1,null,1,null,1,null,null,null,null,1,null,null,4,4,{"$f":"Раздел2!D125","v":1}]
[null,"Полиатлон","118",null,null,null,null,null,null,null,null,null,null,null,null,null,null,null,0,{"$f":"Раздел2!D126","v":0}]
[null,"Практическая стрельба","119",null,null,null,null,null,null,null,null,null,null,null,null,null,null,null,0,{"$f":"Раздел2!D127","v":0}]
[null,"Прыжки в воду - всего","120",{"$f":"SUM(D128:D129)","v":0},{"$f":"SUM(E128:E129)","v":0},0,0,0,0,0,0,0,0,0,0,0,0,0,0,{"$f":"Раздел2!D128","v":0}]
[null,"в том числе:\nПрыжки в воду","121",null,null,null,null,null,null,null,null,null,null,null,null,null,null,null,0,{"$f":"Раздел2!D129","v":0}]
[null,"Прыжки в открытый водоем","122",null,null,null,null,null,null,null,null,null,null,null,null,null,null,null,0,{"$f":"Раздел2!D130","v":0}]
[null,"Прыжки на батуте - всего","123",{"$f":"SUM(D131:D134)","v":0},{"$f":"SUM(E131:E134)","v":0},0,0,0,0,0,0,0,0,0,0,0,0,0,0,{"$f":"Раздел2!D131","v":0}]
[null,"в том числе:\nАкробатическая дорожка","124",null,null,null,null,null,null,null,null,null,null,null,null,null,null,null,0,{"$f":"Раздел2!D132","v":0}]
[null,"Двойной минитрамп","125",null,null,null,null,null,null,null,null,null,null,null,null,null,null,null,0,{"$f":"Раздел2!D133","v":0}]
[null,"Индивидуальные прыжки","126",null,null,null,null,null,null,null,null,null,null,null,null,null,null,null,0,{"$f":"Раздел2!D134","v":0}]
[null,"Синхронные прыжки","127",null,null,null,null,null,null,null,null,null,null,null,null,null,null,null,0,{"$f":"Раздел2!D135","v":0}]
[null,"Прыжки на лыжах с трамплина","128",null,null,null,null,null,null,null,null,null,null,null,null,null,null,null,0,{"$f":"Раздел2!D136","v":0}]
[null,"Пулевая стрельба - всего","129",{"$f":"SUM(D137:D141)","v":0},{"$f":"SUM(E137:E141)","v":0},0,0,0,0,0,0,0,0,0,0,0,0,0,0,{"$f":"Раздел2!D137","v":0}]
[null,"в том числе:\nПневматическая винтовка","130",null,null,null,null,null,null,null,null,null,null,null,null,null,null,null,{"$f":"D137","v":0},{"$f":"Раздел2!D138","v":0}]
[null,"Пневматический пистолет","131",null,null,null,null,null,null,null,null,null,null,null,null,null,null,null,0,{"$f":"Раздел2!D139","v":0}]
[null,"Малокалиберная винтовка","132",null,null,null,null,null,null,null,null,null,null,null,null,null,null,null,0,{"$f":"Раздел2!D140","v":0}]
[null,"Малокалиберный пистолет","133",null,null,null,null,null,null,null,null,null,null,null,null,null,null,null,0,{"$f":"Раздел2!D141","v":0}]
[null,"Движущаяся мишень","134",null,null,null,null,null,null,null,null,null,null,null,null,null,null,null,0,{"$f":"Раздел2!D142","v":0}]
[null,"Пэйнтбол","135",null,null,null,null,null,null,null,null,null,null,null,null,null,null,null,0,{"$f":"Раздел2!D143","v":0}]
[null,"Радиоспорт","136",null,null,null,null,null,null,null,null,null,null,null,null,null,null,null,0,{"$f":"Раздел2!D144","v":0}]
[null,"Рафтинг","137",null,null,null,null,null,null,null,null,null,null,null,null,null,null,null,0,{"$f":"Раздел2!D145","v":0}]
[null,"Регби - всего","138",{"$f":"SUM(D146:D149)","v":0},{"$f":"SUM(E146:E149)","v":0},0,0,0,0,0,0,0,0,0,0,0,0,0,0,{"$f":"Раздел2!D146","v":0}]
[null,"в том числе:\nРегби","139",null,null,null,null,null,null,null,null,null,null,null,null,null,null,null,0,{"$f":"Раздел2!D147","v":0}]
[null,"Регби 7 (муж.)","140",null,null,null,null,null,null,null,null,null,null,null,null,null,null,null,0,{"$f":"Раздел2!D148","v":0}]
[null,"Регби 7 (жен.)","141",null,null,null,null,null,null,null,null,null,null,null,null,null,null,null,0,{"$f":"Раздел2!D149","v":0}]
[null,"Регби - пляжное","142",null,null,null,null,null,null,null,null,null,null,null,null,null,null,null,0,{"$f":"Раздел2!D150","v":0}]
[null,"Регбол","143",null,null,null,null,null,null,null,null,null,null,null,null,null,null,null,0,{"$f":"Раздел2!D151","v":0}]
[null,"Роллер спорт","144",null,null,null,null,null,null,null,null,null,null,null,null,null,null,null,0,{"$f":"Раздел2!D152","v":0}]
[null,"Рукопашный бой","145",null,null,null,null,null,null,null,null,null,null,null,null,null,null,null,0,{"$f":"Раздел2!D153","v":0}]
[null,"Рыболовный спорт","146",null,null,null,null,null,null,null,null,null,null,null,null,null,null,null,0,{"$f":"Раздел2!D154","v":0}]
[null,"Сават","147",null,null,null,null,null,null,null,null,null,null,null,null,null,null,null,0,{"$f":"Раздел2!D155","v":0}]
[null,"Самбо","148",null,null,null,null,null,null,null,null,null,null,null,null,null,null,null,0,{"$f":"Раздел2!D156","v":0}]
[null,"Самолетный спорт","149",null,null,null,null,null,null,null,null,null,null,null,null,null,null,null,0,{"$f":"Раздел2!D157","v":0}]
[null,"Санный спорт","150",null,null,null,null,null,null,null,null,null,null,null,null,null,null,null,0,{"$f":"Раздел2!D158","v":0}]
[null,"Северное многоборье","151",null,null,null,null,null,null,null,null,null,null,null,null,null,null,null,0,{"$f":"Раздел2!D159","v":0}]
[null,"Серфинг","152",null,null,null,null,null,null,null,null,null,null,null,null,null,null,null,0,{"$f":"Раздел2!D160","v":0}]
[null,"Синхронное плавание","153",null,null,null,null,null,null,null,null,null,null,null,null,null,null,null,0,{"$f":"Раздел2!D161","v":0}]
[null,"Скалолазание","154",null,null,null,null,null,null,null,null,null,null,null,null,null,null,null,0,{"$f":"Раздел2!D162","v":0}]
[null,"Сквош","155",null,null,null,null,null,null,null,null,null,null,null,null,null,null,null,0,{"$f":"Раздел2!D163","v":0}]
[null,"Скейтбординг","156",null,null,null,null,null,null,null,null,null,null,null,null,null,null,null,0,{"$f":"Раздел2!D164","v":0}]
[null,"Служебно-прикладной спорт","157",null,null,null,null,null,null,null,null,null,null,null,null,null,null,null,0,{"$f":"Раздел2!D165","v":0}]
[null,"Служебно-прикладной спорт ФСО России","158",null,null,null,null,null,null,null,null,null,null,null,null,null,null,null,0,{"$f":"Раздел2!D166","v":0}]
[null,"Служебно-прикладной спорт ФТС России","159",null,null,null,null,null,null,null,null,null,null,null,null,null,null,null,0,{"$f":"Раздел2!D167","v":0}]
[null,"Служебное двоеборье","160",null,null,null,null,null,null,null,null,null,null,null,null,null,null,null,0,{"$f":"Раздел2!D168","v":0}]
[null,"Служебное единоборство","161",null,null,null,null,null,null,null,null,null,null,null,null,null,null,null,0,{"$f":"Раздел2!D169","v":0}]
[null,"Служебное многоборье","162",null,null,null,null,null,null,null,null,null,null,null,null,null,null,null,0,{"$f":"Раздел2!D170","v":0}]
[null,"Служебный биатлон","163",null,null,null,null,null,null,null,null,null,null,null,null,null,null,null,0,{"$f":"Раздел2!D171","v":0}]
[null,"Спасательный спорт","164",null,null,null,null,null,null,null,null,null,null,null,null,null,null,null,0,{"$f":"Раздел2!D172","v":0}]
[null,"Стрельба из боевого ручного стрелкового оружия","165",null,null,null,null,null,null,null,null,null,null,null,null,null,null,null,0,{"$f":"Раздел2!D173","v":0}]
[null,"Стрельба из штатного или табельного оружия","166",null,null,null,null,null,null,null,null,null,null,null,null,null,null,null,0,{"$f":"Раздел2!D174","v":0}]
[null,"Смешанное боевое единоборство (ММА)","167",null,null,null,null,null,null,null,null,null,null,null,null,null,null,null,0,{"$f":"Раздел2!D175","v":0}]
[null,"Сноуборд","168",null,null,null,null,null,null,null,null,null,null,null,null,null,null,null,0,{"$f":"Раздел2!D176","v":0}]
[null,"Современное пятиборье","169",null,null,null,null,null,null,null,null,null,null,null,null,null,null,null,0,{"$f":"Раздел2!D177","v":0}]
[null,"Софтбол","170",null,null,null,null,null,null,null,null,null,null,null,null,null,null,null,0,{"$f":"Раздел2!D178","v":0}]
[null,"Спорт сверхлегкой авиации","171",null,null,null,null,null,null,null,null,null,null,null,null,null,null,null,0,{"$f":"Раздел2!D179","v":0}]
[null,"Спортивная акробатика","172",5,4,4,null,3,null,3,null,null,1,null,2,1,null,5,5,{"$f":"Раздел2!D180","v":1}]
[null,"Спортивная аэробика","173",null,null,null,null,null,null,null,null,null,null,null,null,null,null,null,0,{"$f":"Раздел2!D181","v":0}]
[null,"Спортивная борьба - всего","174",{"$f":"SUM(D182:D186)","v":0},{"$f":"SUM(E182:E186)","v":0},0,0,0,0,0,0,0,0,0,0,0,0,0,0,{"$f":"Раздел2!D182","v":0}]
[null,"в том числе:\nВольная борьба","175",null,null,null,null,null,null,null,null,null,null,null,null,null,null,null,0,{"$f":"Раздел2!D183","v":0}]
[null,"Греко-римская борьба","176",null,null,null,null,null,null,null,null,null,null,null,null,null,null,null,0,{"$f":"Раздел2!D184","v":0}]
[null,"Грэпплинг","177",null,null,null,null,null,null,null,null,null,null,null,null,null,null,null,0,{"$f":"Раздел2!D185","v":0}]
[null,"Грэпплинг-ги","178",null,null,null,null,null,null,null,null,null,null,null,null,null,null,null,0,{"$f":"Раздел2!D186","v":0}]
[null,"Панкратион","179",null,null,null,null,null,null,null,null,null,null,null,null,null,null,null,0,{"$f":"Раздел2!D187","v":0}]
[null,"Спортивная гимнастика","180",8,8,7,1,6,1,1,1,null,null,4,4,null,null,8,8,{"$f":"Раздел2!D188","v":1}]
[null,"Спортивная йога","181",null,null,null,null,null,null,null,null,null,null,null,null,null,null,null,0,{"$f":"Раздел2!D189","v":0}]
[null,"Спортивно-прикладное собаководство","182",null,null,null,null,null,null,null,null,null,null,null,null,null,null,null,0,{"$f":"Раздел2!D190","v":0}]
[null,"Спортивное ориентирование","183",null,null,null,null,null,null,null,null,null,null,null,null,null,null,null,0,{"$f":"Раздел2!D191","v":0}]
[null,"Спортивный бридж","184",null,null,null,null,null,null,null,null,null,null,null,null,null,null,null,0,{"$f":"Раздел2!D192","v":0}]
[null,"Спортивный туризм","185",null,null,null,null,null,null,null,null,null,null,null,null,null,null,null,0,{"$f":"Раздел2!D193","v":0}]
[null,"Стендовая стрельба - всего","186",{"$f":"SUM(D194:D197)","v":0},{"$f":"SUM(E194:E197)","v":0},0,0,0,0,0,0,0,0,0,0,0,0,0,0,{"$f":"Раздел2!D194","v":0}]
[null,"в том числе:\nТрап","187",null,null,null,null,null,null,null,null,null,null,null,null,null,null,null,0,{"$f":"Раздел2!D195","v":0}]
[null,"Скит","188",null,null,null,null,null,null,null,null,null,null,null,null,null,null,null,0,{"$f":"Раздел2!D196","v":0}]
[null,"Дубль-трап","189",null,null,null,null,null,null,null,null,null,null,null,null,null,null,null,0,{"$f":"Раздел2!D197","v":0}]
[null,"Спортинг","190",null,null,null,null,null,null,null,null,null,null,null,null,null,null,null,0,{"$f":"Раздел2!D198","v":0}]
[null,"Стрельба из арбалета","191",null,null,null,null,null,null,null,null,null,null,null,null,null,null,null,0,{"$f":"Раздел2!D199","v":0}]
[null,"Стрельба из лука - всего","192",{"$f":"SUM(D200:D202)","v":0},{"$f":"SUM(E200:E202)","v":0},0,0,0,0,0,0,0,0,0,0,0,0,0,0,{"$f":"Раздел2!D200","v":0}]
[null,"в том числе:\nКлассический лук","193",null,null,null,null,null,null,null,null,null,null,null,null,null,null,null,0,{"$f":"Раздел2!D201","v":0}]
[null,"   Блочный лук","194",null,null,null,null,null,null,null,null,null,null,null,null,null,null,null,{"$f":"D201","v":0},{"$f":"Раздел2!D202","v":0}]
[null,"   Ачери ","195",null,null,null,null,null,null,null,null,null,null,null,null,null,null,null,0,{"$f":"Раздел2!D203","v":0}]
[null,"Судомодельный спорт","196",null,null,null,null,null,null,null,null,null,null,null,null,null,null,null,0,{"$f":"Раздел2!D204","v":0}]
[null,"Сумо","197",null,null,null,null,null,null,null,null,null,null,null,null,null,null,null,0,{"$f":"Раздел2!D205","v":0}]
[null,"Тайский бокс","198",null,null,null,null,null,null,null,null,null,null,null,null,null,null,null,0,{"$f":"Раздел2!D206","v":0}]
[null,"Танцевальный спорт","199",null,null,null,null,null,null,null,null,null,null,null,null,null,null,null,0,{"$f":"Раздел2!D207","v":0}]
[null,"Теннис","200",null,null,null,null,null,null,null,null,null,null,null,null,null,null,null,0,{"$f":"Раздел2!D208","v":0}]
[null,"Триатлон","201",null,null,null,null,null,null,null,null,null,null,null,null,null,null,null,0,{"$f":"Раздел2!D209","v":0}]
[null,"Тхэквондо - всего","202",{"$f":"SUM(D210:D211)","v":0},{"$f":"SUM(E210:E211)","v":0},0,0,0,0,0,0,0,0,0,0,0,0,0,0,{"$f":"Раздел2!D210","v":0}]
[null,"в том числе:\nТхэквондо (ГТФ, ИТФ, МФТ)","203",null,null,null,null,null,null,null,null,null,null,null,null,null,null,null,0,{"$f":"Раздел2!D211","v":0}]
[null,"Тхэквондо (ВТФ)","204",null,null,null,null,null,null,null,null,null,null,null,null,null,null,null,0,{"$f":"Раздел2!D212","v":0}]
[null,"Тяжелая атлетика","205",null,null,null,null,null,null,null,null,null,null,null,null,null,null,null,0,{"$f":"Раздел2!D213","v":0}]
[null,"Универсальный бой","206",null,null,null,null,null,null,null,null,null,null,null,null,null,null,null,0,{"$f":"Раздел2!D214","v":0}]
[null,"Ушу","207",null,null,null,null,null,null,null,null,null,null,null,null,null,null,null,0,{"$f":"Раздел2!D215","v":0}]
[null,"Фехтование - всего","208",{"$f":"SUM(D216:D219)","v":0},{"$f":"SUM(E216:E219)","v":0},0,0,0,0,0,0,0,0,0,0,0,0,0,0,{"$f":"Раздел2!D216","v":0}]
[null,"в том числе:\nРапира","209",null,null,null,null,null,null,null,null,null,null,null,null,null,null,null,0,{"$f":"Раздел2!D217","v":0}]
[null,"Сабля","210",null,null,null,null,null,null,null,null,null,null,null,null,null,null,null,0,{"$f":"Раздел2!D218","v":0}]
[null,"Шпага","211",null,null,null,null,null,null,null,null,null,null,null,null,null,null,null,0,{"$f":"Раздел2!D219","v":0}]
[null,"Арт-фехтование","212",null,null,null,null,null,null,null,null,null,null,null,null,null,null,null,0,{"$f":"Раздел2!D220","v":0}]
[null,"Фигурное катание на коньках","213",null,null,null,null,null,null,null,null,null,null,null,null,null,null,null,0,{"$f":"Раздел2!D221","v":0}]
[null,"Фитнес-аэробика","214",null,null,null,null,null,null,null,null,null,null,null,null,null,null,null,0,{"$f":"Раздел2!D222","v":0}]
[null,"Флаинг диск","215",null,null,null,null,null,null,null,null,null,null,null,null,null,null,null,0,{"$f":"Раздел2!D223","v":0}]
[null,"Флорбол","216",null,null,null,null,null,null,null,null,null,null,null,null,null,null,null,0,{"$f":"Раздел2!D224","v":0}]
[null,"Фристайл - всего","217",{"$f":"SUM(D225:D229)","v":0},{"$f":"SUM(E225:E229)","v":0},0,0,0,0,0,0,0,0,0,0,0,0,0,0,{"$f":"Раздел2!D225","v":0}]
[null,"в том числе:\nАкробатика","218",null,null,null,null,null,null,null,null,null,null,null,null,null,null,null,0,{"$f":"Раздел2!D226","v":0}]
[null,"Могул","219",null,null,null,null,null,null,null,null,null,null,null,null,null,null,null,0,{"$f":"Раздел2!D227","v":0}]
[null,"Ски-кросс","220",null,null,null,null,null,null,null,null,null,null,null,null,null,null,null,0,{"$f":"Раздел2!D228","v":0}]
[null,"Хаф-пайп","221",null,null,null,null,null,null,null,null,null,null,null,null,null,null,null,0,{"$f":"Раздел2!D229","v":0}]
[null,"Слоуп-стайл","222",null,null,null,null,null,null,null,null,null,null,null,null,null,null,null,0,{"$f":"Раздел2!D230","v":0}]
[null,"Функциональное многоборье","223",null,null,null,null,null,null,null,null,null,null,null,null,null,null,null,0,{"$f":"Раздел2!D231","v":0}]
[null,"Футбол - всего","224",{"$f":"SUM(D232:D235)","v":0},{"$f":"SUM(E232:E235)","v":0},0,0,0,0,0,0,0,0,0,0,0,0,0,0,{"$f":"Раздел2!D232","v":0}]
[null,"в том числе:\nФутбол (муж.)","225",null,null,null,null,null,null,null,null,null,null,null,null,null,null,null,0,{"$f":"Раздел2!D233","v":0}]
[null,"Футбол (жен.)","226",null,null,null,null,null,null,null,null,null,null,null,null,null,null,null,0,{"$f":"Раздел2!D234","v":0}]
[null,"Мини-футбол (футзал)","227",null,null,null,null,null,null,null,null,null,null,null,null,null,null,null,0,{"$f":"Раздел2!D235","v":0}]
[null,"Пляжный футбол","228",null,null,null,null,null,null,null,null,null,null,null,null,null,null,null,0,{"$f":"Раздел2!D236","v":0}]
[null,"Хапсагай","229",null,null,null,null,null,null,null,null,null,null,null,null,null,null,null,0,{"$f":"Раздел2!D237","v":0}]
[null,"Хоккей - всего","230",{"$f":"SUM(D238:D239)","v":0},{"$f":"SUM(E238:E239)","v":0},0,0,0,0,0,0,0,0,0,0,0,0,0,0,{"$f":"Раздел2!D238","v":0}]
[null,"в том числе:\nХоккей (муж.)","231",null,null,null,null,null,null,null,null,null,null,null,null,null,null,null,0,{"$f":"Раздел2!D239","v":0}]
[null,"Хоккей (жен.)","232",null,null,null,null,null,null,null,null,null,null,null,null,null,null,null,0,{"$f":"Раздел2!D240","v":0}]
[null,"Хоккей на траве - всего","233",{"$f":"SUM(D241:D243)","v":0},{"$f":"SUM(E241:E243)","v":0},0,0,0,0,0,0,0,0,0,0,0,0,0,0,{"$f":"Раздел2!D241","v":0}]
[null,"в том числе:\nХоккей на траве (муж.)","234",null,null,null,null,null,null,null,null,null,null,null,null,null,null,null,0,{"$f":"Раздел2!D242","v":0}]
[null,"Хоккей на траве (жен.)","235",null,null,null,null,null,null,null,null,null,null,null,null,null,null,null,0,{"$f":"Раздел2!D243","v":0}]
[null,"Индорхоккей","236",null,null,null,null,null,null,null,null,null,null,null,null,null,null,null,0,{"$f":"Раздел2!D244","v":0}]
[null,"Хоккей с мячом","237",null,null,null,null,null,null,null,null,null,null,null,null,null,null,null,0,{"$f":"Раздел2!D245","v":0}]
[null,"Художественная гимнастика","238",null,null,null,null,null,null,null,null,null,null,null,null,null,null,null,0,{"$f":"Раздел2!D246","v":0}]
[null,"Хуреш","239",null,null,null,null,null,null,null,null,null,null,null,null,null,null,null,0,{"$f":"Раздел2!D247","v":0}]
[null,"Чир спорт","240",null,null,null,null,null,null,null,null,null,null,null,null,null,null,null,0,{"$f":"Раздел2!D248","v":0}]
[null,"Шахматы","241",null,null,null,null,null,null,null,null,null,null,null,null,null,null,null,0,{"$f":"Раздел2!D249","v":0}]
[null,"Шашки","242",null,null,null,null,null,null,null,null,null,null,null,null,null,null,null,0,{"$f":"Раздел2!D250","v":0}]
[null,"Шодсанлат","243",null,null,null,null,null,null,null,null,null,null,null,null,null,null,null,0,{"$f":"Раздел2!D251","v":0}]
[null,"Эстетическая гимнастика","244",null,null,null,null,null,null,null,null,null,null,null,null,null,null,null,0,{"$f":"Раздел2!D252","v":0}]
[null,"Якутские национальные прыжки","245",null,null,null,null,null,null,null,null,null,null,null,null,null,null,null,0,{"$f":"Раздел2!D253","v":0}]
[null,"ИТОГО","246",{"$f":"SUM(D8:D19,D22:D25,D28:D32,D37:D40,D43:D47,D52:D54,D58:D67,D72:D81,D84:D90,D93:D97,D105:D119,D122:D127,D130,D135:D136,D142:D145,D150:D181,D187:D193,D198:D199,D203:D209,D212:D215,D220:D224,D230:D231,D236:D237,D240,D244:D252)","v":39},{"$f":"SUM(E8:E19,E22:E25,E28:E32,E37:E40,E43:E47,E52:E54,E58:E67,E72:E81,E84:E90,E93:E97,E105:E119,E122:E127,E130,E135:E136,E142:E145,E150:E181,E187:E193,E198:E199,E203:E209,E212:E215,E220:E224,E230:E231,E236:E237,E240,E244:E252)","v":31},28,2,26,2,16,5,0,3,6,14,{"$f":"SUM(P8:P19,P22:P25,P28:P32,P37:P40,P43:P47,P52:P54,P58:P67,P72:P81,P84:P90,P93:P97,P105:P119,P122:P127,P130,P135:P136,P142:P145,P150:P181,P187:P193,P198:P199,P203:P209,P212:P215,P220:P224,P230:P231,P236:P237,P240,P244:P252)","v":8},1,39,39,{"$f":"Раздел2!D254","v":6}]

{"sheet":"Раздел10","index":10,"n_rows":29,"n_cols":17,"rows_kept":29,"cut":false,"hidden":false,"merged":[[0,0,0,8],[3,1,6,1],[3,2,6,2],[1,1,1,13],[3,3,4,4],[5,12,6,12],[1,0,28,0],[5,11,6,11],[5,10,6,10],[5,6,6,6],[5,3,6,3],[5,13,6,13],[5,4,6,4],[5,9,6,9],[5,5,6,5],[5,7,5,8],[1,14,28,14],[4,9,4,11],[4,12,4,13],[3,5,3,13],[4,5,4,8],[2,11,2,13]]}
[]
[null,"Раздел X. Административные работники и специалисты"]
[null,null,null,null,null,null,null,null,null,null,null,"Код по ОКЕИ: человек – 792"]
[null,"Наименование должности","№ строки","Число работников",null,"из них имеют (из гр. 4):"]
[null,null,null,null,null,"профессиональное образование",null,null,null,"квалификационную категорию",null,null,"почетные звания"]
[null,null,null,"Всего","в том числе штатные","высшее","среднее","в том числе\nфизкультурное",null,"высшую","первую","вторую","Заслужен-ный тренер России","Заслуженный работник физической культуры Российской Федерации"]
[null,null,null,null,null,null,null,"высшее","среднее"]
[null,1,2,3,4,5,6,7,8,9,10,11,12,13]
[null,"Директор (руководитель)","01",1,1,1,0,null,0,0,0,0,0,0,null,null,{"$f":"#REF!","v":{"$error":"#REF!"}}]
[null,"Заместители директора (руководителя)","02",{"$f":"SUM(D11:D14)","v":1},{"$f":"SUM(E11:E14)","v":1},1,0,0,0,0,0,0,{"$f":"SUM(M11:M14)","v":0},0]
[null,"      в том числе:\n   по учебно-спортивной работе","03",null,null,0,0,0,0,0,0,0,0]
[null,"   по учебно-воспитательной работе","04",0,0,0,0,0,0,0,0,0,0,0]
[null,"   по научно-методической работе","05",0,0,0,0,0,0,0,0,0,0,0]
[null,"   другие","06",1,1,1,0,0,0,0,0,0,0,0]
[null,"Инструктор по спорту","07",0,0,0,0,0,0,0,0,0,0,0]
[null,"Спортсмен, спортсмен-инструктор","08",null,0,null,0,0,0,0,0,0,0,0,null,{"$f":"Раздел2!S220","v":0}]
[null,"Инструктор – методист (включая старшего)","09",2,2,1,1,1,0,1,0,0,0,0]
[null,"Техник (специалист) по эксплуатации и ремонту спортивной техники, инвентаря и снаряжения",10,null,null,0,null,0,0,0,0,0,0,0]
[null,"Преподаватель",11,null,null,null,null,null,null,null,null,0,null,0]
[null,"Воспитатель (включая старшего)",12,0,0,0,0,0,0,0,0,0,0,0]
[null,"Методист (включая старшего)",13,0,0,0,0,0,0,0,0,0,0,0]
[null,"Педагог – психолог",14,0,0,0,0,0,0,0,0,0,0,0]
[null,"Медицинские работники:",15,{"$f":"SUM(D24:D26)","v":0},{"$f":"SUM(E24:E26)","v":0},0,0,0,0,0,0,0,{"$f":"SUM(M24:M26)","v":0},0]
[null,"   в том числе:\n   врачи",16,0,0,0,0,0,0,0,0,0,0,0]
[null,"   средний медицинский персонал",17,0,0,0,0,0,0,0,0,0,0,0]
[null,"   младший медицинский персонал",18,0,0,0,0,0,0,0,0,0,0,0]
[null,"Специалисты спортсооружений",19,1,1,0,1,0,0,0,0,0,0,0]
[null,"Прочий персонал",20,27,27,1,4,0,0,0,0,0,0,0]
[null,"ИТОГО",21,{"$f":"SUM(D9,D10,D15:D23,D27:D28)","v":32},{"$f":"SUM(E9,E10,E15:E23,E27:E28)","v":32},4,6,1,0,1,0,0,{"$f":"SUM(M9,M10,M15:M23,M27:M28)","v":0},0]

{"sheet":"Раздел11","index":11,"n_rows":42,"n_cols":16,"rows_kept":42,"cut":false,"hidden":false,"merged":[[3,15,5,15],[0,0,0,8],[3,1,5,1],[3,2,5,2],[3,4,3,8],[3,14,5,14],[1,1,1,14],[3,3,5,3],[4,4,5,4],[4,5,4,8],[3,9,3,13],[4,9,5,9],[4,10,4,13],[1,0,41,0],[2,11,2,15]]}
[]
[null,"Раздел XI. Спортивные сооружения"]
[null,null,null,null,null,null,null,null,null,null,null,"Код по ОКЕИ: единица – 642"]
[null,"Наименование спортивного сооружения","№ стро-ки","Число спортивных сооружений – всего","находящихся на балансе (из гр. 3)",null,null,null,null,"арендуемых (из гр. 3)",null,null,null,null,"используемых на безвозмездной основе\n(из гр. 3)","Количество спортсооружений, входящих во Всероссийский реестр объектов спорта (из гр. 3)"]
[null,null,null,null,"всего","в том числе по формам собственности:",null,null,null,"всего","в том числе по формам собственности:"]
[null,null,null,null,null,"федеральной","субъектов Российской Федерации","муници-пальной","другой",null,"федеральной","субъектов Российской Федерации","муници-пальной","другой"]
[null,1,2,3,4,5,6,7,8,9,10,11,12,13,14,15]
[null,"Стадионы с трибунами – всего","01",{"$f":"E8+J8+O8","v":0},{"$f":"SUM(F8:I8)","v":0},0,0,0,0,{"$f":"SUM(K8:N8)","v":0},0,0,0,0,0,0]
[null,"в том числе на 1500 мест и более","02",{"$f":"E9+J9+O9","v":0},{"$f":"SUM(F9:I9)","v":0},0,0,0,0,{"$f":"SUM(K9:N9)","v":0},0,0,0,0,0,0]
[null,"Плоскостные спортивные сооружения - всего","03",0,0,{"$f":"F11+F12","v":0},{"$f":"G11+G12","v":0},0,0,0,0,0,0,0,{"$f":"O11+O12","v":0},0]
[null,"в том числе:\nПлоскостные спортивные сооружения","04",0,0,0,0,0,0,0,0,0,0,0,0,0]
[null,"Футбольные поля","05",0,0,0,0,0,0,0,0,0,0,0,0,0]
[null,"Спортивные залы – всего","06",6,2,{"$f":"SUM(F14:F17)","v":0},{"$f":"SUM(G14:G17)","v":0},2,0,0,0,0,0,0,4,2]
[null,"      в том числе размером:\n     (42 х 24 м)","07",0,0,0,0,0,0,0,0,0,0,0,0,0]
[null,"     (36 х 18 м); (30 х 18 м) и (30 х 15 м)","08",1,1,0,0,1,0,0,0,0,0,0,0,1]
[null,"     (24 х 12 м) и (18 х 9 м)","09",4,0,0,0,0,0,0,0,0,0,0,4,0]
[null,"     иных размеров",10,1,1,0,0,1,0,0,0,0,0,0,0,1]
[null,"Манежи легкоатлетические",11,1,1,0,0,1,0,0,0,0,0,0,0,1]
[null,"Манежи футбольные",12,0,0,0,0,0,0,0,0,0,0,0,0,0]
[null,"Велотреки",13,0,0,0,0,0,0,0,0,0,0,0,0,0]
[null,"Велодромы",14,0,0,0,0,0,0,0,0,0,0,0,0,0]
[null,"Бассейны – всего",15,0,0,{"$f":"SUM(F23:F26)","v":0},{"$f":"SUM(G23:G26)","v":0},0,0,0,0,0,0,0,0,0]
[null,"     в том числе: \n     плавательные 50-метровые",16,0,0,0,0,0,0,0,0,0,0,0,0,0]
[null,"     плавательные 25-метровые",17,0,0,0,0,0,0,0,0,0,0,0,0,0]
[null,"     нестандартных размеров",18,0,0,0,0,0,0,0,0,0,0,0,0,0]
[null,"     для прыжков в воду",19,0,0,0,0,0,0,0,0,0,0,0,0,0]
[null,"         из строки 15 - крытые",20,0,0,0,null,0,0,0,0,0,0,0,0,0]
[null,"Гребные базы",21,0,0,0,0,0,0,0,0,0,0,0,0,0]
[null,"Гребные каналы",22,0,0,0,0,0,0,0,0,0,0,0,0,0]
[null,"Крытые спортивные объекты с искусственным льдом – всего",23,0,0,{"$f":"SUM(F31:F32)","v":0},{"$f":"SUM(G31:G32)","v":0},0,0,0,0,0,0,0,0,0]
[null,"  в том числе:\n  крытые спортивные объекты с искусственным     льдом ",24,0,0,0,0,0,0,0,0,0,0,0,0,0]
[null,"     конькобежные",25,0,0,0,0,0,0,0,0,0,0,0,0,0]
[null,"Лыжные базы",26,0,0,0,0,0,0,0,0,0,0,0,0,0]
[null,"Лыжные стадионы",27,0,0,0,0,0,0,0,0,0,0,0,0,0]
[null,"Биатлонные комплексы",28,0,0,0,0,0,0,0,0,0,0,0,0,0]
[null,"Сооружения для стрелковых видов спорта – всего",29,0,0,{"$f":"SUM(F37:F40)","v":0},{"$f":"SUM(G37:G40)","v":0},0,0,0,0,0,0,0,0,0]
[null,"     в том числе: \n     тиры",30,0,0,0,0,0,0,0,0,0,0,0,0,0]
[null,"     стрельбища",31,0,0,0,0,0,0,0,0,0,0,0,0,0]
[null,"     стенды",32,0,0,0,0,0,0,0,0,0,0,0,0,0]
[null,"     лукодромы",33,0,0,0,0,0,0,0,0,0,0,0,0,0]
[null,"Другие спортивные сооружения",34,0,0,0,0,0,0,0,0,0,0,0,0,0]
[null,"ИТОГО",35,7,3,{"$f":"SUM(F8,F10,F13,F18:F22,F28:F30,F33:F36,F41)","v":0},{"$f":"SUM(G8,G10,G13,G18:G22,G28:G30,G33:G36,G41)","v":0},3,0,0,0,0,0,0,{"$f":"SUM(O8,O10,O13,O18:O22,O28:O30,O33:O36,O41)","v":4},3]

{"sheet":"Раздел12","index":12,"n_rows":29,"n_cols":21,"rows_kept":29,"cut":false,"hidden":false,"merged":[[5,11,5,13],[0,0,0,8],[1,0,28,0],[1,1,1,13],[1,14,28,14],[2,11,2,13],[3,1,6,1],[3,2,6,2],[3,3,4,4],[3,5,3,13],[4,5,4,7],[4,8,4,13],[5,3,6,3],[5,4,6,4],[5,5,5,6],[5,7,6,7],[5,8,5,10]]}
[]
[null,"Раздел XII. Сведения о численности и оплате труда работников"]
[null,null,null,null,null,null,null,null,null,null,null,"Коды по ОКЕИ: человек – 792; тысяча рублей – 384"]
[null,"Наименование должности","№ строки","Средняя численность работников, человек",null,"Фонд начисленной заработной платы работников, тыс. руб."]
[null,null,null,null,null,"всего",null,null,"по источникам финансирования"]
[null,null,null,"списочного состава\n(без внеш-них совме-стителей)\n","внешних совме-стителей","списочного состава (без внешних совместителей)",null,"внешних совме-стителей","списочного состава\n(без внешних совместителей)",null,null,"внешних совместителей"]
[null,null,null,null,null,"всего","в том числе по внутреннему совместитель-ству",null,"средства бюджетов всех уровней\n(субсидий)","ОМС","средства от приносящей доход деятельности","средства бюджетов всех уровней\n(субсидий)","ОМС","средства от приносящей доход деятельности"]
[null,1,2,3,4,5,6,7,8,9,10,11,12,13]
[null,"Директор","01",1.1000000000000001,0,677.5,null,null,652,0,25.5,null,null,null,null,{"$f":"Раздел13!D8","v":677.5},{"$f":"Раздел13!E8+Раздел13!F8+Раздел13!G8","v":652},{"$f":"Раздел13!H8","v":25.5},{"$f":"Раздел13!D8","v":677.5},{"$f":"Раздел13!AU8","v":652},{"$f":"Раздел13!AV8","v":25.5}]
[null,"Заместители директора, руководители структурных подразделений и их заместители","02",2.8,null,1536.8,null,null,1489.6,0,47.2,null,0,null,null,{"$f":"Раздел13!D9","v":1536.8},{"$f":"Раздел13!E9+Раздел13!F9+Раздел13!G9","v":1489.6},{"$f":"Раздел13!H9","v":47.2},{"$f":"Раздел13!D9","v":1536.8},{"$f":"Раздел13!AU9","v":1489.6},{"$f":"Раздел13!AV9","v":47.2}]
[null,"Работники учреждений, осуществляющие спортивную подготовку:","03",{"$f":"D12+D19","v":32.700000000000003},{"$f":"E12+E19","v":4.5},{"$f":"F12+F19","v":13073.6},0,783.6,{"$f":"I12+I19","v":12783},0,290.60000000000002,783.6,0,0,null,null,null,null,null,{"$f":"Раздел13!AU10","v":13566.6},{"$f":"Раздел13!AV10","v":290.60000000000002}]
[null,"     тренерский персонал - всего:","04",{"$f":"SUM(D13:D15)","v":32.700000000000003},{"$f":"SUM(E13:E15)","v":4.5},{"$f":"SUM(F13:F15)","v":13073.6},0,783.6,12783,0,290.60000000000002,783.6,0,0,null,{"$f":"Раздел13!D10","v":13857.2},{"$f":"Раздел13!E10+Раздел13!F10+Раздел13!G10","v":13566.6},{"$f":"Раздел13!H10","v":290.60000000000002},{"$f":"Раздел13!D10","v":13857.2},{"$f":"Раздел13!AU11","v":0},{"$f":"Раздел13!AV10","v":290.60000000000002}]
[null,"   в том числе:\n   главные тренеры по видам спорта","05",0,null,null,null,null,null,0,null,null,null,null,null,null,null,null,null,{"$f":"Раздел13!AU12","v":0},{"$f":"Раздел13!AV12","v":0}]
[null,"      старшие тренеры по видам спорта ","06",0,0,null,null,0,null,0,null,0,0,0,null,null,null,null,null,{"$f":"Раздел13!AU13","v":5095.2},{"$f":"Раздел13!AV13","v":212.8}]
[null,"тренеры по видам спорта - всего:","07",{"$f":"SUM(D16:D18)","v":32.700000000000003},{"$f":"SUM(E16:E18)","v":4.5},13073.6,0,783.6,12783,0,290.60000000000002,783.6,0,0,null,null,null,null,null,{"$f":"Раздел13!AU14","v":6016.1},{"$f":"Раздел13!AV14","v":129.5}]
[null,"       в том числе:\n       тренеры","08",0,null,null,null,0,null,0,null,0,0,0,null,null,null,null,null,{"$f":"Раздел13!AU15","v":0},{"$f":"Раздел13!AV15","v":0}]
[null,"          тренеры-преподаватели","09",32.700000000000003,4.5,13073.6,null,783.6,12783,0,290.60000000000002,783.6,0,null,null,null,null,null,null,{"$f":"Раздел13!AU16","v":0},{"$f":"Раздел13!AV16","v":0}]
[null,"          хореографы","10"]
[null,"      методический персонал:",11,{"$f":"SUM(D20:D22)","v":0},{"$f":"SUM(E20:E22)","v":0},0,0,0,0,0,0,0,0,0,null,{"$f":"Раздел13!D11","v":0},{"$f":"Раздел13!E11+Раздел13!F11+Раздел13!G11","v":0},{"$f":"Раздел13!H11","v":0},{"$f":"Раздел13!D11","v":0},{"$f":"Раздел13!AU11","v":0},{"$f":"Раздел13!AV11","v":0}]
[null,"      в том числе:\n      инструкторы-методисты;",12,0,0,null,null,null,null,0,null,null,0,0]
[null,"      старшие инструкторы-методисты",13,0,0,null,null,0,null,0,null,0,0,0]
[null,"      спортсмены, спортсмены- инструкторы",14,0,0,null,null,0,null,0,null,0,0,0]
[null,"Медицинские работники - всего:",15,{"$f":"SUM(D24:D26)","v":0},{"$f":"SUM(E24:E26)","v":0},0,0,0,0,0,0,0,0,0,null,{"$f":"Раздел13!D12","v":0},{"$f":"Раздел13!E12+Раздел13!F12+Раздел13!G12","v":0},{"$f":"Раздел13!H12","v":0},{"$f":"Раздел13!D12","v":0},{"$f":"Раздел13!AU12","v":0},{"$f":"Раздел13!AV12","v":0}]
[null,"   в том числе:\n   врачи",16,0,0,null,null,null,null,0]
[null,"     средний медицинский персонал",17,0,0,null,null,null,null,0,null,null,0]
[null,"     младший медицинский персонал",18,0,0,null,null,0,null,0,null,0,0]
[null,"Прочий персонал",19,30.2,0.9,5143,null,165,4930.2,0,212.8,165,0,null,null,{"$f":"Раздел13!D13","v":5308},{"$f":"Раздел13!E13+Раздел13!F13+Раздел13!G13","v":5095.2},{"$f":"Раздел13!H13","v":212.8},{"$f":"Раздел13!D13","v":5308},{"$f":"Раздел13!AU13","v":5095.2},{"$f":"Раздел13!AV13","v":212.8}]
[null,"Страховые взносы с заработной платы",20,0,0,6095.7,null,49.9,5966.2,0,129.5,49.9,0,null,null,{"$f":"Раздел13!D14","v":6145.6},{"$f":"Раздел13!E14+Раздел13!F14+Раздел13!G14","v":6016.1},{"$f":"Раздел13!H14","v":129.5},{"$f":"Раздел13!D14","v":6145.6},{"$f":"Раздел13!AU14","v":6016.1},{"$f":"Раздел13!AV14","v":129.5}]
[null,"ИТОГО",21,{"$f":"SUM(D9,D10,D11,D23,D27,D28)","v":66.8},{"$f":"SUM(E9,E10,E11,E23,E27,E28)","v":5.4},26526.600000000002,0,998.5,{"$f":"SUM(I9,I10,I11,I23,I27,I28)","v":25821},0,705.6,998.5,0,0,null,{"$f":"Раздел13!D7","v":27525.1},{"$f":"Раздел13!H7","v":705.6},{"$f":"Раздел13!E7+Раздел13!F7+Раздел13!G7","v":26819.5},{"$f":"Раздел13!D7","v":27525.1},{"$f":"Раздел13!AU7","v":26819.5},{"$f":"Раздел13!AV7","v":705.6}]

{"sheet":"Раздел13","index":13,"n_rows":41,"n_cols":49,"rows_kept":41,"cut":false,"hidden":false,"merged":[[0,1,0,7],[37,1,37,4],[37,23,37,24],[39,2,39,3],[0,0,43,0],[31,4,31,6],[36,1,36,4],[40,2,41,3],[2,3,3,3],[2,2,3,2],[2,1,3,1],[2,4,3,4],[1,40,1,42],[40,13,40,14],[40,23,43,24],[36,7,36,16],[37,7,37,15],[39,7,39,16],[36,23,36,24],[1,5,1,7],[2,5,3,5],[2,6,3,6],[2,7,3,7]]}
[null,"Раздел XIII. Финансовая деятельность организаций"]
[null,null,null,null,null,"Код по ОКЕИ: тысяча рублей – 384",null,null,null,null,null,null,null,null,null,null,null,null,null,null,null,null,null,null,null,null,null,null,null,null,null,null,null,null,null,null,null,null,null,null,"Код по ОКЕИ: тысяча рублей – 384"]
[null,"Расходы на содержание организаций","№ строки","ВСЕГО","федеральный бюджет","бюджет субъекта Российской Федерации","муниципальный бюджет","внебюджетные источники"]
[]
[null,1,2,3,4,5,6,7]
[null,"Всего расходов","01",{"$f":"SUM(E6:H6)","v":40124.400000000009},{"$f":"SUM(E7,E15,E16,E22,E25,E29)","v":0},{"$f":"SUM(F7,F15,F16,F22,F25,F29)","v":0},37600.400000000009,2524]
[null,"в том числе: \nЗаработная плата - всего","02",{"$f":"SUM(E7:H7)","v":27525.1},{"$f":"SUM(E8:E14)","v":0},{"$f":"SUM(F8:F14)","v":0},26819.5,705.6,null,{"$f":"Раздел12!I29+Раздел12!L29","v":26819.5},{"$f":"Раздел12!K29+Раздел12!N29","v":705.6},null,null,null,null,null,null,null,null,null,null,null,null,null,null,null,null,null,null,null,null,null,null,null,null,null,null,null,null,null,null,null,null,null,{"$f":"#REF!+#REF!","v":{"$error":"#REF!"}},{"$f":"#REF!+#REF!","v":{"$error":"#REF!"}},{"$f":"SUM(E7:G7,O7:Q7,Y7:AA7,AD7:AF7,AN7:AP7)","v":26819.5},{"$f":"H7+R7+AB7+AG7+AQ7","v":705.6},{"$f":"#REF!+#REF!","v":{"$error":"#REF!"}}]
[null,"в том числе:\nдиректор","03",{"$f":"SUM(E8:H8)","v":677.5},null,null,652,25.5,null,{"$f":"Раздел12!I9+Раздел12!L9","v":652},{"$f":"Раздел12!K9+Раздел12!N9","v":25.5},null,null,null,null,null,null,null,null,null,null,null,null,null,null,null,null,null,null,null,null,null,null,null,null,null,null,null,null,null,null,null,null,null,{"$f":"#REF!+#REF!","v":{"$error":"#REF!"}},{"$f":"#REF!+#REF!","v":{"$error":"#REF!"}},{"$f":"SUM(E8:G8,O8:Q8,Y8:AA8,AD8:AF8,AN8:AP8)","v":652},25.5,{"$f":"#REF!+#REF!","v":{"$error":"#REF!"}}]
[null,"   заместители директора","04",1536.8,null,null,1489.6,47.2,null,{"$f":"Раздел12!I10+Раздел12!L10","v":1489.6},{"$f":"Раздел12!K10+Раздел12!N10","v":47.2},null,null,null,null,null,null,null,null,null,null,null,null,null,null,null,null,null,null,null,null,null,null,null,null,null,null,null,null,null,null,null,null,null,{"$f":"#REF!+#REF!","v":{"$error":"#REF!"}},{"$f":"#REF!+#REF!","v":{"$error":"#REF!"}},1489.6,47.2,{"$f":"#REF!+#REF!","v":{"$error":"#REF!"}}]
[null,"   тренерский персонал","05",13857.2,null,null,13566.6,290.60000000000002,null,{"$f":"Раздел12!I12+Раздел12!L12","v":13566.6},{"$f":"Раздел12!K12+Раздел12!N12","v":290.60000000000002},null,null,null,null,null,null,null,null,null,null,null,null,null,null,null,null,null,null,null,null,null,null,null,null,null,null,null,null,null,null,null,null,null,{"$f":"#REF!+#REF!","v":{"$error":"#REF!"}},{"$f":"#REF!+#REF!","v":{"$error":"#REF!"}},13566.6,290.60000000000002,{"$f":"#REF!+#REF!","v":{"$error":"#REF!"}}]
[null,"   методический персонал","06",0,null,null,null,null,null,{"$f":"Раздел12!I19+Раздел12!L19","v":0},{"$f":"Раздел12!K19+Раздел12!N19","v":0},null,null,null,null,null,null,null,null,null,null,null,null,null,null,null,null,null,null,null,null,null,null,null,null,null,null,null,null,null,null,null,null,null,{"$f":"#REF!+#REF!","v":{"$error":"#REF!"}},{"$f":"#REF!+#REF!","v":{"$error":"#REF!"}},0,0,{"$f":"#REF!+#REF!","v":{"$error":"#REF!"}}]
[null,"   медицинские работники","07",0,null,null,null,null,null,{"$f":"Раздел12!I23+Раздел12!L23","v":0},{"$f":"Раздел12!K23+Раздел12!N23","v":0},null,null,null,null,null,null,null,null,null,null,null,null,null,null,null,null,null,null,null,null,null,null,null,null,null,null,null,null,null,null,null,null,null,{"$f":"#REF!+#REF!","v":{"$error":"#REF!"}},{"$f":"#REF!+#REF!","v":{"$error":"#REF!"}},0,0,{"$f":"#REF!+#REF!","v":{"$error":"#REF!"}}]
[null,"   прочий персонал","08",5308,null,null,5095.2,212.8,null,{"$f":"Раздел12!I27+Раздел12!L27","v":5095.2},{"$f":"Раздел12!K27+Раздел12!N27","v":212.8},null,null,null,null,null,null,null,null,null,null,null,null,null,null,null,null,null,null,null,null,null,null,null,null,null,null,null,null,null,null,null,null,null,{"$f":"#REF!+#REF!","v":{"$error":"#REF!"}},{"$f":"#REF!+#REF!","v":{"$error":"#REF!"}},5095.2,212.8,{"$f":"#REF!+#REF!","v":{"$error":"#REF!"}}]
[null,"   страховые взносы с заработной платы","09",6145.6,null,null,6016.1,129.5,null,{"$f":"Раздел12!I28+Раздел12!L28","v":6016.0999999999995},{"$f":"Раздел12!K28+Раздел12!N28","v":129.5},null,null,null,null,null,null,null,null,null,null,null,null,null,null,null,null,null,null,null,null,null,null,null,null,null,null,null,null,null,null,null,null,null,{"$f":"#REF!+#REF!","v":{"$error":"#REF!"}},{"$f":"#REF!+#REF!","v":{"$error":"#REF!"}},6016.1,129.5,{"$f":"#REF!+#REF!","v":{"$error":"#REF!"}}]
[null,"Оздоровительная кампания",10,813.1,null,null,69.7,743.4]
[null,"Участие в соревнованиях и\nтренировочных сборах - всего",11,2914.8,{"$f":"SUM(E17:E21)","v":0},{"$f":"SUM(F17:F21)","v":0},2890.4,24.4]
[null,"   в том числе: \n   тренерский состав",12,378.2,null,null,366.7,11.5]
[null,"   спортсмены, спортсмены-инструкторы",13,1355.1000000000001,null,null,1342.2,12.9]
[null,"   медицинский персонал",14,0]
[null,"   прочий персонал",15,0]
[null,"   другие расходы",16,1181.5,null,null,1181.5,0]
[null,"Материально-техническое обеспечение",17,{"$f":"SUM(E22:H22)","v":998.3},{"$f":"SUM(E23:E24)","v":0},{"$f":"SUM(F23:F24)","v":0},640.5,357.79999999999995]
[null,"   в том числе: \n   экипировка, спортивное оборудование, \n   инвентарь",18,328.79999999999995,null,null,161.1,167.7]
[null,"   прочее",19,669.5,null,null,479.4,190.1]
[null,"Содержание спортивных сооружений",20,7007,{"$f":"SUM(E26:E28)","v":0},{"$f":"SUM(F26:F28)","v":0},6666,341]
[null,"   в том числе: \n   аренда (услуги спортсооружений)",21,0]
[null,"   собственные спортсооружения",22,6671.0999999999995,null,null,6364.7,306.39999999999998]
[null,"   другие расходы на содержание",23,335.90000000000003,null,null,301.3,34.6]
[null,"Прочие расходы",24,{"$f":"SUM(E29:H29)","v":866.09999999999991},null,null,514.29999999999995,351.8]
[null,null,null,{"$f":"Раздел1!G9","v":1}]
[]
[null,"Поступило средств от предоставления платных услуг, тысяча рублей:"]
[]
[null,"Всего (25)",1593.1]
[]
[null,"Должностное лицо, ответственное за предоставление статистической информации (лицо, уполномоченное предоставлять статистическую информацию от имени юридического лица)"]
[null,"директор",null,null,null,null,null,"Шевелева Н.С."]
[null,"(должность)",null,null,null,null,null,"(Ф.И.О.)",null,null,null,null,null,null,null,null,null,null,null,null,null,null,null,"(подпись)"]
[]
[null,null,83424256526,null,null,null,"e-mail","dush74@mail.ru",null,null,null,null,null,null,null,null,null,null,null,null,null,null,null,"2019-01-11"]
[null,null,"(номер контактного телефона)",null,null,null,null,null,null,null,null,null,null,null,null,null,null,null,null,null,null,null,null,"(дата составления\nдокумента)"]